PDS_VERSION_ID = PDS3
/* FILE DATA ELEMENTS */
RECORD_TYPE = UNDEFINED
/* POINTERS TO DATA OBJECTS */
^IMAGE = ("HQ407_0000_GR4.TIF")
/* IDENTIFICATION DATA ELEMENTS */
DATA_SET_ID = "MEX-M-HRSC-4-REFDR-MAPPROJECT-EXT9-V4.0"
DATA_SET_NAME = "MARS EXPRESS HRSC MAP PROJECTED REFDR EXTENSION9 V4.0"
DETECTOR_ID = MEX_HRSC_GREEN
EVENT_TYPE = "MARS-REGIONAL-MAPPING-Im-Pf-La"
INSTRUMENT_HOST_ID = MEX
INSTRUMENT_HOST_NAME = "MARS EXPRESS"
INSTRUMENT_ID = HRSC
INSTRUMENT_NAME = "HIGH RESOLUTION STEREO CAMERA"
MISSION_NAME = "MARS EXPRESS"
MISSION_PHASE_NAME = ME_Phase_50
PROCESSING_LEVEL_ID = 4
PRODUCT_CREATION_TIME = 2025-01-29T19:26:23.000Z
PRODUCT_ID = "HQ407_0000_GR4.TIF"
RELEASE_ID = 0022
REVISION_ID = 0000
/* QUALITY DATA ELEMENTS */
DATA_QUALITY_ID = 1
DATA_QUALITY_DESC = "Data calculated based on original SPICE kernels"
/* TIME DATA ELEMENTS */
SPACECRAFT_CLOCK_START_COUNT = "1/0681214125.00349"
SPACECRAFT_CLOCK_STOP_COUNT = "1/0681214408.05784"
START_TIME = 2024-12-02T10:10:06.198Z
STOP_TIME = 2024-12-02T10:13:39.351Z
/* ORBITAL DATA ELEMENTS */
ASCENDING_NODE_LONGITUDE = 85.47
MAXIMUM_RESOLUTION = 0.0669
FOOTPRINT_POINT_LATITUDE = (70.5749,70.4934,70.4228,70.3645, 70.3621,70.3785,69.9083,69.5965,69.1378 ,68.8319,68.5258,68.2196,67.9134, 67.4538,67.1473,66.8431,66.5443,66.2454 ,65.9464,65.6473,65.3482,65.0489, 64.7496,64.3004,63.851,63.5513,63.1016, 62.8016,62.3515,62.0512,61.7509,61.4505 ,61.0016,60.5623,59.8297,59.3897, 59.0963,58.8028,58.3551,57.9025,57.6005 ,57.2984,56.9962,56.6936,56.391,56.0881 ,55.4819,55.3301,55.3186,55.3622, 55.3962,55.4209,55.4472,55.4481,55.4496 ,55.7529,56.0564,56.5117,56.8154, 57.1192,57.5736,57.8766,58.1794,58.4822 ,58.7842,59.0789,59.3736,59.815,60.1094 ,60.5512,60.9925,61.5905,61.8925, 62.3452,62.7979,63.2505,63.5522,63.8538 ,64.1554,64.6077,64.9092,65.2107, 65.5122,65.8137,66.1151,66.4165,66.718, 67.0194,67.4809,67.7902,68.0996,68.409, 68.7183,69.1825,69.492,69.8015,70.1169, 70.4345,70.5932,70.5749)
FOOTPRINT_POINT_LONGITUDE = (210.625,208.736,207.382,206.39,206.35, 206.209,206.45,206.603,206.818,206.955, 207.088,207.217,207.342,207.521,207.636 ,207.746,207.852,207.954,208.053, 208.149,208.243,208.333,208.421,208.549 ,208.671,208.749,208.863,208.936, 209.042,209.11,209.176,209.241,209.335, 209.422,209.561,209.64,209.691,209.74, 209.813,209.885,209.931,209.975,210.019 ,210.062,210.103,210.143,210.22,210.239 ,210.241,210.991,211.646,212.181, 212.813,212.837,212.845,212.823,212.801 ,212.766,212.742,212.717,212.68,212.654 ,212.628,212.601,212.574,212.547, 212.519,212.477,212.447,212.401,212.355 ,212.289,212.254,212.201,212.145, 212.088,212.049,212.008,211.967,211.903 ,211.859,211.813,211.767,211.719, 211.669,211.619,211.567,211.514,211.429 ,211.37,211.309,211.246,211.181,211.08, 211.01,210.938,210.861,210.783,210.742, 210.625)
ORBIT_NUMBER = 26407
ORBITAL_ECCENTRICITY = 0.567
ORBITAL_INCLINATION = 87.13
ORBITAL_SEMIMAJOR_AXIS = 8774.64
PERIAPSIS_ALTITUDE = 414.26
PERIAPSIS_ARGUMENT_ANGLE = 118.8
PERIAPSIS_TIME = 2024-12-02T10:12:28.000Z
SPACECRAFT_ORIENTATION = (0.0,-1.0,0.0)
^MEX_ORIENTATION_DESC = "MEX_ORIENTATION_DESC.TXT"
SPACECRAFT_POINTING_MODE = INERT
^MEX_POINTING_DESC = "MEX_POINTING_DESC.TXT"
RIGHT_ASCENSION = 132.549
DECLINATION = -26.429
OFFSET_ANGLE = -1e+32
SPACECRAFT_SOLAR_DISTANCE = 2.36557e+08
TARGET_NAME = MARS
/* CAMERA DATA ELEMENTS */
DETECTOR_TEMPERATURE = 17.9627
FOCAL_PLANE_TEMPERATURE = 8.5833
INST_CMPRS_NAME = "DISCRETE COSINE TRANSFORMATION (DCT)"
INST_CMPRS_RATIO = 13.2813
INST_CMPRS_QUALITY = 0
INST_CMPRS_QUANTZ_TBL_ID = 0
INSTRUMENT_TEMPERATURE = 10.8262
LENS_TEMPERATURE = 8.5833
MACROPIXEL_SIZE = 4
MISSING_FRAMES = 1
PIXEL_SUBSAMPLING_FLAG = N
SIGNAL_CHAIN_ID = 2
/* RADIOMETRIC DATA ELEMENTS */
BANDWIDTH = 88.0
CENTER_FILTER_WAVELENGTH = 538.0
RADIANCE_OFFSET = 1.50466
RADIANCE_SCALING_FACTOR = 0.00598934
REFLECTANCE_SCALING_FACTOR = 0.000288563
MEX:REFLECTANCE_OFFSET = 0.0724935
/* IMAGE OBJECT DEFINITIONS */
OBJECT = IMAGE
  INTERCHANGE_FORMAT = BINARY
  LINES = 18091
  LINE_SAMPLES = 3418
  SAMPLE_TYPE = UNSIGNED_INTEGER
  SAMPLE_BITS = 8
  BANDS = 1
  BAND_STORAGE_TYPE = BAND_SEQUENTIAL
  MAXIMUM = 255
  MEAN = 142.099
  MINIMUM = 1
  STANDARD_DEVIATION = 82.6596
END_OBJECT = IMAGE
/* MAP OBJECT DEFINITIONS */
OBJECT = IMAGE_MAP_PROJECTION
  ^DATA_SET_MAP_PROJECTION_CATALOG= "DSMAP.CAT"
  A_AXIS_RADIUS = 3396.0
  B_AXIS_RADIUS = 3396.0
  C_AXIS_RADIUS = 3396.0
  CENTER_LATITUDE = 0.0
  CENTER_LONGITUDE = 210.0
  COORDINATE_SYSTEM_NAME = PLANETOGRAPHIC
  COORDINATE_SYSTEM_TYPE = "BODY-FIXED ROTATING"
  EASTERNMOST_LONGITUDE = 212.845
  FIRST_STANDARD_PARALLEL = "N/A"
  LINE_FIRST_PIXEL = 1
  LINE_LAST_PIXEL = 18091
  LINE_PROJECTION_OFFSET = 83679.625
  MAP_PROJECTION_ROTATION = 0.0
  MAP_PROJECTION_TYPE = SINUSOIDAL
  MAP_RESOLUTION = 1185.42760773333
  MAP_SCALE = 0.05
  MAXIMUM_LATITUDE = 70.5932
  MINIMUM_LATITUDE = 55.3186
  POSITIVE_LONGITUDE_DIRECTION = EAST
  REFERENCE_LATITUDE = "N/A"
  REFERENCE_LONGITUDE = "N/A"
  SAMPLE_FIRST_PIXEL = 1
  SAMPLE_LAST_PIXEL = 3418
  SAMPLE_PROJECTION_OFFSET = 1518.375
  SECOND_STANDARD_PARALLEL = "N/A"
  WESTERNMOST_LONGITUDE = 206.209
END_OBJECT = IMAGE_MAP_PROJECTION
END
