PDS_VERSION_ID = PDS3
/* FILE DATA ELEMENTS */
RECORD_TYPE = UNDEFINED
/* POINTERS TO DATA OBJECTS */
^IMAGE = ("HQ407_0000_P14.TIF")
/* IDENTIFICATION DATA ELEMENTS */
DATA_SET_ID = "MEX-M-HRSC-4-REFDR-MAPPROJECT-EXT9-V4.0"
DATA_SET_NAME = "MARS EXPRESS HRSC MAP PROJECTED REFDR EXTENSION9 V4.0"
DETECTOR_ID = MEX_HRSC_P1
EVENT_TYPE = "MARS-REGIONAL-MAPPING-Im-Pf-La"
INSTRUMENT_HOST_ID = MEX
INSTRUMENT_HOST_NAME = "MARS EXPRESS"
INSTRUMENT_ID = HRSC
INSTRUMENT_NAME = "HIGH RESOLUTION STEREO CAMERA"
MISSION_NAME = "MARS EXPRESS"
MISSION_PHASE_NAME = ME_Phase_50
PROCESSING_LEVEL_ID = 4
PRODUCT_CREATION_TIME = 2025-01-29T19:26:23.000Z
PRODUCT_ID = "HQ407_0000_P14.TIF"
RELEASE_ID = 0022
REVISION_ID = 0000
/* QUALITY DATA ELEMENTS */
DATA_QUALITY_ID = 1
DATA_QUALITY_DESC = "Data calculated based on original SPICE kernels"
/* TIME DATA ELEMENTS */
SPACECRAFT_CLOCK_START_COUNT = "1/0681214125.00349"
SPACECRAFT_CLOCK_STOP_COUNT = "1/0681214408.05784"
START_TIME = 2024-12-02T10:09:49.127Z
STOP_TIME = 2024-12-02T10:13:22.233Z
/* ORBITAL DATA ELEMENTS */
ASCENDING_NODE_LONGITUDE = 85.47
MAXIMUM_RESOLUTION = 0.0344
FOOTPRINT_POINT_LATITUDE = (70.6163,70.5418,70.476,70.406,70.4035, 70.3639,70.0645,69.7648,69.2348,68.9344 ,68.6337,68.3362,67.8958,67.6019, 67.3079,66.8662,66.5715,66.2769,65.9818 ,65.6881,65.4004,65.1122,64.8241, 64.5358,64.2469,63.958,63.6689,63.3796, 62.8903,62.4553,62.1651,61.8746,61.584, 61.2931,61.0026,60.711,60.4193,59.8452, 59.4183,58.9907,58.4192,57.8478,57.5614 ,57.2716,56.977,56.5344,56.2393,55.9434 ,55.4994,55.3511,55.2984,55.3444, 55.3812,55.4077,55.432,55.4329,55.4337, 55.8782,56.174,56.4697,56.7662,57.0628, 57.3575,57.7931,58.0801,58.3666,58.94, 59.3692,60.0834,60.6625,61.1012,61.3939 ,61.6862,61.9782,62.27,62.7077,62.9991, 63.3457,63.6369,63.9279,64.2187,64.5094 ,64.945,65.2354,65.5254,65.8155,66.2588 ,66.7047,67.0019,67.299,67.7441,68.0409 ,68.3375,68.6341,68.9372,69.3928, 69.9287,70.3838,70.5356,70.6163)
FOOTPRINT_POINT_LONGITUDE = (210.656,208.912,207.634,206.446, 206.406,206.293,206.447,206.596,206.845 ,206.98,207.111,207.237,207.415,207.53, 207.641,207.801,207.904,208.005,208.102 ,208.195,208.285,208.372,208.457, 208.539,208.619,208.697,208.773,208.847 ,208.967,209.07,209.136,209.2,209.263, 209.324,209.384,209.441,209.498,209.605 ,209.681,209.754,209.848,209.937,209.98 ,210.023,210.065,210.126,210.165, 210.204,210.26,210.278,210.284,211.052, 211.744,212.309,212.9,212.926,212.935, 212.902,212.879,212.856,212.831,212.806 ,212.782,212.744,212.719,212.693,212.64 ,212.598,212.527,212.465,212.418, 212.385,212.351,212.317,212.282,212.227 ,212.19,212.145,212.106,212.066,212.025 ,211.982,211.918,211.873,211.827,211.78 ,211.706,211.628,211.575,211.519, 211.434,211.375,211.314,211.251,211.185 ,211.082,210.954,210.84,210.801, 210.656)
ORBIT_NUMBER = 26407
ORBITAL_ECCENTRICITY = 0.567
ORBITAL_INCLINATION = 87.13
ORBITAL_SEMIMAJOR_AXIS = 8774.64
PERIAPSIS_ALTITUDE = 414.26
PERIAPSIS_ARGUMENT_ANGLE = 118.8
PERIAPSIS_TIME = 2024-12-02T10:12:28.000Z
SPACECRAFT_ORIENTATION = (0.0,-1.0,0.0)
^MEX_ORIENTATION_DESC = "MEX_ORIENTATION_DESC.TXT"
SPACECRAFT_POINTING_MODE = INERT
^MEX_POINTING_DESC = "MEX_POINTING_DESC.TXT"
RIGHT_ASCENSION = 132.549
DECLINATION = -26.429
OFFSET_ANGLE = -1e+32
SPACECRAFT_SOLAR_DISTANCE = 2.36557e+08
TARGET_NAME = MARS
/* CAMERA DATA ELEMENTS */
DETECTOR_TEMPERATURE = 17.1471
FOCAL_PLANE_TEMPERATURE = 8.5833
INST_CMPRS_NAME = "DISCRETE COSINE TRANSFORMATION (DCT)"
INST_CMPRS_RATIO = 11.2542
INST_CMPRS_QUALITY = 0
INST_CMPRS_QUANTZ_TBL_ID = 0
INSTRUMENT_TEMPERATURE = 10.8262
LENS_TEMPERATURE = 8.5833
MACROPIXEL_SIZE = 2
MISSING_FRAMES = 92
PIXEL_SUBSAMPLING_FLAG = N
SIGNAL_CHAIN_ID = 3
/* RADIOMETRIC DATA ELEMENTS */
BANDWIDTH = 174.0
CENTER_FILTER_WAVELENGTH = 675.0
RADIANCE_OFFSET = 3.82698
RADIANCE_SCALING_FACTOR = 0.0182326
REFLECTANCE_SCALING_FACTOR = 0.000548788
MEX:REFLECTANCE_OFFSET = 0.115189
/* IMAGE OBJECT DEFINITIONS */
OBJECT = IMAGE
  INTERCHANGE_FORMAT = BINARY
  LINES = 36181
  LINE_SAMPLES = 6835
  SAMPLE_TYPE = UNSIGNED_INTEGER
  SAMPLE_BITS = 8
  BANDS = 1
  BAND_STORAGE_TYPE = BAND_SEQUENTIAL
  MAXIMUM = 255
  MEAN = 119.228
  MINIMUM = 1
  STANDARD_DEVIATION = 60.8992
END_OBJECT = IMAGE
/* MAP OBJECT DEFINITIONS */
OBJECT = IMAGE_MAP_PROJECTION
  ^DATA_SET_MAP_PROJECTION_CATALOG= "DSMAP.CAT"
  A_AXIS_RADIUS = 3396.0
  B_AXIS_RADIUS = 3396.0
  C_AXIS_RADIUS = 3396.0
  CENTER_LATITUDE = 0.0
  CENTER_LONGITUDE = 210.0
  COORDINATE_SYSTEM_NAME = PLANETOGRAPHIC
  COORDINATE_SYSTEM_TYPE = "BODY-FIXED ROTATING"
  EASTERNMOST_LONGITUDE = 212.935
  FIRST_STANDARD_PARALLEL = "N/A"
  LINE_FIRST_PIXEL = 1
  LINE_LAST_PIXEL = 36181
  LINE_PROJECTION_OFFSET = 167359.75
  MAP_PROJECTION_ROTATION = 0.0
  MAP_PROJECTION_TYPE = SINUSOIDAL
  MAP_RESOLUTION = 2370.85521546667
  MAP_SCALE = 0.025
  MAXIMUM_LATITUDE = 70.6163
  MINIMUM_LATITUDE = 55.2984
  POSITIVE_LONGITUDE_DIRECTION = EAST
  REFERENCE_LATITUDE = "N/A"
  REFERENCE_LONGITUDE = "N/A"
  SAMPLE_FIRST_PIXEL = 1
  SAMPLE_LAST_PIXEL = 6835
  SAMPLE_PROJECTION_OFFSET = 3037.25
  SECOND_STANDARD_PARALLEL = "N/A"
  WESTERNMOST_LONGITUDE = 206.293
END_OBJECT = IMAGE_MAP_PROJECTION
END
