PDS_VERSION_ID = PDS3
/* FILE DATA ELEMENTS */
RECORD_TYPE = UNDEFINED
/* POINTERS TO DATA OBJECTS */
^IMAGE = ("HQ407_0000_S24.TIF")
/* IDENTIFICATION DATA ELEMENTS */
DATA_SET_ID = "MEX-M-HRSC-4-REFDR-MAPPROJECT-EXT9-V4.0"
DATA_SET_NAME = "MARS EXPRESS HRSC MAP PROJECTED REFDR EXTENSION9 V4.0"
DETECTOR_ID = MEX_HRSC_S2
EVENT_TYPE = "MARS-REGIONAL-MAPPING-Im-Pf-La"
INSTRUMENT_HOST_ID = MEX
INSTRUMENT_HOST_NAME = "MARS EXPRESS"
INSTRUMENT_ID = HRSC
INSTRUMENT_NAME = "HIGH RESOLUTION STEREO CAMERA"
MISSION_NAME = "MARS EXPRESS"
MISSION_PHASE_NAME = ME_Phase_50
PROCESSING_LEVEL_ID = 4
PRODUCT_CREATION_TIME = 2025-01-29T19:26:23.000Z
PRODUCT_ID = "HQ407_0000_S24.TIF"
RELEASE_ID = 0022
REVISION_ID = 0000
/* QUALITY DATA ELEMENTS */
DATA_QUALITY_ID = 1
DATA_QUALITY_DESC = "Data calculated based on original SPICE kernels"
/* TIME DATA ELEMENTS */
SPACECRAFT_CLOCK_START_COUNT = "1/0681214125.00349"
SPACECRAFT_CLOCK_STOP_COUNT = "1/0681214408.05784"
START_TIME = 2024-12-02T10:10:48.583Z
STOP_TIME = 2024-12-02T10:14:18.463Z
/* ORBITAL DATA ELEMENTS */
ASCENDING_NODE_LONGITUDE = 85.47
MAXIMUM_RESOLUTION = 0.0346
FOOTPRINT_POINT_LATITUDE = (70.4512,70.3788,70.3193,70.2359, 70.2334,70.3953,70.0813,69.6187,69.3142 ,69.0096,68.7054,68.4013,68.0973, 67.7931,67.4902,67.1868,66.8091,66.5064 ,66.0529,65.751,65.4494,65.1479,64.8468 ,64.3952,64.0982,63.8058,63.5133, 63.2212,62.9294,62.6378,62.0552,61.4734 ,61.1766,60.8777,60.5802,60.2822, 59.8357,59.5382,59.2411,58.7955,58.3507 ,58.0539,57.6094,57.313,56.8693,56.5735 ,56.2778,55.9824,55.5304,55.3791,55.352 ,55.3874,55.4363,55.4734,55.4744, 55.4754,55.9326,56.2314,56.5279,56.9727 ,57.4182,57.7157,58.311,58.7576,59.0557 ,59.503,59.8031,60.102,60.3996,60.6991, 60.9983,61.2989,61.5977,62.0368,62.6226 ,63.0629,63.3566,63.6505,63.9448, 64.2393,64.5376,64.8413,65.1443,65.4486 ,65.7526,66.0566,66.3619,66.8196, 67.3537,67.6607,68.1205,68.4276,68.734, 69.0428,69.506,69.8147,70.1239,70.4424, 70.6012,70.4512)
FOOTPRINT_POINT_LONGITUDE = (210.537,208.88,207.699,206.23,206.188, 205.955,206.123,206.359,206.508,206.651 ,206.79,206.925,207.055,207.181,207.302 ,207.42,207.561,207.67,207.828,207.929, 208.027,208.122,208.214,208.348,208.432 ,208.513,208.592,208.668,208.742, 208.814,208.952,209.083,209.147,209.21, 209.271,209.33,209.416,209.472,209.525, 209.603,209.678,209.726,209.797,209.842 ,209.907,209.95,209.991,210.031,210.09, 210.109,210.113,210.745,211.72,212.598, 212.623,212.631,212.601,212.58,212.558, 212.525,212.49,212.467,212.418,212.38, 212.353,212.313,212.286,212.257,212.227 ,212.198,212.167,212.136,212.104, 212.056,211.988,211.936,211.899,211.862 ,211.824,211.784,211.743,211.701, 211.657,211.613,211.566,211.518,211.47, 211.393,211.3,211.245,211.158,211.097, 211.035,210.971,210.871,210.801,210.729 ,210.653,210.613,210.537)
ORBIT_NUMBER = 26407
ORBITAL_ECCENTRICITY = 0.567
ORBITAL_INCLINATION = 87.13
ORBITAL_SEMIMAJOR_AXIS = 8774.64
PERIAPSIS_ALTITUDE = 414.26
PERIAPSIS_ARGUMENT_ANGLE = 118.8
PERIAPSIS_TIME = 2024-12-02T10:12:28.000Z
SPACECRAFT_ORIENTATION = (0.0,-1.0,0.0)
^MEX_ORIENTATION_DESC = "MEX_ORIENTATION_DESC.TXT"
SPACECRAFT_POINTING_MODE = INERT
^MEX_POINTING_DESC = "MEX_POINTING_DESC.TXT"
RIGHT_ASCENSION = 132.549
DECLINATION = -26.429
OFFSET_ANGLE = -1e+32
SPACECRAFT_SOLAR_DISTANCE = 2.36557e+08
TARGET_NAME = MARS
/* CAMERA DATA ELEMENTS */
DETECTOR_TEMPERATURE = 18.3705
FOCAL_PLANE_TEMPERATURE = 8.5833
INST_CMPRS_NAME = "DISCRETE COSINE TRANSFORMATION (DCT)"
INST_CMPRS_RATIO = 11.4474
INST_CMPRS_QUALITY = 0
INST_CMPRS_QUANTZ_TBL_ID = 0
INSTRUMENT_TEMPERATURE = 10.8262
LENS_TEMPERATURE = 8.5833
MACROPIXEL_SIZE = 2
MISSING_FRAMES = 16
PIXEL_SUBSAMPLING_FLAG = N
SIGNAL_CHAIN_ID = 1
/* RADIOMETRIC DATA ELEMENTS */
BANDWIDTH = 178.0
CENTER_FILTER_WAVELENGTH = 679.0
RADIANCE_OFFSET = 3.97534
RADIANCE_SCALING_FACTOR = 0.0231573
REFLECTANCE_SCALING_FACTOR = 0.000686262
MEX:REFLECTANCE_OFFSET = 0.117808
/* IMAGE OBJECT DEFINITIONS */
OBJECT = IMAGE
  INTERCHANGE_FORMAT = BINARY
  LINES = 36181
  LINE_SAMPLES = 6835
  SAMPLE_TYPE = UNSIGNED_INTEGER
  SAMPLE_BITS = 8
  BANDS = 1
  BAND_STORAGE_TYPE = BAND_SEQUENTIAL
  MAXIMUM = 255
  MEAN = 101.108
  MINIMUM = 1
  STANDARD_DEVIATION = 51.8443
END_OBJECT = IMAGE
/* MAP OBJECT DEFINITIONS */
OBJECT = IMAGE_MAP_PROJECTION
  ^DATA_SET_MAP_PROJECTION_CATALOG= "DSMAP.CAT"
  A_AXIS_RADIUS = 3396.0
  B_AXIS_RADIUS = 3396.0
  C_AXIS_RADIUS = 3396.0
  CENTER_LATITUDE = 0.0
  CENTER_LONGITUDE = 210.0
  COORDINATE_SYSTEM_NAME = PLANETOGRAPHIC
  COORDINATE_SYSTEM_TYPE = "BODY-FIXED ROTATING"
  EASTERNMOST_LONGITUDE = 212.631
  FIRST_STANDARD_PARALLEL = "N/A"
  LINE_FIRST_PIXEL = 1
  LINE_LAST_PIXEL = 36181
  LINE_PROJECTION_OFFSET = 167359.75
  MAP_PROJECTION_ROTATION = 0.0
  MAP_PROJECTION_TYPE = SINUSOIDAL
  MAP_RESOLUTION = 2370.85521546667
  MAP_SCALE = 0.025
  MAXIMUM_LATITUDE = 70.60120000000001
  MINIMUM_LATITUDE = 55.352
  POSITIVE_LONGITUDE_DIRECTION = EAST
  REFERENCE_LATITUDE = "N/A"
  REFERENCE_LONGITUDE = "N/A"
  SAMPLE_FIRST_PIXEL = 1
  SAMPLE_LAST_PIXEL = 6835
  SAMPLE_PROJECTION_OFFSET = 3037.25
  SECOND_STANDARD_PARALLEL = "N/A"
  WESTERNMOST_LONGITUDE = 205.955
END_OBJECT = IMAGE_MAP_PROJECTION
END
