PDS_VERSION_ID = PDS3
/* FILE DATA ELEMENTS */
RECORD_TYPE = UNDEFINED
/* POINTERS TO DATA OBJECTS */
^IMAGE = ("HQ408_0000_IR4.TIF")
/* IDENTIFICATION DATA ELEMENTS */
DATA_SET_ID = "MEX-M-HRSC-4-REFDR-MAPPROJECT-EXT9-V4.0"
DATA_SET_NAME = "MARS EXPRESS HRSC MAP PROJECTED REFDR EXTENSION9 V4.0"
DETECTOR_ID = MEX_HRSC_IR
EVENT_TYPE = "MARS-REGIONAL-MAPPING-Im-Pf-La"
INSTRUMENT_HOST_ID = MEX
INSTRUMENT_HOST_NAME = "MARS EXPRESS"
INSTRUMENT_ID = HRSC
INSTRUMENT_NAME = "HIGH RESOLUTION STEREO CAMERA"
MISSION_NAME = "MARS EXPRESS"
MISSION_PHASE_NAME = ME_Phase_50
PROCESSING_LEVEL_ID = 4
PRODUCT_CREATION_TIME = 2025-01-29T19:26:23.000Z
PRODUCT_ID = "HQ408_0000_IR4.TIF"
RELEASE_ID = 0022
REVISION_ID = 0000
/* QUALITY DATA ELEMENTS */
DATA_QUALITY_ID = 1
DATA_QUALITY_DESC = "Data calculated based on original SPICE kernels"
/* TIME DATA ELEMENTS */
SPACECRAFT_CLOCK_START_COUNT = "1/0681239242.65122"
SPACECRAFT_CLOCK_STOP_COUNT = "1/0681239605.45794"
START_TIME = 2024-12-02T17:08:21.217Z
STOP_TIME = 2024-12-02T17:13:11.820Z
/* ORBITAL DATA ELEMENTS */
ASCENDING_NODE_LONGITUDE = 85.46
MAXIMUM_RESOLUTION = 0.0695
FOOTPRINT_POINT_LATITUDE = (72.9708,72.9083,72.8312,72.7078, 72.7047,72.6602,72.2277,71.798,71.3747, 70.9504,70.5259,70.1015,69.4793,69.0627 ,68.6456,68.0225,67.6145,67.2059, 66.7971,66.3877,65.9777,65.3638,64.9631 ,64.5619,64.1603,63.7583,63.3555, 62.9524,62.5486,62.1445,61.5372,61.132, 60.7259,60.3192,59.9126,59.118,58.3212, 57.522,56.7124,56.093,55.4724,54.8504, 54.4345,54.0177,53.6005,53.1826,52.7638 ,52.3441,52.1338,52.0596,52.1403, 52.2026,52.2036,52.2051,52.626,53.0461, 53.4655,53.8837,54.3014,54.7185,55.1348 ,55.5507,55.9659,56.3802,56.7938, 57.6078,58.4096,59.2093,60.007,60.4135, 60.8219,61.2299,61.6373,62.2479,62.6543 ,63.0602,63.4657,63.8708,64.2756,64.68, 65.084,65.4877,65.8976,66.3113,66.7245, 67.1373,67.5499,67.9621,68.585,69.0071, 69.4287,69.8501,70.2712,70.6977,71.1288 ,71.5592,72.2046,72.645,72.8651, 72.9708)
FOOTPRINT_POINT_LONGITUDE = (107.174,105.812,104.367,102.394, 102.349,102.209,102.515,102.803,103.072 ,103.328,103.572,103.798,104.121, 104.322,104.515,104.787,104.955,105.116 ,105.271,105.419,105.562,105.764,105.89 ,106.011,106.127,106.24,106.348,106.452 ,106.552,106.649,106.787,106.876, 106.961,107.043,107.122,107.268,107.405 ,107.532,107.653,107.739,107.821, 107.898,107.948,107.995,108.041,108.086 ,108.129,108.17,108.19,108.197,109.451, 110.705,110.729,110.737,110.708,110.678 ,110.648,110.617,110.585,110.553,110.52 ,110.486,110.451,110.415,110.378, 110.302,110.224,110.141,110.053,110.006 ,109.957,109.907,109.856,109.775, 109.719,109.662,109.602,109.54,109.477, 109.411,109.342,109.272,109.197,109.119 ,109.038,108.954,108.866,108.775, 108.631,108.527,108.419,108.306,108.188 ,108.063,107.93,107.791,107.569,107.407 ,107.323,107.174)
ORBIT_NUMBER = 26408
ORBITAL_ECCENTRICITY = 0.568
ORBITAL_INCLINATION = 87.12
ORBITAL_SEMIMAJOR_AXIS = 8780.16
PERIAPSIS_ALTITUDE = 414.29
PERIAPSIS_ARGUMENT_ANGLE = 118.62
PERIAPSIS_TIME = 2024-12-02T17:11:37.000Z
SPACECRAFT_ORIENTATION = (0.0,-1.0,0.0)
^MEX_ORIENTATION_DESC = "MEX_ORIENTATION_DESC.TXT"
SPACECRAFT_POINTING_MODE = INERT
^MEX_POINTING_DESC = "MEX_POINTING_DESC.TXT"
RIGHT_ASCENSION = 133.948
DECLINATION = -25.948
OFFSET_ANGLE = -1e+32
SPACECRAFT_SOLAR_DISTANCE = 2.36607e+08
TARGET_NAME = MARS
/* CAMERA DATA ELEMENTS */
DETECTOR_TEMPERATURE = 16.9432
FOCAL_PLANE_TEMPERATURE = 8.1755
INST_CMPRS_NAME = "DISCRETE COSINE TRANSFORMATION (DCT)"
INST_CMPRS_RATIO = 10.3351
INST_CMPRS_QUALITY = 0
INST_CMPRS_QUANTZ_TBL_ID = 0
INSTRUMENT_TEMPERATURE = 10.6223
LENS_TEMPERATURE = 8.5833
MACROPIXEL_SIZE = 4
MISSING_FRAMES = 0
PIXEL_SUBSAMPLING_FLAG = N
SIGNAL_CHAIN_ID = 2
/* RADIOMETRIC DATA ELEMENTS */
BANDWIDTH = 81.0
CENTER_FILTER_WAVELENGTH = 955.5
RADIANCE_OFFSET = 0.865269
RADIANCE_SCALING_FACTOR = 0.00563129
REFLECTANCE_SCALING_FACTOR = 0.00068013
MEX:REFLECTANCE_OFFSET = 0.104505
/* IMAGE OBJECT DEFINITIONS */
OBJECT = IMAGE
  INTERCHANGE_FORMAT = BINARY
  LINES = 24682
  LINE_SAMPLES = 3991
  SAMPLE_TYPE = UNSIGNED_INTEGER
  SAMPLE_BITS = 8
  BANDS = 1
  BAND_STORAGE_TYPE = BAND_SEQUENTIAL
  MAXIMUM = 255
  MEAN = 122.079
  MINIMUM = 1
  STANDARD_DEVIATION = 56.2094
END_OBJECT = IMAGE
/* MAP OBJECT DEFINITIONS */
OBJECT = IMAGE_MAP_PROJECTION
  ^DATA_SET_MAP_PROJECTION_CATALOG= "DSMAP.CAT"
  A_AXIS_RADIUS = 3396.0
  B_AXIS_RADIUS = 3396.0
  C_AXIS_RADIUS = 3396.0
  CENTER_LATITUDE = 0.0
  CENTER_LONGITUDE = 108.0
  COORDINATE_SYSTEM_NAME = PLANETOGRAPHIC
  COORDINATE_SYSTEM_TYPE = "BODY-FIXED ROTATING"
  EASTERNMOST_LONGITUDE = 110.737
  FIRST_STANDARD_PARALLEL = "N/A"
  LINE_FIRST_PIXEL = 1
  LINE_LAST_PIXEL = 24682
  LINE_PROJECTION_OFFSET = 86422.375
  MAP_PROJECTION_ROTATION = 0.0
  MAP_PROJECTION_TYPE = SINUSOIDAL
  MAP_RESOLUTION = 1185.42760773333
  MAP_SCALE = 0.05
  MAXIMUM_LATITUDE = 72.9708
  MINIMUM_LATITUDE = 52.0596
  POSITIVE_LONGITUDE_DIRECTION = EAST
  REFERENCE_LATITUDE = "N/A"
  REFERENCE_LONGITUDE = "N/A"
  SAMPLE_FIRST_PIXEL = 1
  SAMPLE_LAST_PIXEL = 3991
  SAMPLE_PROJECTION_OFFSET = 2110.875
  SECOND_STANDARD_PARALLEL = "N/A"
  WESTERNMOST_LONGITUDE = 102.209
END_OBJECT = IMAGE_MAP_PROJECTION
END
