PDS_VERSION_ID = PDS3
/* FILE DATA ELEMENTS */
RECORD_TYPE = UNDEFINED
/* POINTERS TO DATA OBJECTS */
^IMAGE = ("HQ408_0000_ND4.TIF")
/* IDENTIFICATION DATA ELEMENTS */
DATA_SET_ID = "MEX-M-HRSC-4-REFDR-MAPPROJECT-EXT9-V4.0"
DATA_SET_NAME = "MARS EXPRESS HRSC MAP PROJECTED REFDR EXTENSION9 V4.0"
DETECTOR_ID = MEX_HRSC_NADIR
EVENT_TYPE = "MARS-REGIONAL-MAPPING-Im-Pf-La"
INSTRUMENT_HOST_ID = MEX
INSTRUMENT_HOST_NAME = "MARS EXPRESS"
INSTRUMENT_ID = HRSC
INSTRUMENT_NAME = "HIGH RESOLUTION STEREO CAMERA"
MISSION_NAME = "MARS EXPRESS"
MISSION_PHASE_NAME = ME_Phase_50
PROCESSING_LEVEL_ID = 4
PRODUCT_CREATION_TIME = 2025-01-29T19:26:23.000Z
PRODUCT_ID = "HQ408_0000_ND4.TIF"
RELEASE_ID = 0022
REVISION_ID = 0000
/* QUALITY DATA ELEMENTS */
DATA_QUALITY_ID = 1
DATA_QUALITY_DESC = "Data calculated based on original SPICE kernels"
/* TIME DATA ELEMENTS */
SPACECRAFT_CLOCK_START_COUNT = "1/0681239242.65122"
SPACECRAFT_CLOCK_STOP_COUNT = "1/0681239605.45794"
START_TIME = 2024-12-02T17:08:51.132Z
STOP_TIME = 2024-12-02T17:13:42.126Z
/* ORBITAL DATA ELEMENTS */
ASCENDING_NODE_LONGITUDE = 85.46
MAXIMUM_RESOLUTION = 0.0167
FOOTPRINT_POINT_LATITUDE = (72.8721,72.6992,72.6119,72.6087, 72.6577,72.0093,71.5831,70.9432,70.5162 ,70.0934,69.6752,69.2589,68.6339,68.217 ,67.8,67.3845,66.9779,66.5713,66.1645, 65.7577,65.3508,64.9438,64.5367,64.1294 ,63.7221,63.3147,62.9071,62.4995, 61.6909,60.4986,59.7032,58.9025,58.4935 ,58.0843,57.6749,57.2653,56.8555, 56.4455,56.0352,55.4196,55.009,54.5979, 54.1867,53.7751,53.3581,52.9353,52.3003 ,52.0885,52.0843,52.1635,52.2128, 52.2138,52.2145,52.6389,53.0629,53.6984 ,54.111,54.5233,54.9354,55.3474,55.7591 ,56.1707,56.5821,56.9934,57.4045, 57.8155,58.2263,58.6371,59.0478,59.4522 ,60.2515,61.0505,61.6497,62.4574, 62.8676,63.2777,63.6879,64.0981,64.5082 ,64.9185,65.3287,65.7391,66.1494, 66.5598,66.9703,67.3809,67.7953,68.2168 ,68.6385,69.0603,69.4822,69.9042, 70.3263,70.757,71.4071,71.8406,72.2745, 72.7124,72.9349,72.8721)
FOOTPRINT_POINT_LONGITUDE = (107.157,103.67,102.257,102.209,101.977 ,102.441,102.726,103.127,103.378, 103.607,103.836,104.046,104.344,104.532 ,104.712,104.883,105.044,105.198, 105.345,105.487,105.623,105.754,105.879 ,106.0,106.116,106.227,106.335,106.438, 106.631,106.891,107.05,107.197,107.269, 107.338,107.405,107.469,107.531,107.591 ,107.648,107.731,107.784,107.834, 107.883,107.931,107.977,108.022,108.086 ,108.107,108.107,109.475,110.548, 110.572,110.584,110.556,110.528,110.485 ,110.455,110.425,110.395,110.363,110.33 ,110.296,110.262,110.226,110.19,110.152 ,110.113,110.073,110.032,109.99,109.903 ,109.81,109.737,109.632,109.577,109.519 ,109.459,109.397,109.333,109.266, 109.197,109.125,109.051,108.973,108.893 ,108.809,108.721,108.628,108.53,108.428 ,108.322,108.211,108.094,107.97,107.77, 107.629,107.48,107.321,107.237,107.157)
ORBIT_NUMBER = 26408
ORBITAL_ECCENTRICITY = 0.568
ORBITAL_INCLINATION = 87.12
ORBITAL_SEMIMAJOR_AXIS = 8780.16
PERIAPSIS_ALTITUDE = 414.29
PERIAPSIS_ARGUMENT_ANGLE = 118.62
PERIAPSIS_TIME = 2024-12-02T17:11:37.000Z
SPACECRAFT_ORIENTATION = (0.0,-1.0,0.0)
^MEX_ORIENTATION_DESC = "MEX_ORIENTATION_DESC.TXT"
SPACECRAFT_POINTING_MODE = INERT
^MEX_POINTING_DESC = "MEX_POINTING_DESC.TXT"
RIGHT_ASCENSION = 133.948
DECLINATION = -25.948
OFFSET_ANGLE = -1e+32
SPACECRAFT_SOLAR_DISTANCE = 2.36607e+08
TARGET_NAME = MARS
/* CAMERA DATA ELEMENTS */
DETECTOR_TEMPERATURE = 17.351
FOCAL_PLANE_TEMPERATURE = 8.1755
INST_CMPRS_NAME = "DISCRETE COSINE TRANSFORMATION (DCT)"
INST_CMPRS_RATIO = 8.60874
INST_CMPRS_QUALITY = 0
INST_CMPRS_QUANTZ_TBL_ID = 0
INSTRUMENT_TEMPERATURE = 10.6223
LENS_TEMPERATURE = 8.5833
MACROPIXEL_SIZE = 1
MISSING_FRAMES = 0
PIXEL_SUBSAMPLING_FLAG = N
SIGNAL_CHAIN_ID = 0
/* RADIOMETRIC DATA ELEMENTS */
BANDWIDTH = 177.0
CENTER_FILTER_WAVELENGTH = 677.5
RADIANCE_OFFSET = 3.46383
RADIANCE_SCALING_FACTOR = 0.014568
REFLECTANCE_SCALING_FACTOR = 0.000433249
MEX:REFLECTANCE_OFFSET = 0.103014
/* IMAGE OBJECT DEFINITIONS */
OBJECT = IMAGE
  INTERCHANGE_FORMAT = BINARY
  LINES = 98727
  LINE_SAMPLES = 15964
  SAMPLE_TYPE = UNSIGNED_INTEGER
  SAMPLE_BITS = 8
  BANDS = 1
  BAND_STORAGE_TYPE = BAND_SEQUENTIAL
  MAXIMUM = 255
  MEAN = 161.836
  MINIMUM = 1
  STANDARD_DEVIATION = 76.1656
END_OBJECT = IMAGE
/* MAP OBJECT DEFINITIONS */
OBJECT = IMAGE_MAP_PROJECTION
  ^DATA_SET_MAP_PROJECTION_CATALOG= "DSMAP.CAT"
  A_AXIS_RADIUS = 3396.0
  B_AXIS_RADIUS = 3396.0
  C_AXIS_RADIUS = 3396.0
  CENTER_LATITUDE = 0.0
  CENTER_LONGITUDE = 108.0
  COORDINATE_SYSTEM_NAME = PLANETOGRAPHIC
  COORDINATE_SYSTEM_TYPE = "BODY-FIXED ROTATING"
  EASTERNMOST_LONGITUDE = 110.584
  FIRST_STANDARD_PARALLEL = "N/A"
  LINE_FIRST_PIXEL = 1
  LINE_LAST_PIXEL = 98727
  LINE_PROJECTION_OFFSET = 345691.0
  MAP_PROJECTION_ROTATION = 0.0
  MAP_PROJECTION_TYPE = SINUSOIDAL
  MAP_RESOLUTION = 4741.71043093333
  MAP_SCALE = 0.0125
  MAXIMUM_LATITUDE = 72.9349
  MINIMUM_LATITUDE = 52.0843
  POSITIVE_LONGITUDE_DIRECTION = EAST
  REFERENCE_LATITUDE = "N/A"
  REFERENCE_LONGITUDE = "N/A"
  SAMPLE_FIRST_PIXEL = 1
  SAMPLE_LAST_PIXEL = 15964
  SAMPLE_PROJECTION_OFFSET = 8445.0
  SECOND_STANDARD_PARALLEL = "N/A"
  WESTERNMOST_LONGITUDE = 101.977
END_OBJECT = IMAGE_MAP_PROJECTION
END
