PDS_VERSION_ID = PDS3
/* FILE DATA ELEMENTS */
RECORD_TYPE = UNDEFINED
/* POINTERS TO DATA OBJECTS */
^IMAGE = ("HQ412_0000_IR4.TIF")
/* IDENTIFICATION DATA ELEMENTS */
DATA_SET_ID = "MEX-M-HRSC-4-REFDR-MAPPROJECT-EXT9-V4.0"
DATA_SET_NAME = "MARS EXPRESS HRSC MAP PROJECTED REFDR EXTENSION9 V4.0"
DETECTOR_ID = MEX_HRSC_IR
EVENT_TYPE = "MARS-REGIONAL-MAPPING-Pf-Eo-La"
INSTRUMENT_HOST_ID = MEX
INSTRUMENT_HOST_NAME = "MARS EXPRESS"
INSTRUMENT_ID = HRSC
INSTRUMENT_NAME = "HIGH RESOLUTION STEREO CAMERA"
MISSION_NAME = "MARS EXPRESS"
MISSION_PHASE_NAME = ME_Phase_50
PROCESSING_LEVEL_ID = 4
PRODUCT_CREATION_TIME = 2025-01-29T19:26:23.000Z
PRODUCT_ID = "HQ412_0000_IR4.TIF"
RELEASE_ID = 0022
REVISION_ID = 0000
/* QUALITY DATA ELEMENTS */
DATA_QUALITY_ID = 1
DATA_QUALITY_DESC = "Data calculated based on original SPICE kernels"
/* TIME DATA ELEMENTS */
SPACECRAFT_CLOCK_START_COUNT = "1/0681339721.00339"
SPACECRAFT_CLOCK_STOP_COUNT = "1/0681340055.65123"
START_TIME = 2024-12-03T21:02:59.964Z
STOP_TIME = 2024-12-03T21:07:23.872Z
/* ORBITAL DATA ELEMENTS */
ASCENDING_NODE_LONGITUDE = 85.38
MAXIMUM_RESOLUTION = 0.0726
FOOTPRINT_POINT_LATITUDE = (79.6163,79.4858,79.3343,79.1921,79.187 ,79.1285,78.7404,78.1573,77.7732, 77.3877,77.0032,76.6236,76.2428,75.6736 ,75.2989,74.9234,74.3604,73.9915, 73.6217,73.2512,72.698,72.3348,71.971, 71.6066,71.2414,70.8787,70.5211,70.163, 69.8044,69.4452,69.0855,68.7255,68.197, 67.8444,67.4913,67.1377,66.7836,66.2515 ,65.8966,65.3641,64.6683,63.9707, 63.4456,62.7447,62.2173,61.8656,61.512, 61.1588,60.9819,60.9562,61.0388,61.0739 ,61.1112,61.1123,61.1138,61.4694, 61.8245,62.3556,62.7093,63.0622,63.591, 64.1189,64.8207,65.521,66.0562,66.4144, 66.9509,67.4864,67.8434,68.2,68.5554, 69.0928,69.4566,69.8201,70.1832,70.546, 70.908,71.456,71.8267,72.1968,72.5666, 72.9359,73.3096,73.6873,74.0644,74.6296 ,75.012,75.397,75.7815,76.1657,76.5579, 76.9501,77.3417,77.7386,78.1383,78.5374 ,78.9416,79.3485,79.5517,79.6163)
FOOTPRINT_POINT_LONGITUDE = (55.2311,52.1156,49.2392,46.9682, 46.8935,46.7482,47.4653,48.4461,49.0357 ,49.5881,50.103,50.5797,51.0288,51.6512 ,52.0322,52.3932,52.8984,53.2083, 53.5032,53.7842,54.1791,54.4234,54.6572 ,54.8809,55.0951,55.2983,55.4904, 55.6749,55.8522,56.0227,56.1867,56.3446 ,56.5649,56.7052,56.8405,56.971,57.097, 57.278,57.3937,57.5588,57.7623,57.953, 58.0881,58.2588,58.3799,58.4577,58.5328 ,58.6059,58.6415,58.6466,60.0847, 60.8226,61.7698,61.7994,61.8092,61.7677 ,61.7252,61.6599,61.6147,61.5685, 61.4967,61.4218,61.3173,61.2066,61.1171 ,61.0547,60.9575,60.8555,60.7842, 60.7103,60.6351,60.5153,60.4307,60.3427 ,60.2515,60.1566,60.0587,59.902,59.7899 ,59.6736,59.5519,59.4253,59.2906,59.148 ,58.9992,58.7612,58.5894,58.4068, 58.2143,58.0105,57.7899,57.5559,57.3075 ,57.0385,56.7479,56.4375,56.0993, 55.7319,55.5373,55.2311)
ORBIT_NUMBER = 26412
ORBITAL_ECCENTRICITY = 0.568
ORBITAL_INCLINATION = 87.13
ORBITAL_SEMIMAJOR_AXIS = 8778.56
PERIAPSIS_ALTITUDE = 414.71
PERIAPSIS_ARGUMENT_ANGLE = 117.96
PERIAPSIS_TIME = 2024-12-03T21:07:57.000Z
SPACECRAFT_ORIENTATION = (0.0,-1.0,0.0)
^MEX_ORIENTATION_DESC = "MEX_ORIENTATION_DESC.TXT"
SPACECRAFT_POINTING_MODE = INERT
^MEX_POINTING_DESC = "MEX_POINTING_DESC.TXT"
RIGHT_ASCENSION = 132.592
DECLINATION = -34.115
OFFSET_ANGLE = -1e+32
SPACECRAFT_SOLAR_DISTANCE = 2.36806e+08
TARGET_NAME = MARS
/* CAMERA DATA ELEMENTS */
DETECTOR_TEMPERATURE = 17.5549
FOCAL_PLANE_TEMPERATURE = 8.1755
INST_CMPRS_NAME = "DISCRETE COSINE TRANSFORMATION (DCT)"
INST_CMPRS_RATIO = 13.0362
INST_CMPRS_QUALITY = 0
INST_CMPRS_QUANTZ_TBL_ID = 0
INSTRUMENT_TEMPERATURE = 10.6223
LENS_TEMPERATURE = 8.7872
MACROPIXEL_SIZE = 4
MISSING_FRAMES = 0
PIXEL_SUBSAMPLING_FLAG = N
SIGNAL_CHAIN_ID = 2
/* RADIOMETRIC DATA ELEMENTS */
BANDWIDTH = 81.0
CENTER_FILTER_WAVELENGTH = 955.5
RADIANCE_OFFSET = 0.713735
RADIANCE_SCALING_FACTOR = 0.00602554
REFLECTANCE_SCALING_FACTOR = 0.000728968
MEX:REFLECTANCE_OFFSET = 0.0863474
/* IMAGE OBJECT DEFINITIONS */
OBJECT = IMAGE
  INTERCHANGE_FORMAT = BINARY
  LINES = 22015
  LINE_SAMPLES = 4619
  SAMPLE_TYPE = UNSIGNED_INTEGER
  SAMPLE_BITS = 8
  BANDS = 1
  BAND_STORAGE_TYPE = BAND_SEQUENTIAL
  MAXIMUM = 255
  MEAN = 150.034
  MINIMUM = 1
  STANDARD_DEVIATION = 65.2273
END_OBJECT = IMAGE
/* MAP OBJECT DEFINITIONS */
OBJECT = IMAGE_MAP_PROJECTION
  ^DATA_SET_MAP_PROJECTION_CATALOG= "DSMAP.CAT"
  A_AXIS_RADIUS = 3396.0
  B_AXIS_RADIUS = 3396.0
  C_AXIS_RADIUS = 3396.0
  CENTER_LATITUDE = 0.0
  CENTER_LONGITUDE = 58.0
  COORDINATE_SYSTEM_NAME = PLANETOGRAPHIC
  COORDINATE_SYSTEM_TYPE = "BODY-FIXED ROTATING"
  EASTERNMOST_LONGITUDE = 61.8092
  FIRST_STANDARD_PARALLEL = "N/A"
  LINE_FIRST_PIXEL = 1
  LINE_LAST_PIXEL = 22015
  LINE_PROJECTION_OFFSET = 94312.375
  MAP_PROJECTION_ROTATION = 0.0
  MAP_PROJECTION_TYPE = SINUSOIDAL
  MAP_RESOLUTION = 1185.42760773333
  MAP_SCALE = 0.05
  MAXIMUM_LATITUDE = 79.6163
  MINIMUM_LATITUDE = 60.9562
  POSITIVE_LONGITUDE_DIRECTION = EAST
  REFERENCE_LATITUDE = "N/A"
  REFERENCE_LONGITUDE = "N/A"
  SAMPLE_FIRST_PIXEL = 1
  SAMPLE_LAST_PIXEL = 4619
  SAMPLE_PROJECTION_OFFSET = 2548.875
  SECOND_STANDARD_PARALLEL = "N/A"
  WESTERNMOST_LONGITUDE = 46.7482
END_OBJECT = IMAGE_MAP_PROJECTION
END
