PDS_VERSION_ID = PDS3
/* FILE DATA ELEMENTS */
RECORD_TYPE = UNDEFINED
/* POINTERS TO DATA OBJECTS */
^IMAGE = ("HQ412_0000_RE4.TIF")
/* IDENTIFICATION DATA ELEMENTS */
DATA_SET_ID = "MEX-M-HRSC-4-REFDR-MAPPROJECT-EXT9-V4.0"
DATA_SET_NAME = "MARS EXPRESS HRSC MAP PROJECTED REFDR EXTENSION9 V4.0"
DETECTOR_ID = MEX_HRSC_RED
EVENT_TYPE = "MARS-REGIONAL-MAPPING-Pf-Eo-La"
INSTRUMENT_HOST_ID = MEX
INSTRUMENT_HOST_NAME = "MARS EXPRESS"
INSTRUMENT_ID = HRSC
INSTRUMENT_NAME = "HIGH RESOLUTION STEREO CAMERA"
MISSION_NAME = "MARS EXPRESS"
MISSION_PHASE_NAME = ME_Phase_50
PROCESSING_LEVEL_ID = 4
PRODUCT_CREATION_TIME = 2025-01-29T19:26:23.000Z
PRODUCT_ID = "HQ412_0000_RE4.TIF"
RELEASE_ID = 0022
REVISION_ID = 0000
/* QUALITY DATA ELEMENTS */
DATA_QUALITY_ID = 1
DATA_QUALITY_DESC = "Data calculated based on original SPICE kernels"
/* TIME DATA ELEMENTS */
SPACECRAFT_CLOCK_START_COUNT = "1/0681339721.00339"
SPACECRAFT_CLOCK_STOP_COUNT = "1/0681340055.65123"
START_TIME = 2024-12-03T21:04:06.026Z
STOP_TIME = 2024-12-03T21:08:21.204Z
/* ORBITAL DATA ELEMENTS */
ASCENDING_NODE_LONGITUDE = 85.38
MAXIMUM_RESOLUTION = 0.0672
FOOTPRINT_POINT_LATITUDE = (79.4186,79.2935,79.1867,78.9954, 78.9905,79.1327,78.7429,78.359,77.9744, 77.5889,77.2029,76.8245,76.4466,76.0684 ,75.6899,75.311,74.9398,74.5699,74.1997 ,73.8296,73.4596,73.0893,72.723,72.3619 ,72.0009,71.6398,71.2787,70.9183, 70.5577,70.1972,69.8366,69.4782,69.1271 ,68.7761,68.425,68.0743,67.5483,67.1977 ,66.8472,66.4968,66.1465,65.7961, 65.4461,65.0962,64.7463,64.0467,63.3476 ,62.6485,62.1244,61.2515,61.077,60.9966 ,61.0529,61.14,61.1411,61.1426,61.8442, 62.5465,63.2493,63.9528,64.3048,64.657, 65.1856,65.5381,66.0674,66.5972,66.9506 ,67.3042,67.8345,68.366,68.7206,69.0751 ,69.4305,69.7864,70.1512,70.6995, 71.0655,71.4313,71.7974,72.1642,72.5311 ,72.8985,73.2693,73.6467,74.0247, 74.4029,74.7815,75.1605,75.5397,75.9282 ,76.3177,76.7076,77.0981,77.4891, 77.8881,78.2891,78.6905,79.2937,79.4994 ,79.4186)
FOOTPRINT_POINT_LONGITUDE = (55.2408,52.2968,50.194,47.0027,46.9278 ,46.3836,47.1208,47.7934,48.4197, 49.0048,49.5515,50.0536,50.5244,50.967, 51.3845,51.7788,52.1439,52.4884,52.8153 ,53.1256,53.4202,53.7008,53.9654, 54.2141,54.4517,54.6789,54.8962,55.1031 ,55.3018,55.4921,55.6748,55.8491, 56.0131,56.1708,56.3228,56.4684,56.6773 ,56.8102,56.9383,57.0617,57.1809, 57.2962,57.4069,57.5139,57.6174,57.8139 ,57.9973,58.1695,58.2914,58.4812, 58.5174,58.5339,59.5305,61.3999,61.4271 ,61.4361,61.3571,61.2737,61.1851,61.091 ,61.0419,60.9912,60.912,60.857,60.7711, 60.681,60.6182,60.5533,60.4511,60.344, 60.2693,60.1915,60.1113,60.0277,59.9384 ,59.798,59.6995,59.5965,59.4889,59.3769 ,59.2597,59.1371,59.0075,58.8694, 58.7244,58.5719,58.4113,58.242,58.0632, 57.8697,57.6642,57.4461,57.2142,56.9671 ,56.6972,56.4073,56.096,55.5828,55.3938 ,55.2408)
ORBIT_NUMBER = 26412
ORBITAL_ECCENTRICITY = 0.568
ORBITAL_INCLINATION = 87.13
ORBITAL_SEMIMAJOR_AXIS = 8778.56
PERIAPSIS_ALTITUDE = 414.71
PERIAPSIS_ARGUMENT_ANGLE = 117.96
PERIAPSIS_TIME = 2024-12-03T21:07:57.000Z
SPACECRAFT_ORIENTATION = (0.0,-1.0,0.0)
^MEX_ORIENTATION_DESC = "MEX_ORIENTATION_DESC.TXT"
SPACECRAFT_POINTING_MODE = INERT
^MEX_POINTING_DESC = "MEX_POINTING_DESC.TXT"
RIGHT_ASCENSION = 132.592
DECLINATION = -34.115
OFFSET_ANGLE = -1e+32
SPACECRAFT_SOLAR_DISTANCE = 2.36806e+08
TARGET_NAME = MARS
/* CAMERA DATA ELEMENTS */
DETECTOR_TEMPERATURE = 18.3705
FOCAL_PLANE_TEMPERATURE = 8.1755
INST_CMPRS_NAME = "DISCRETE COSINE TRANSFORMATION (DCT)"
INST_CMPRS_RATIO = 25.1845
INST_CMPRS_QUALITY = 0
INST_CMPRS_QUANTZ_TBL_ID = 0
INSTRUMENT_TEMPERATURE = 10.6223
LENS_TEMPERATURE = 8.7872
MACROPIXEL_SIZE = 4
MISSING_FRAMES = 0
PIXEL_SUBSAMPLING_FLAG = N
SIGNAL_CHAIN_ID = 2
/* RADIOMETRIC DATA ELEMENTS */
BANDWIDTH = 48.0
CENTER_FILTER_WAVELENGTH = 748.0
RADIANCE_OFFSET = 0.765143
RADIANCE_SCALING_FACTOR = 0.00502074
REFLECTANCE_SCALING_FACTOR = 0.000642508
MEX:REFLECTANCE_OFFSET = 0.097916
/* IMAGE OBJECT DEFINITIONS */
OBJECT = IMAGE
  INTERCHANGE_FORMAT = BINARY
  LINES = 22015
  LINE_SAMPLES = 4619
  SAMPLE_TYPE = UNSIGNED_INTEGER
  SAMPLE_BITS = 8
  BANDS = 1
  BAND_STORAGE_TYPE = BAND_SEQUENTIAL
  MAXIMUM = 255
  MEAN = 173.539
  MINIMUM = 1
  STANDARD_DEVIATION = 77.0804
END_OBJECT = IMAGE
/* MAP OBJECT DEFINITIONS */
OBJECT = IMAGE_MAP_PROJECTION
  ^DATA_SET_MAP_PROJECTION_CATALOG= "DSMAP.CAT"
  A_AXIS_RADIUS = 3396.0
  B_AXIS_RADIUS = 3396.0
  C_AXIS_RADIUS = 3396.0
  CENTER_LATITUDE = 0.0
  CENTER_LONGITUDE = 58.0
  COORDINATE_SYSTEM_NAME = PLANETOGRAPHIC
  COORDINATE_SYSTEM_TYPE = "BODY-FIXED ROTATING"
  EASTERNMOST_LONGITUDE = 61.4361
  FIRST_STANDARD_PARALLEL = "N/A"
  LINE_FIRST_PIXEL = 1
  LINE_LAST_PIXEL = 22015
  LINE_PROJECTION_OFFSET = 94312.375
  MAP_PROJECTION_ROTATION = 0.0
  MAP_PROJECTION_TYPE = SINUSOIDAL
  MAP_RESOLUTION = 1185.42760773333
  MAP_SCALE = 0.05
  MAXIMUM_LATITUDE = 79.49939999999999
  MINIMUM_LATITUDE = 60.9966
  POSITIVE_LONGITUDE_DIRECTION = EAST
  REFERENCE_LATITUDE = "N/A"
  REFERENCE_LONGITUDE = "N/A"
  SAMPLE_FIRST_PIXEL = 1
  SAMPLE_LAST_PIXEL = 4619
  SAMPLE_PROJECTION_OFFSET = 2548.875
  SECOND_STANDARD_PARALLEL = "N/A"
  WESTERNMOST_LONGITUDE = 46.3836
END_OBJECT = IMAGE_MAP_PROJECTION
END
