PDS_VERSION_ID = PDS3
/* FILE DATA ELEMENTS */
RECORD_TYPE = UNDEFINED
/* POINTERS TO DATA OBJECTS */
^IMAGE = ("HQ414_0000_IR4.TIF")
/* IDENTIFICATION DATA ELEMENTS */
DATA_SET_ID = "MEX-M-HRSC-4-REFDR-MAPPROJECT-EXT9-V4.0"
DATA_SET_NAME = "MARS EXPRESS HRSC MAP PROJECTED REFDR EXTENSION9 V4.0"
DETECTOR_ID = MEX_HRSC_IR
EVENT_TYPE = "MARS-REGIONAL-MAPPING-Pf-La"
INSTRUMENT_HOST_ID = MEX
INSTRUMENT_HOST_NAME = "MARS EXPRESS"
INSTRUMENT_ID = HRSC
INSTRUMENT_NAME = "HIGH RESOLUTION STEREO CAMERA"
MISSION_NAME = "MARS EXPRESS"
MISSION_PHASE_NAME = ME_Phase_50
PROCESSING_LEVEL_ID = 4
PRODUCT_CREATION_TIME = 2025-01-29T19:26:23.000Z
PRODUCT_ID = "HQ414_0000_IR4.TIF"
RELEASE_ID = 0022
REVISION_ID = 0000
/* QUALITY DATA ELEMENTS */
DATA_QUALITY_ID = 1
DATA_QUALITY_DESC = "Data calculated based on original SPICE kernels"
/* TIME DATA ELEMENTS */
SPACECRAFT_CLOCK_START_COUNT = "1/0681390143.64196"
SPACECRAFT_CLOCK_STOP_COUNT = "1/0681390432.12948"
START_TIME = 2024-12-04T11:03:22.211Z
STOP_TIME = 2024-12-04T11:06:59.795Z
/* ORBITAL DATA ELEMENTS */
ASCENDING_NODE_LONGITUDE = 85.35
MAXIMUM_RESOLUTION = 0.0696
FOOTPRINT_POINT_LATITUDE = (71.4442,71.3766,71.2996,71.2278, 71.2252,71.1668,70.8527,70.5383,70.2237 ,69.7511,69.4357,69.1205,68.8125, 68.3495,68.0405,67.5768,67.1121,66.8024 ,66.3378,66.0351,65.7321,65.4289, 64.9735,64.6697,64.3655,63.9084,63.6034 ,63.298,62.9929,62.6866,62.2274,61.7672 ,61.4604,61.1534,60.8456,60.5373, 60.2317,59.6301,59.0277,58.7248,58.2592 ,57.9485,57.6377,57.3262,57.0139, 56.7014,56.2318,55.9187,55.7629,55.7605 ,55.8249,55.8668,55.8922,55.8931, 55.8946,56.3658,56.8367,57.1495,57.4624 ,57.7747,58.0865,58.5541,58.8653, 59.1692,59.4716,59.7738,60.3776,60.8395 ,61.1485,61.612,62.0745,62.3828,62.6904 ,63.1512,63.4586,63.9187,64.2253, 64.5319,64.8382,65.1438,65.4495,65.9076 ,66.2128,66.5178,66.9859,67.2982, 67.6108,67.9232,68.2349,68.7026,69.0142 ,69.3255,69.6443,69.9633,70.2822, 70.6009,70.9194,71.2377,71.3968, 71.4442)
FOOTPRINT_POINT_LONGITUDE = (215.383,213.776,212.264,211.046, 211.006,210.905,211.079,211.248,211.41, 211.643,211.791,211.935,212.07,212.265, 212.389,212.569,212.74,212.85,213.008, 213.108,213.204,213.297,213.432,213.519 ,213.604,213.726,213.804,213.881, 213.955,214.027,214.132,214.232,214.297 ,214.36,214.421,214.481,214.539,214.647 ,214.751,214.8,214.874,214.922,214.969, 215.014,215.058,215.101,215.163,215.204 ,215.224,215.224,216.35,217.23,217.885, 217.91,217.919,217.88,217.841,217.814, 217.786,217.759,217.73,217.687,217.657, 217.627,217.597,217.566,217.502,217.451 ,217.416,217.362,217.306,217.267, 217.228,217.168,217.126,217.062,217.018 ,216.972,216.926,216.879,216.83,216.754 ,216.702,216.648,216.562,216.504, 216.442,216.379,216.315,216.214,216.144 ,216.072,215.996,215.917,215.836, 215.751,215.664,215.574,215.527, 215.383)
ORBIT_NUMBER = 26414
ORBITAL_ECCENTRICITY = 0.567
ORBITAL_INCLINATION = 87.13
ORBITAL_SEMIMAJOR_AXIS = 8773.21
PERIAPSIS_ALTITUDE = 414.65
PERIAPSIS_ARGUMENT_ANGLE = 117.6
PERIAPSIS_TIME = 2024-12-04T11:06:01.000Z
SPACECRAFT_ORIENTATION = (0.0,-1.0,0.0)
^MEX_ORIENTATION_DESC = "MEX_ORIENTATION_DESC.TXT"
SPACECRAFT_POINTING_MODE = INERT
^MEX_POINTING_DESC = "MEX_POINTING_DESC.TXT"
RIGHT_ASCENSION = 132.497
DECLINATION = -27.02
OFFSET_ANGLE = -1e+32
SPACECRAFT_SOLAR_DISTANCE = 2.36905e+08
TARGET_NAME = MARS
/* CAMERA DATA ELEMENTS */
DETECTOR_TEMPERATURE = 17.5549
FOCAL_PLANE_TEMPERATURE = 9.3989
INST_CMPRS_NAME = "DISCRETE COSINE TRANSFORMATION (DCT)"
INST_CMPRS_RATIO = 16.9895
INST_CMPRS_QUALITY = 0
INST_CMPRS_QUANTZ_TBL_ID = 0
INSTRUMENT_TEMPERATURE = 11.0301
LENS_TEMPERATURE = 9.8067
MACROPIXEL_SIZE = 4
MISSING_FRAMES = 0
PIXEL_SUBSAMPLING_FLAG = N
SIGNAL_CHAIN_ID = 2
/* RADIOMETRIC DATA ELEMENTS */
BANDWIDTH = 81.0
CENTER_FILTER_WAVELENGTH = 955.5
RADIANCE_OFFSET = 0.907216
RADIANCE_SCALING_FACTOR = 0.00479752
REFLECTANCE_SCALING_FACTOR = 0.000580891
MEX:REFLECTANCE_OFFSET = 0.109847
/* IMAGE OBJECT DEFINITIONS */
OBJECT = IMAGE
  INTERCHANGE_FORMAT = BINARY
  LINES = 18531
  LINE_SAMPLES = 3468
  SAMPLE_TYPE = UNSIGNED_INTEGER
  SAMPLE_BITS = 8
  BANDS = 1
  BAND_STORAGE_TYPE = BAND_SEQUENTIAL
  MAXIMUM = 255
  MEAN = 131.636
  MINIMUM = 1
  STANDARD_DEVIATION = 62.717
END_OBJECT = IMAGE
/* MAP OBJECT DEFINITIONS */
OBJECT = IMAGE_MAP_PROJECTION
  ^DATA_SET_MAP_PROJECTION_CATALOG= "DSMAP.CAT"
  A_AXIS_RADIUS = 3396.0
  B_AXIS_RADIUS = 3396.0
  C_AXIS_RADIUS = 3396.0
  CENTER_LATITUDE = 0.0
  CENTER_LONGITUDE = 215.0
  COORDINATE_SYSTEM_NAME = PLANETOGRAPHIC
  COORDINATE_SYSTEM_TYPE = "BODY-FIXED ROTATING"
  EASTERNMOST_LONGITUDE = 217.919
  FIRST_STANDARD_PARALLEL = "N/A"
  LINE_FIRST_PIXEL = 1
  LINE_LAST_PIXEL = 18531
  LINE_PROJECTION_OFFSET = 84641.375
  MAP_PROJECTION_ROTATION = 0.0
  MAP_PROJECTION_TYPE = SINUSOIDAL
  MAP_RESOLUTION = 1185.42760773333
  MAP_SCALE = 0.05
  MAXIMUM_LATITUDE = 71.4442
  MINIMUM_LATITUDE = 55.7605
  POSITIVE_LONGITUDE_DIRECTION = EAST
  REFERENCE_LATITUDE = "N/A"
  REFERENCE_LONGITUDE = "N/A"
  SAMPLE_FIRST_PIXEL = 1
  SAMPLE_LAST_PIXEL = 3468
  SAMPLE_PROJECTION_OFFSET = 1623.375
  SECOND_STANDARD_PARALLEL = "N/A"
  WESTERNMOST_LONGITUDE = 210.905
END_OBJECT = IMAGE_MAP_PROJECTION
END
