PDS_VERSION_ID = PDS3
/* FILE DATA ELEMENTS */
RECORD_TYPE = UNDEFINED
/* POINTERS TO DATA OBJECTS */
^IMAGE = ("HQ415_0009_P14.TIF")
/* IDENTIFICATION DATA ELEMENTS */
DATA_SET_ID = "MEX-M-HRSC-4-REFDR-MAPPROJECT-EXT9-V4.0"
DATA_SET_NAME = "MARS EXPRESS HRSC MAP PROJECTED REFDR EXTENSION9 V4.0"
DETECTOR_ID = MEX_HRSC_P1
EVENT_TYPE = "MARS-REGIONAL-MAPPING-Im-Pf-La"
INSTRUMENT_HOST_ID = MEX
INSTRUMENT_HOST_NAME = "MARS EXPRESS"
INSTRUMENT_ID = HRSC
INSTRUMENT_NAME = "HIGH RESOLUTION STEREO CAMERA"
MISSION_NAME = "MARS EXPRESS"
MISSION_PHASE_NAME = ME_Phase_50
PROCESSING_LEVEL_ID = 4
PRODUCT_CREATION_TIME = 2025-01-29T19:26:23.000Z
PRODUCT_ID = "HQ415_0009_P14.TIF"
RELEASE_ID = 0022
REVISION_ID = 0000
/* QUALITY DATA ELEMENTS */
DATA_QUALITY_ID = 1
DATA_QUALITY_DESC = "Data calculated based on original SPICE kernels"
/* TIME DATA ELEMENTS */
SPACECRAFT_CLOCK_START_COUNT = "1/0681415245.00342"
SPACECRAFT_CLOCK_STOP_COUNT = "1/0681415558.40561"
START_TIME = 2024-12-04T18:01:49.381Z
STOP_TIME = 2024-12-04T18:05:52.157Z
/* ORBITAL DATA ELEMENTS */
ASCENDING_NODE_LONGITUDE = 85.34
MAXIMUM_RESOLUTION = 0.0346
FOOTPRINT_POINT_LATITUDE = (74.6607,74.6189,74.5693,74.5071,74.505 ,74.4801,74.1186,73.7568,73.2148, 72.6838,72.3295,71.9749,71.62,71.2679, 70.9213,70.5741,70.2268,69.8792,69.5314 ,69.0119,68.6723,68.162,67.8216,67.481, 66.97,66.6283,66.2868,65.9447,65.6092, 64.9416,64.273,63.6033,62.9323,62.5964, 62.2601,61.9237,61.5869,61.25,60.7433, 60.405,60.0666,59.7278,59.3887,59.0492, 58.7094,58.3692,58.0285,57.5169,57.3461 ,57.3167,57.3413,57.3579,57.3649,57.365 ,57.3657,57.8796,58.2217,58.5636, 58.9045,59.2454,59.5859,59.9262,60.2659 ,60.6056,60.9448,61.2837,61.6224, 61.9605,62.2986,62.6362,62.9737,63.6479 ,64.4891,65.1606,65.8318,66.3441, 66.6877,67.0312,67.3744,67.7174,68.0601 ,68.4028,68.7451,69.0873,69.6099, 69.9604,70.311,70.6613,71.0114,71.3612, 71.8953,72.2537,72.612,72.97,73.328, 73.6928,74.0593,74.4258,74.609,74.6607)
FOOTPRINT_POINT_LONGITUDE = (115.314,113.193,111.453,109.754, 109.702,109.724,109.943,110.151,110.445 ,110.714,110.883,111.046,111.201, 111.349,111.489,111.624,111.754,111.878 ,111.998,112.169,112.276,112.43,112.527 ,112.622,112.758,112.845,112.929, 113.011,113.089,113.236,113.374,113.505 ,113.628,113.687,113.744,113.8,113.854, 113.907,113.983,114.032,114.08,114.127, 114.172,114.216,114.26,114.301,114.342, 114.402,114.421,114.424,115.35,116.353, 117.264,117.293,117.303,117.274,117.254 ,117.234,117.214,117.194,117.174, 117.153,117.132,117.11,117.089,117.067, 117.045,117.022,116.999,116.976,116.953 ,116.904,116.841,116.789,116.733, 116.691,116.661,116.63,116.598,116.566, 116.533,116.499,116.465,116.429,116.373 ,116.334,116.292,116.25,116.207,116.163 ,116.091,116.041,115.99,115.937,115.881 ,115.822,115.76,115.695,115.661, 115.314)
ORBIT_NUMBER = 26415
ORBITAL_ECCENTRICITY = 0.568
ORBITAL_INCLINATION = 87.12
ORBITAL_SEMIMAJOR_AXIS = 8778.19
PERIAPSIS_ALTITUDE = 414.97
PERIAPSIS_ARGUMENT_ANGLE = 117.43
PERIAPSIS_TIME = 2024-12-04T18:05:09.000Z
SPACECRAFT_ORIENTATION = (0.0,-1.0,0.0)
^MEX_ORIENTATION_DESC = "MEX_ORIENTATION_DESC.TXT"
SPACECRAFT_POINTING_MODE = INERT
^MEX_POINTING_DESC = "MEX_POINTING_DESC.TXT"
RIGHT_ASCENSION = 124.702
DECLINATION = -29.33
OFFSET_ANGLE = -1e+32
SPACECRAFT_SOLAR_DISTANCE = 2.36955e+08
TARGET_NAME = MARS
/* CAMERA DATA ELEMENTS */
DETECTOR_TEMPERATURE = 17.7588
FOCAL_PLANE_TEMPERATURE = 8.1755
INST_CMPRS_NAME = "DISCRETE COSINE TRANSFORMATION (DCT)"
INST_CMPRS_RATIO = 10.5971
INST_CMPRS_QUALITY = 0
INST_CMPRS_QUANTZ_TBL_ID = 0
INSTRUMENT_TEMPERATURE = 11.234
LENS_TEMPERATURE = 9.3989
MACROPIXEL_SIZE = 2
MISSING_FRAMES = 0
PIXEL_SUBSAMPLING_FLAG = N
SIGNAL_CHAIN_ID = 3
/* RADIOMETRIC DATA ELEMENTS */
BANDWIDTH = 174.0
CENTER_FILTER_WAVELENGTH = 675.0
RADIANCE_OFFSET = 4.60865
RADIANCE_SCALING_FACTOR = 0.0152381
REFLECTANCE_SCALING_FACTOR = 0.000460201
MEX:REFLECTANCE_OFFSET = 0.139184
/* IMAGE OBJECT DEFINITIONS */
OBJECT = IMAGE
  INTERCHANGE_FORMAT = BINARY
  LINES = 41121
  LINE_SAMPLES = 6120
  SAMPLE_TYPE = UNSIGNED_INTEGER
  SAMPLE_BITS = 8
  BANDS = 1
  BAND_STORAGE_TYPE = BAND_SEQUENTIAL
  MAXIMUM = 255
  MEAN = 143.542
  MINIMUM = 1
  STANDARD_DEVIATION = 48.6919
END_OBJECT = IMAGE
/* MAP OBJECT DEFINITIONS */
OBJECT = IMAGE_MAP_PROJECTION
  ^DATA_SET_MAP_PROJECTION_CATALOG= "DSMAP.CAT"
  A_AXIS_RADIUS = 3396.0
  B_AXIS_RADIUS = 3396.0
  C_AXIS_RADIUS = 3396.0
  CENTER_LATITUDE = 0.0
  CENTER_LONGITUDE = 115.0
  COORDINATE_SYSTEM_NAME = PLANETOGRAPHIC
  COORDINATE_SYSTEM_TYPE = "BODY-FIXED ROTATING"
  EASTERNMOST_LONGITUDE = 117.303
  FIRST_STANDARD_PARALLEL = "N/A"
  LINE_FIRST_PIXEL = 1
  LINE_LAST_PIXEL = 41121
  LINE_PROJECTION_OFFSET = 176989.75
  MAP_PROJECTION_ROTATION = 0.0
  MAP_PROJECTION_TYPE = SINUSOIDAL
  MAP_RESOLUTION = 2370.85521546667
  MAP_SCALE = 0.025
  MAXIMUM_LATITUDE = 74.66070000000001
  MINIMUM_LATITUDE = 57.3167
  POSITIVE_LONGITUDE_DIRECTION = EAST
  REFERENCE_LATITUDE = "N/A"
  REFERENCE_LONGITUDE = "N/A"
  SAMPLE_FIRST_PIXEL = 1
  SAMPLE_LAST_PIXEL = 6120
  SAMPLE_PROJECTION_OFFSET = 3393.25
  SECOND_STANDARD_PARALLEL = "N/A"
  WESTERNMOST_LONGITUDE = 109.702
END_OBJECT = IMAGE_MAP_PROJECTION
END
