PDS_VERSION_ID = PDS3
/* FILE DATA ELEMENTS */
RECORD_TYPE = UNDEFINED
/* POINTERS TO DATA OBJECTS */
^IMAGE = ("HQ415_0009_S24.TIF")
/* IDENTIFICATION DATA ELEMENTS */
DATA_SET_ID = "MEX-M-HRSC-4-REFDR-MAPPROJECT-EXT9-V4.0"
DATA_SET_NAME = "MARS EXPRESS HRSC MAP PROJECTED REFDR EXTENSION9 V4.0"
DETECTOR_ID = MEX_HRSC_S2
EVENT_TYPE = "MARS-REGIONAL-MAPPING-Im-Pf-La"
INSTRUMENT_HOST_ID = MEX
INSTRUMENT_HOST_NAME = "MARS EXPRESS"
INSTRUMENT_ID = HRSC
INSTRUMENT_NAME = "HIGH RESOLUTION STEREO CAMERA"
MISSION_NAME = "MARS EXPRESS"
MISSION_PHASE_NAME = ME_Phase_50
PROCESSING_LEVEL_ID = 4
PRODUCT_CREATION_TIME = 2025-01-29T19:26:23.000Z
PRODUCT_ID = "HQ415_0009_S24.TIF"
RELEASE_ID = 0022
REVISION_ID = 0000
/* QUALITY DATA ELEMENTS */
DATA_QUALITY_ID = 1
DATA_QUALITY_DESC = "Data calculated based on original SPICE kernels"
/* TIME DATA ELEMENTS */
SPACECRAFT_CLOCK_START_COUNT = "1/0681415245.00342"
SPACECRAFT_CLOCK_STOP_COUNT = "1/0681415558.40561"
START_TIME = 2024-12-04T18:02:51.427Z
STOP_TIME = 2024-12-04T18:06:49.039Z
/* ORBITAL DATA ELEMENTS */
ASCENDING_NODE_LONGITUDE = 85.34
MAXIMUM_RESOLUTION = 0.0344
FOOTPRINT_POINT_LATITUDE = (74.5261,74.4372,74.3508,74.2545, 74.2513,74.429,74.0646,73.7011,73.3377, 72.9834,72.6301,72.277,71.9242,71.572, 71.2201,70.8683,70.5177,70.1673,69.8203 ,69.4795,69.1388,68.7986,68.2889, 67.9498,67.6108,67.2721,66.7643,66.4261 ,66.089,65.7518,65.2464,64.91,64.4057, 63.9018,63.5665,63.2313,62.8963,62.5616 ,61.8929,61.3917,60.5584,59.8924, 59.2272,58.719,58.3782,58.0375,57.527, 57.3569,57.304,57.3685,57.4055,57.4607, 57.4621,57.4631,57.8042,58.1453,58.4879 ,58.8289,59.1709,59.507,60.0075,60.6759 ,61.178,61.8482,62.5196,62.8557,63.1921 ,63.5287,63.8653,64.2029,64.5407, 64.8791,65.2174,65.556,65.8948,66.235, 66.5747,66.915,67.2556,67.5964,67.9379, 68.2799,68.7939,69.3092,69.6525,69.9969 ,70.3458,70.6999,71.2327,71.5882, 71.9442,72.3013,72.6588,73.0171,73.3758 ,73.7384,74.1076,74.4775,74.6624, 74.5261)
FOOTPRINT_POINT_LONGITUDE = (115.331,113.179,111.425,109.72,109.667 ,109.557,109.775,109.982,110.179, 110.362,110.537,110.704,110.864,111.017 ,111.164,111.304,111.439,111.568, 111.692,111.808,111.92,112.028,112.183, 112.281,112.376,112.468,112.6,112.684, 112.765,112.844,112.957,113.029,113.133 ,113.233,113.296,113.358,113.418, 113.476,113.587,113.666,113.79,113.882, 113.97,114.034,114.075,114.115,114.173, 114.192,114.198,115.189,115.811,116.843 ,116.87,116.88,116.865,116.85,116.837, 116.821,116.805,116.79,116.767,116.735, 116.711,116.678,116.643,116.625,116.607 ,116.588,116.568,116.549,116.529,116.51 ,116.489,116.468,116.446,116.425, 116.402,116.379,116.355,116.331,116.306 ,116.28,116.241,116.201,116.172,116.143 ,116.112,116.08,116.031,115.996,115.96, 115.924,115.886,115.847,115.806,115.763 ,115.717,115.67,115.645,115.331)
ORBIT_NUMBER = 26415
ORBITAL_ECCENTRICITY = 0.568
ORBITAL_INCLINATION = 87.12
ORBITAL_SEMIMAJOR_AXIS = 8778.19
PERIAPSIS_ALTITUDE = 414.97
PERIAPSIS_ARGUMENT_ANGLE = 117.43
PERIAPSIS_TIME = 2024-12-04T18:05:09.000Z
SPACECRAFT_ORIENTATION = (0.0,-1.0,0.0)
^MEX_ORIENTATION_DESC = "MEX_ORIENTATION_DESC.TXT"
SPACECRAFT_POINTING_MODE = INERT
^MEX_POINTING_DESC = "MEX_POINTING_DESC.TXT"
RIGHT_ASCENSION = 124.702
DECLINATION = -29.33
OFFSET_ANGLE = -1e+32
SPACECRAFT_SOLAR_DISTANCE = 2.36955e+08
TARGET_NAME = MARS
/* CAMERA DATA ELEMENTS */
DETECTOR_TEMPERATURE = 18.7783
FOCAL_PLANE_TEMPERATURE = 8.1755
INST_CMPRS_NAME = "DISCRETE COSINE TRANSFORMATION (DCT)"
INST_CMPRS_RATIO = 11.8644
INST_CMPRS_QUALITY = 0
INST_CMPRS_QUANTZ_TBL_ID = 0
INSTRUMENT_TEMPERATURE = 11.234
LENS_TEMPERATURE = 9.3989
MACROPIXEL_SIZE = 2
MISSING_FRAMES = 0
PIXEL_SUBSAMPLING_FLAG = N
SIGNAL_CHAIN_ID = 1
/* RADIOMETRIC DATA ELEMENTS */
BANDWIDTH = 178.0
CENTER_FILTER_WAVELENGTH = 679.0
RADIANCE_OFFSET = 4.92962
RADIANCE_SCALING_FACTOR = 0.0194794
REFLECTANCE_SCALING_FACTOR = 0.000579211
MEX:REFLECTANCE_OFFSET = 0.14658
/* IMAGE OBJECT DEFINITIONS */
OBJECT = IMAGE
  INTERCHANGE_FORMAT = BINARY
  LINES = 41121
  LINE_SAMPLES = 6120
  SAMPLE_TYPE = UNSIGNED_INTEGER
  SAMPLE_BITS = 8
  BANDS = 1
  BAND_STORAGE_TYPE = BAND_SEQUENTIAL
  MAXIMUM = 255
  MEAN = 107.933
  MINIMUM = 1
  STANDARD_DEVIATION = 39.9772
END_OBJECT = IMAGE
/* MAP OBJECT DEFINITIONS */
OBJECT = IMAGE_MAP_PROJECTION
  ^DATA_SET_MAP_PROJECTION_CATALOG= "DSMAP.CAT"
  A_AXIS_RADIUS = 3396.0
  B_AXIS_RADIUS = 3396.0
  C_AXIS_RADIUS = 3396.0
  CENTER_LATITUDE = 0.0
  CENTER_LONGITUDE = 115.0
  COORDINATE_SYSTEM_NAME = PLANETOGRAPHIC
  COORDINATE_SYSTEM_TYPE = "BODY-FIXED ROTATING"
  EASTERNMOST_LONGITUDE = 116.88
  FIRST_STANDARD_PARALLEL = "N/A"
  LINE_FIRST_PIXEL = 1
  LINE_LAST_PIXEL = 41121
  LINE_PROJECTION_OFFSET = 176989.75
  MAP_PROJECTION_ROTATION = 0.0
  MAP_PROJECTION_TYPE = SINUSOIDAL
  MAP_RESOLUTION = 2370.85521546667
  MAP_SCALE = 0.025
  MAXIMUM_LATITUDE = 74.66240000000001
  MINIMUM_LATITUDE = 57.304
  POSITIVE_LONGITUDE_DIRECTION = EAST
  REFERENCE_LATITUDE = "N/A"
  REFERENCE_LONGITUDE = "N/A"
  SAMPLE_FIRST_PIXEL = 1
  SAMPLE_LAST_PIXEL = 6120
  SAMPLE_PROJECTION_OFFSET = 3393.25
  SECOND_STANDARD_PARALLEL = "N/A"
  WESTERNMOST_LONGITUDE = 109.557
END_OBJECT = IMAGE_MAP_PROJECTION
END
