PDS_VERSION_ID = PDS3
/* FILE DATA ELEMENTS */
RECORD_TYPE = UNDEFINED
/* POINTERS TO DATA OBJECTS */
^IMAGE = ("HQ420_0000_GR4.TIF")
/* IDENTIFICATION DATA ELEMENTS */
DATA_SET_ID = "MEX-M-HRSC-4-REFDR-MAPPROJECT-EXT9-V4.0"
DATA_SET_NAME = "MARS EXPRESS HRSC MAP PROJECTED REFDR EXTENSION9 V4.0"
DETECTOR_ID = MEX_HRSC_GREEN
EVENT_TYPE = "MARS-REGIONAL-MAPPING-Im-Pf-La"
INSTRUMENT_HOST_ID = MEX
INSTRUMENT_HOST_NAME = "MARS EXPRESS"
INSTRUMENT_ID = HRSC
INSTRUMENT_NAME = "HIGH RESOLUTION STEREO CAMERA"
MISSION_NAME = "MARS EXPRESS"
MISSION_PHASE_NAME = ME_Phase_50
PROCESSING_LEVEL_ID = 4
PRODUCT_CREATION_TIME = 2025-01-29T19:26:23.000Z
PRODUCT_ID = "HQ420_0000_GR4.TIF"
RELEASE_ID = 0022
REVISION_ID = 0000
/* QUALITY DATA ELEMENTS */
DATA_QUALITY_ID = 1
DATA_QUALITY_DESC = "Data calculated based on original SPICE kernels"
/* TIME DATA ELEMENTS */
SPACECRAFT_CLOCK_START_COUNT = "1/0681541117.00366"
SPACECRAFT_CLOCK_STOP_COUNT = "1/0681541366.22318"
START_TIME = 2024-12-06T04:59:56.915Z
STOP_TIME = 2024-12-06T05:02:55.596Z
/* ORBITAL DATA ELEMENTS */
ASCENDING_NODE_LONGITUDE = 85.25
MAXIMUM_RESOLUTION = 0.0671
FOOTPRINT_POINT_LATITUDE = (65.9479,65.8943,65.8336,65.7424,65.74, 65.744,65.3715,65.1231,64.8746,64.626, 64.3774,64.0044,63.5068,63.009,62.5109, 62.1371,61.7632,61.3892,60.7656,60.3911 ,60.1415,59.8917,59.5169,59.267,59.017, 58.7669,58.5168,58.2665,58.0162,57.6406 ,57.3901,57.1395,56.8887,56.5125, 56.2616,56.0106,55.7568,55.499,55.2411, 54.9831,54.725,54.4667,54.0793,53.8208, 53.5622,53.3035,53.1741,53.1052,53.1453 ,53.1761,53.2226,53.2635,53.2646, 53.2662,53.5254,53.7847,54.0438,54.3028 ,54.5616,54.8205,55.2086,55.5964,55.855 ,56.1114,56.3631,56.7406,56.9922, 57.3695,57.7467,57.9981,58.3751,58.6264 ,58.8776,59.1288,59.3799,59.7566, 60.0076,60.2586,60.5096,60.886,61.2623, 61.5132,61.764,62.0149,62.2656,62.5164, 62.7672,63.0179,63.2687,63.5194,63.7701 ,64.1462,64.3968,64.6475,64.8982, 65.1489,65.3996,65.7756,65.901,65.9479)
FOOTPRINT_POINT_LONGITUDE = (322.044,321.039,320.024,318.678, 318.646,318.446,318.589,318.682,318.772 ,318.86,318.946,319.072,319.232,319.384 ,319.529,319.634,319.734,319.832, 319.986,320.075,320.132,320.188,320.27, 320.323,320.375,320.425,320.475,320.523 ,320.57,320.639,320.683,320.726,320.769 ,320.83,320.87,320.91,320.948,320.987, 321.024,321.06,321.096,321.131,321.181, 321.214,321.246,321.277,321.293,321.301 ,321.859,322.317,323.082,323.838, 323.861,323.869,323.848,323.826,323.804 ,323.781,323.758,323.735,323.698, 323.661,323.635,323.61,323.584,323.544, 323.517,323.475,323.432,323.402,323.357 ,323.326,323.294,323.262,323.229, 323.178,323.143,323.107,323.071,323.015 ,322.958,322.918,322.878,322.836, 322.794,322.751,322.707,322.662,322.616 ,322.568,322.52,322.446,322.395,322.342 ,322.289,322.234,322.178,322.091, 322.061,322.044)
ORBIT_NUMBER = 26420
ORBITAL_ECCENTRICITY = 0.567
ORBITAL_INCLINATION = 87.13
ORBITAL_SEMIMAJOR_AXIS = 8771.98
PERIAPSIS_ALTITUDE = 415.81
PERIAPSIS_ARGUMENT_ANGLE = 116.59
PERIAPSIS_TIME = 2024-12-06T05:00:34.000Z
SPACECRAFT_ORIENTATION = (0.0,-1.0,0.0)
^MEX_ORIENTATION_DESC = "MEX_ORIENTATION_DESC.TXT"
SPACECRAFT_POINTING_MODE = INERT
^MEX_POINTING_DESC = "MEX_POINTING_DESC.TXT"
RIGHT_ASCENSION = 138.328
DECLINATION = -22.665
OFFSET_ANGLE = -1e+32
SPACECRAFT_SOLAR_DISTANCE = 2.37201e+08
TARGET_NAME = MARS
/* CAMERA DATA ELEMENTS */
DETECTOR_TEMPERATURE = 17.5549
FOCAL_PLANE_TEMPERATURE = 8.7872
INST_CMPRS_NAME = "DISCRETE COSINE TRANSFORMATION (DCT)"
INST_CMPRS_RATIO = 17.7333
INST_CMPRS_QUALITY = 0
INST_CMPRS_QUANTZ_TBL_ID = 0
INSTRUMENT_TEMPERATURE = 11.0301
LENS_TEMPERATURE = 8.7872
MACROPIXEL_SIZE = 4
MISSING_FRAMES = 0
PIXEL_SUBSAMPLING_FLAG = N
SIGNAL_CHAIN_ID = 2
/* RADIOMETRIC DATA ELEMENTS */
BANDWIDTH = 88.0
CENTER_FILTER_WAVELENGTH = 538.0
RADIANCE_OFFSET = 1.3199
RADIANCE_SCALING_FACTOR = 0.00309927
REFLECTANCE_SCALING_FACTOR = 0.000150135
MEX:REFLECTANCE_OFFSET = 0.0639388
/* IMAGE OBJECT DEFINITIONS */
OBJECT = IMAGE
  INTERCHANGE_FORMAT = BINARY
  LINES = 15227
  LINE_SAMPLES = 3062
  SAMPLE_TYPE = UNSIGNED_INTEGER
  SAMPLE_BITS = 8
  BANDS = 1
  BAND_STORAGE_TYPE = BAND_SEQUENTIAL
  MAXIMUM = 255
  MEAN = 201.132
  MINIMUM = 1
  STANDARD_DEVIATION = 69.5222
END_OBJECT = IMAGE
/* MAP OBJECT DEFINITIONS */
OBJECT = IMAGE_MAP_PROJECTION
  ^DATA_SET_MAP_PROJECTION_CATALOG= "DSMAP.CAT"
  A_AXIS_RADIUS = 3396.0
  B_AXIS_RADIUS = 3396.0
  C_AXIS_RADIUS = 3396.0
  CENTER_LATITUDE = 0.0
  CENTER_LONGITUDE = 322.0
  COORDINATE_SYSTEM_NAME = PLANETOGRAPHIC
  COORDINATE_SYSTEM_TYPE = "BODY-FIXED ROTATING"
  EASTERNMOST_LONGITUDE = 323.869
  FIRST_STANDARD_PARALLEL = "N/A"
  LINE_FIRST_PIXEL = 1
  LINE_LAST_PIXEL = 15227
  LINE_PROJECTION_OFFSET = 78185.375
  MAP_PROJECTION_ROTATION = 0.0
  MAP_PROJECTION_TYPE = SINUSOIDAL
  MAP_RESOLUTION = 1185.42760773333
  MAP_SCALE = 0.05
  MAXIMUM_LATITUDE = 65.9479
  MINIMUM_LATITUDE = 53.1052
  POSITIVE_LONGITUDE_DIRECTION = EAST
  REFERENCE_LATITUDE = "N/A"
  REFERENCE_LONGITUDE = "N/A"
  SAMPLE_FIRST_PIXEL = 1
  SAMPLE_LAST_PIXEL = 3062
  SAMPLE_PROJECTION_OFFSET = 1749.125
  SECOND_STANDARD_PARALLEL = "N/A"
  WESTERNMOST_LONGITUDE = 318.446
END_OBJECT = IMAGE_MAP_PROJECTION
END
