PDS_VERSION_ID = PDS3
/* FILE DATA ELEMENTS */
RECORD_TYPE = UNDEFINED
/* POINTERS TO DATA OBJECTS */
^IMAGE = ("HQ420_0000_P24.TIF")
/* IDENTIFICATION DATA ELEMENTS */
DATA_SET_ID = "MEX-M-HRSC-4-REFDR-MAPPROJECT-EXT9-V4.0"
DATA_SET_NAME = "MARS EXPRESS HRSC MAP PROJECTED REFDR EXTENSION9 V4.0"
DETECTOR_ID = MEX_HRSC_P2
EVENT_TYPE = "MARS-REGIONAL-MAPPING-Im-Pf-La"
INSTRUMENT_HOST_ID = MEX
INSTRUMENT_HOST_NAME = "MARS EXPRESS"
INSTRUMENT_ID = HRSC
INSTRUMENT_NAME = "HIGH RESOLUTION STEREO CAMERA"
MISSION_NAME = "MARS EXPRESS"
MISSION_PHASE_NAME = ME_Phase_50
PROCESSING_LEVEL_ID = 4
PRODUCT_CREATION_TIME = 2025-01-29T19:26:23.000Z
PRODUCT_ID = "HQ420_0000_P24.TIF"
RELEASE_ID = 0022
REVISION_ID = 0000
/* QUALITY DATA ELEMENTS */
DATA_QUALITY_ID = 1
DATA_QUALITY_DESC = "Data calculated based on original SPICE kernels"
/* TIME DATA ELEMENTS */
SPACECRAFT_CLOCK_START_COUNT = "1/0681541117.00366"
SPACECRAFT_CLOCK_STOP_COUNT = "1/0681541366.22318"
START_TIME = 2024-12-06T05:00:25.966Z
STOP_TIME = 2024-12-06T05:03:25.061Z
/* ORBITAL DATA ELEMENTS */
ASCENDING_NODE_LONGITUDE = 85.25
MAXIMUM_RESOLUTION = 0.0348
FOOTPRINT_POINT_LATITUDE = (65.8483,65.8031,65.751,65.6793,65.6773 ,65.7818,65.5301,65.2785,65.027,64.7756 ,64.5246,64.2733,64.0223,63.7714, 63.5206,63.2698,63.0192,62.7685,62.5181 ,62.2679,62.0177,61.7675,61.5175, 61.2674,61.0175,60.7677,60.1436,59.6447 ,59.1461,58.6478,58.1498,57.7722, 57.5171,57.2619,57.0067,56.7518,56.3693 ,56.1144,55.8596,55.6048,55.3501, 55.0955,54.8409,54.5821,54.3211,53.9297 ,53.6689,53.2776,53.1473,53.1437, 53.1897,53.2092,53.2351,53.2569,53.2578 ,53.2587,53.5201,53.9124,54.174,54.4358 ,54.6976,54.9573,55.2126,55.596,55.8515 ,56.1072,56.363,56.6188,56.8747,57.131, 57.3872,57.6433,57.8997,58.1539,58.6539 ,59.2797,59.7808,60.0316,60.2825, 60.6589,61.1615,61.5387,61.7902,62.0419 ,62.294,62.546,62.7981,63.0504,63.3029, 63.5555,63.8082,64.1877,64.4408,64.6941 ,64.9475,65.2013,65.4551,65.8362, 65.9633,65.8483)
FOOTPRINT_POINT_LONGITUDE = (321.971,320.897,319.811,318.504,318.47 ,318.216,318.318,318.417,318.514, 318.608,318.7,318.789,318.877,318.962, 319.045,319.125,319.204,319.282,319.357 ,319.43,319.501,319.571,319.639,319.705 ,319.77,319.833,319.986,320.101,320.211 ,320.315,320.415,320.489,320.536, 320.583,320.629,320.673,320.737,320.779 ,320.82,320.86,320.899,320.937,320.974, 321.011,321.047,321.1,321.134,321.184, 321.2,321.2,322.103,322.524,323.14, 323.725,323.75,323.758,323.737,323.704, 323.682,323.659,323.636,323.613,323.589 ,323.552,323.527,323.502,323.476, 323.449,323.422,323.394,323.366,323.337 ,323.307,323.277,323.217,323.137,323.07 ,323.035,323.0,322.945,322.869,322.81, 322.77,322.729,322.686,322.643,322.598, 322.553,322.507,322.459,322.41,322.335, 322.283,322.23,322.176,322.12,322.063, 321.975,321.945,321.971)
ORBIT_NUMBER = 26420
ORBITAL_ECCENTRICITY = 0.567
ORBITAL_INCLINATION = 87.13
ORBITAL_SEMIMAJOR_AXIS = 8771.98
PERIAPSIS_ALTITUDE = 415.81
PERIAPSIS_ARGUMENT_ANGLE = 116.59
PERIAPSIS_TIME = 2024-12-06T05:00:34.000Z
SPACECRAFT_ORIENTATION = (0.0,-1.0,0.0)
^MEX_ORIENTATION_DESC = "MEX_ORIENTATION_DESC.TXT"
SPACECRAFT_POINTING_MODE = INERT
^MEX_POINTING_DESC = "MEX_POINTING_DESC.TXT"
RIGHT_ASCENSION = 138.328
DECLINATION = -22.665
OFFSET_ANGLE = -1e+32
SPACECRAFT_SOLAR_DISTANCE = 2.37201e+08
TARGET_NAME = MARS
/* CAMERA DATA ELEMENTS */
DETECTOR_TEMPERATURE = 18.5744
FOCAL_PLANE_TEMPERATURE = 8.7872
INST_CMPRS_NAME = "DISCRETE COSINE TRANSFORMATION (DCT)"
INST_CMPRS_RATIO = 12.4524
INST_CMPRS_QUALITY = 0
INST_CMPRS_QUANTZ_TBL_ID = 0
INSTRUMENT_TEMPERATURE = 11.0301
LENS_TEMPERATURE = 8.7872
MACROPIXEL_SIZE = 2
MISSING_FRAMES = 0
PIXEL_SUBSAMPLING_FLAG = N
SIGNAL_CHAIN_ID = 3
/* RADIOMETRIC DATA ELEMENTS */
BANDWIDTH = 177.0
CENTER_FILTER_WAVELENGTH = 676.5
RADIANCE_OFFSET = 3.11799
RADIANCE_SCALING_FACTOR = 0.0113723
REFLECTANCE_SCALING_FACTOR = 0.000339265
MEX:REFLECTANCE_OFFSET = 0.0930174
/* IMAGE OBJECT DEFINITIONS */
OBJECT = IMAGE
  INTERCHANGE_FORMAT = BINARY
  LINES = 30453
  LINE_SAMPLES = 6123
  SAMPLE_TYPE = UNSIGNED_INTEGER
  SAMPLE_BITS = 8
  BANDS = 1
  BAND_STORAGE_TYPE = BAND_SEQUENTIAL
  MAXIMUM = 255
  MEAN = 179.874
  MINIMUM = 1
  STANDARD_DEVIATION = 82.0861
END_OBJECT = IMAGE
/* MAP OBJECT DEFINITIONS */
OBJECT = IMAGE_MAP_PROJECTION
  ^DATA_SET_MAP_PROJECTION_CATALOG= "DSMAP.CAT"
  A_AXIS_RADIUS = 3396.0
  B_AXIS_RADIUS = 3396.0
  C_AXIS_RADIUS = 3396.0
  CENTER_LATITUDE = 0.0
  CENTER_LONGITUDE = 322.0
  COORDINATE_SYSTEM_NAME = PLANETOGRAPHIC
  COORDINATE_SYSTEM_TYPE = "BODY-FIXED ROTATING"
  EASTERNMOST_LONGITUDE = 323.758
  FIRST_STANDARD_PARALLEL = "N/A"
  LINE_FIRST_PIXEL = 1
  LINE_LAST_PIXEL = 30453
  LINE_PROJECTION_OFFSET = 156371.25
  MAP_PROJECTION_ROTATION = 0.0
  MAP_PROJECTION_TYPE = SINUSOIDAL
  MAP_RESOLUTION = 2370.85521546667
  MAP_SCALE = 0.025
  MAXIMUM_LATITUDE = 65.9633
  MINIMUM_LATITUDE = 53.1437
  POSITIVE_LONGITUDE_DIRECTION = EAST
  REFERENCE_LATITUDE = "N/A"
  REFERENCE_LONGITUDE = "N/A"
  SAMPLE_FIRST_PIXEL = 1
  SAMPLE_LAST_PIXEL = 6123
  SAMPLE_PROJECTION_OFFSET = 3498.75
  SECOND_STANDARD_PARALLEL = "N/A"
  WESTERNMOST_LONGITUDE = 318.216
END_OBJECT = IMAGE_MAP_PROJECTION
END
