PDS_VERSION_ID = PDS3
/* FILE DATA ELEMENTS */
RECORD_TYPE = UNDEFINED
/* POINTERS TO DATA OBJECTS */
^IMAGE = ("HQ420_0000_S14.TIF")
/* IDENTIFICATION DATA ELEMENTS */
DATA_SET_ID = "MEX-M-HRSC-4-REFDR-MAPPROJECT-EXT9-V4.0"
DATA_SET_NAME = "MARS EXPRESS HRSC MAP PROJECTED REFDR EXTENSION9 V4.0"
DETECTOR_ID = MEX_HRSC_S1
EVENT_TYPE = "MARS-REGIONAL-MAPPING-Im-Pf-La"
INSTRUMENT_HOST_ID = MEX
INSTRUMENT_HOST_NAME = "MARS EXPRESS"
INSTRUMENT_ID = HRSC
INSTRUMENT_NAME = "HIGH RESOLUTION STEREO CAMERA"
MISSION_NAME = "MARS EXPRESS"
MISSION_PHASE_NAME = ME_Phase_50
PROCESSING_LEVEL_ID = 4
PRODUCT_CREATION_TIME = 2025-01-29T19:26:23.000Z
PRODUCT_ID = "HQ420_0000_S14.TIF"
RELEASE_ID = 0022
REVISION_ID = 0000
/* QUALITY DATA ELEMENTS */
DATA_QUALITY_ID = 1
DATA_QUALITY_DESC = "Data calculated based on original SPICE kernels"
/* TIME DATA ELEMENTS */
SPACECRAFT_CLOCK_START_COUNT = "1/0681541117.00366"
SPACECRAFT_CLOCK_STOP_COUNT = "1/0681541366.22318"
START_TIME = 2024-12-06T04:59:29.441Z
STOP_TIME = 2024-12-06T05:02:26.046Z
/* ORBITAL DATA ELEMENTS */
ASCENDING_NODE_LONGITUDE = 85.25
MAXIMUM_RESOLUTION = 0.0346
FOOTPRINT_POINT_LATITUDE = (66.0337,65.9676,65.8932,65.7935, 65.7907,65.7013,65.3213,65.0677,64.8158 ,64.1965,63.8244,63.2031,62.8297, 62.4556,62.2061,61.9563,61.7062,61.456, 61.0803,60.8295,60.5786,60.3273,60.0761 ,59.8241,59.5724,59.3203,59.0679, 58.8153,58.5624,58.3093,58.0559,57.6757 ,57.4218,57.1674,56.9128,56.658,56.4028 ,56.0198,55.7642,55.3801,55.1237,54.867 ,54.6099,54.3528,54.095,53.8373,53.4431 ,53.1778,53.0448,53.0338,53.1045, 53.1409,53.1867,53.2442,53.2459,53.2471 ,53.6453,53.9108,54.1692,54.4269,54.813 ,55.1989,55.4557,55.7121,55.9686, 56.2254,56.6082,56.8636,57.2467,57.5015 ,57.7562,58.0106,58.2649,58.5191,58.773 ,59.0266,59.28,59.5332,59.786,60.0388, 60.4178,60.6702,60.9223,61.1745,61.426, 61.6777,61.9291,62.1804,62.4314,62.6823 ,63.0585,63.4341,64.0596,64.5591,65.058 ,65.3114,65.5671,65.8225,65.9503, 66.0337)
FOOTPRINT_POINT_LONGITUDE = (322.113,321.094,320.068,318.838, 318.806,318.648,318.789,318.88,318.968, 319.175,319.294,319.482,319.59,319.694, 319.762,319.828,319.892,319.955,320.046 ,320.106,320.164,320.22,320.276,320.33, 320.383,320.435,320.485,320.535,320.583 ,320.63,320.676,320.744,320.787,320.83, 320.871,320.912,320.951,321.009,321.047 ,321.101,321.137,321.171,321.205, 321.238,321.27,321.301,321.348,321.378, 321.393,321.394,322.155,322.583,323.157 ,323.948,323.973,323.982,323.948, 323.925,323.902,323.879,323.843,323.807 ,323.782,323.756,323.73,323.703,323.663 ,323.635,323.592,323.563,323.534, 323.503,323.473,323.441,323.409,323.376 ,323.343,323.309,323.274,323.239, 323.184,323.147,323.109,323.07,323.03, 322.99,322.948,322.906,322.863,322.819, 322.751,322.681,322.559,322.456,322.348 ,322.292,322.233,322.174,322.143, 322.113)
ORBIT_NUMBER = 26420
ORBITAL_ECCENTRICITY = 0.567
ORBITAL_INCLINATION = 87.13
ORBITAL_SEMIMAJOR_AXIS = 8771.98
PERIAPSIS_ALTITUDE = 415.81
PERIAPSIS_ARGUMENT_ANGLE = 116.59
PERIAPSIS_TIME = 2024-12-06T05:00:34.000Z
SPACECRAFT_ORIENTATION = (0.0,-1.0,0.0)
^MEX_ORIENTATION_DESC = "MEX_ORIENTATION_DESC.TXT"
SPACECRAFT_POINTING_MODE = INERT
^MEX_POINTING_DESC = "MEX_POINTING_DESC.TXT"
RIGHT_ASCENSION = 138.328
DECLINATION = -22.665
OFFSET_ANGLE = -1e+32
SPACECRAFT_SOLAR_DISTANCE = 2.37201e+08
TARGET_NAME = MARS
/* CAMERA DATA ELEMENTS */
DETECTOR_TEMPERATURE = 17.351
FOCAL_PLANE_TEMPERATURE = 8.7872
INST_CMPRS_NAME = "DISCRETE COSINE TRANSFORMATION (DCT)"
INST_CMPRS_RATIO = 10.9859
INST_CMPRS_QUALITY = 0
INST_CMPRS_QUANTZ_TBL_ID = 0
INSTRUMENT_TEMPERATURE = 11.0301
LENS_TEMPERATURE = 8.7872
MACROPIXEL_SIZE = 2
MISSING_FRAMES = 0
PIXEL_SUBSAMPLING_FLAG = N
SIGNAL_CHAIN_ID = 1
/* RADIOMETRIC DATA ELEMENTS */
BANDWIDTH = 180.0
CENTER_FILTER_WAVELENGTH = 677.0
RADIANCE_OFFSET = 3.55854
RADIANCE_SCALING_FACTOR = 0.0246784
REFLECTANCE_SCALING_FACTOR = 0.000724423
MEX:REFLECTANCE_OFFSET = 0.104459
/* IMAGE OBJECT DEFINITIONS */
OBJECT = IMAGE
  INTERCHANGE_FORMAT = BINARY
  LINES = 30453
  LINE_SAMPLES = 6123
  SAMPLE_TYPE = UNSIGNED_INTEGER
  SAMPLE_BITS = 8
  BANDS = 1
  BAND_STORAGE_TYPE = BAND_SEQUENTIAL
  MAXIMUM = 255
  MEAN = 131.351
  MINIMUM = 1
  STANDARD_DEVIATION = 74.8274
END_OBJECT = IMAGE
/* MAP OBJECT DEFINITIONS */
OBJECT = IMAGE_MAP_PROJECTION
  ^DATA_SET_MAP_PROJECTION_CATALOG= "DSMAP.CAT"
  A_AXIS_RADIUS = 3396.0
  B_AXIS_RADIUS = 3396.0
  C_AXIS_RADIUS = 3396.0
  CENTER_LATITUDE = 0.0
  CENTER_LONGITUDE = 322.0
  COORDINATE_SYSTEM_NAME = PLANETOGRAPHIC
  COORDINATE_SYSTEM_TYPE = "BODY-FIXED ROTATING"
  EASTERNMOST_LONGITUDE = 323.982
  FIRST_STANDARD_PARALLEL = "N/A"
  LINE_FIRST_PIXEL = 1
  LINE_LAST_PIXEL = 30453
  LINE_PROJECTION_OFFSET = 156371.25
  MAP_PROJECTION_ROTATION = 0.0
  MAP_PROJECTION_TYPE = SINUSOIDAL
  MAP_RESOLUTION = 2370.85521546667
  MAP_SCALE = 0.025
  MAXIMUM_LATITUDE = 66.0337
  MINIMUM_LATITUDE = 53.0338
  POSITIVE_LONGITUDE_DIRECTION = EAST
  REFERENCE_LATITUDE = "N/A"
  REFERENCE_LONGITUDE = "N/A"
  SAMPLE_FIRST_PIXEL = 1
  SAMPLE_LAST_PIXEL = 6123
  SAMPLE_PROJECTION_OFFSET = 3498.75
  SECOND_STANDARD_PARALLEL = "N/A"
  WESTERNMOST_LONGITUDE = 318.648
END_OBJECT = IMAGE_MAP_PROJECTION
END
