PDS_VERSION_ID = PDS3
/* FILE DATA ELEMENTS */
RECORD_TYPE = UNDEFINED
/* POINTERS TO DATA OBJECTS */
^IMAGE = ("HQ421_0000_GR4.TIF")
/* IDENTIFICATION DATA ELEMENTS */
DATA_SET_ID = "MEX-M-HRSC-4-REFDR-MAPPROJECT-EXT9-V4.0"
DATA_SET_NAME = "MARS EXPRESS HRSC MAP PROJECTED REFDR EXTENSION9 V4.0"
DETECTOR_ID = MEX_HRSC_GREEN
EVENT_TYPE = "MARS-REGIONAL-MAPPING-Im-Pf-La"
INSTRUMENT_HOST_ID = MEX
INSTRUMENT_HOST_NAME = "MARS EXPRESS"
INSTRUMENT_ID = HRSC
INSTRUMENT_NAME = "HIGH RESOLUTION STEREO CAMERA"
MISSION_NAME = "MARS EXPRESS"
MISSION_PHASE_NAME = ME_Phase_50
PROCESSING_LEVEL_ID = 4
PRODUCT_CREATION_TIME = 2025-01-29T19:26:23.000Z
PRODUCT_ID = "HQ421_0000_GR4.TIF"
RELEASE_ID = 0022
REVISION_ID = 0000
/* QUALITY DATA ELEMENTS */
DATA_QUALITY_ID = 1
DATA_QUALITY_DESC = "Data calculated based on original SPICE kernels"
/* TIME DATA ELEMENTS */
SPACECRAFT_CLOCK_START_COUNT = "1/0681566151.35562"
SPACECRAFT_CLOCK_STOP_COUNT = "1/0681566441.09343"
START_TIME = 2024-12-06T11:57:13.009Z
STOP_TIME = 2024-12-06T11:58:41.521Z
/* ORBITAL DATA ELEMENTS */
ASCENDING_NODE_LONGITUDE = 85.24
MAXIMUM_RESOLUTION = 0.0673
FOOTPRINT_POINT_LATITUDE = (72.9399,72.9077,72.8798,72.8434, 72.8086,72.7712,72.7159,72.7133,72.7334 ,72.607,72.4805,72.354,72.2274,72.1009, 71.9743,71.7872,71.6637,71.4784,71.3549 ,71.2313,71.1077,70.9841,70.7986, 70.6749,70.5513,70.3657,70.1801,70.0563 ,69.8706,69.6849,69.561,69.3752,69.2514 ,69.0657,68.8242,68.5826,68.2201, 67.9179,67.6761,67.3132,66.9501,66.7686 ,66.587,66.5264,66.5207,66.5532,66.5803 ,66.5957,66.617,66.6444,66.6707,66.6896 ,66.6908,66.6923,66.9363,67.1193, 67.3023,67.5463,67.7293,67.8513,68.0342 ,68.1562,68.2782,68.4002,68.5222, 68.6441,68.7661,68.9491,69.0711,69.193, 69.3788,69.504,69.6292,69.7544,69.8796, 70.0048,70.13,70.2552,70.4429,70.5682, 70.6933,70.8185,70.9437,71.0689,71.2567 ,71.382,71.5072,71.6325,71.7576,71.8829 ,72.0081,72.1337,72.2621,72.3905,72.519 ,72.6475,72.776,72.9044,72.9687, 72.9399)
FOOTPRINT_POINT_LONGITUDE = (220.344,219.473,218.789,217.972,217.25 ,216.533,215.551,215.507,215.371, 215.453,215.533,215.613,215.691,215.767 ,215.843,215.953,216.024,216.128, 216.197,216.264,216.331,216.396,216.493 ,216.556,216.618,216.71,216.8,216.859, 216.946,217.031,217.086,217.168,217.222 ,217.301,217.402,217.5,217.643,217.757, 217.846,217.976,218.1,218.161,218.22, 218.24,218.242,218.817,219.328,219.635, 220.08,220.699,221.355,221.875,221.909, 221.921,221.881,221.85,221.82,221.778, 221.746,221.724,221.69,221.668,221.645, 221.621,221.599,221.574,221.551,221.515 ,221.49,221.465,221.427,221.4,221.374, 221.347,221.32,221.292,221.264,221.235, 221.191,221.162,221.132,221.101,221.071 ,221.039,220.992,220.96,220.927,220.894 ,220.86,220.826,220.791,220.756,220.72, 220.682,220.645,220.607,220.568,220.528 ,220.508,220.344)
ORBIT_NUMBER = 26421
ORBITAL_ECCENTRICITY = 0.567
ORBITAL_INCLINATION = 87.13
ORBITAL_SEMIMAJOR_AXIS = 8771.89
PERIAPSIS_ALTITUDE = 415.12
PERIAPSIS_ARGUMENT_ANGLE = 116.4
PERIAPSIS_TIME = 2024-12-06T11:59:34.000Z
SPACECRAFT_ORIENTATION = (0.0,-1.0,0.0)
^MEX_ORIENTATION_DESC = "MEX_ORIENTATION_DESC.TXT"
SPACECRAFT_POINTING_MODE = INERT
^MEX_POINTING_DESC = "MEX_POINTING_DESC.TXT"
RIGHT_ASCENSION = 131.004
DECLINATION = -28.455
OFFSET_ANGLE = -1e+32
SPACECRAFT_SOLAR_DISTANCE = 2.3725e+08
TARGET_NAME = MARS
/* CAMERA DATA ELEMENTS */
DETECTOR_TEMPERATURE = 0.0
FOCAL_PLANE_TEMPERATURE = 0.0
INST_CMPRS_NAME = "DISCRETE COSINE TRANSFORMATION (DCT)"
INST_CMPRS_RATIO = 14.3181
INST_CMPRS_QUALITY = 0
INST_CMPRS_QUANTZ_TBL_ID = 0
INSTRUMENT_TEMPERATURE = 0.0
LENS_TEMPERATURE = 0.0
MACROPIXEL_SIZE = 4
MISSING_FRAMES = 0
PIXEL_SUBSAMPLING_FLAG = N
SIGNAL_CHAIN_ID = 2
/* RADIOMETRIC DATA ELEMENTS */
BANDWIDTH = 88.0
CENTER_FILTER_WAVELENGTH = 538.0
RADIANCE_OFFSET = 2.18366
RADIANCE_SCALING_FACTOR = 0.00328337
REFLECTANCE_SCALING_FACTOR = 0.000159118
MEX:REFLECTANCE_OFFSET = 0.105824
/* IMAGE OBJECT DEFINITIONS */
OBJECT = IMAGE
  INTERCHANGE_FORMAT = BINARY
  LINES = 7204
  LINE_SAMPLES = 2582
  SAMPLE_TYPE = UNSIGNED_INTEGER
  SAMPLE_BITS = 8
  BANDS = 1
  BAND_STORAGE_TYPE = BAND_SEQUENTIAL
  MAXIMUM = 255
  MEAN = 147.447
  MINIMUM = 1
  STANDARD_DEVIATION = 61.4198
END_OBJECT = IMAGE
/* MAP OBJECT DEFINITIONS */
OBJECT = IMAGE_MAP_PROJECTION
  ^DATA_SET_MAP_PROJECTION_CATALOG= "DSMAP.CAT"
  A_AXIS_RADIUS = 3396.0
  B_AXIS_RADIUS = 3396.0
  C_AXIS_RADIUS = 3396.0
  CENTER_LATITUDE = 0.0
  CENTER_LONGITUDE = 219.0
  COORDINATE_SYSTEM_NAME = PLANETOGRAPHIC
  COORDINATE_SYSTEM_TYPE = "BODY-FIXED ROTATING"
  EASTERNMOST_LONGITUDE = 221.921
  FIRST_STANDARD_PARALLEL = "N/A"
  LINE_FIRST_PIXEL = 1
  LINE_LAST_PIXEL = 7204
  LINE_PROJECTION_OFFSET = 86496.375
  MAP_PROJECTION_ROTATION = 0.0
  MAP_PROJECTION_TYPE = SINUSOIDAL
  MAP_RESOLUTION = 1185.42760773333
  MAP_SCALE = 0.05
  MAXIMUM_LATITUDE = 72.9687
  MINIMUM_LATITUDE = 66.52070000000001
  POSITIVE_LONGITUDE_DIRECTION = EAST
  REFERENCE_LATITUDE = "N/A"
  REFERENCE_LONGITUDE = "N/A"
  SAMPLE_FIRST_PIXEL = 1
  SAMPLE_LAST_PIXEL = 2582
  SAMPLE_PROJECTION_OFFSET = 1284.375
  SECOND_STANDARD_PARALLEL = "N/A"
  WESTERNMOST_LONGITUDE = 215.371
END_OBJECT = IMAGE_MAP_PROJECTION
END
