PDS_VERSION_ID = PDS3
/* FILE DATA ELEMENTS */
RECORD_TYPE = UNDEFINED
/* POINTERS TO DATA OBJECTS */
^IMAGE = ("HQ422_0000_GR4.TIF")
/* IDENTIFICATION DATA ELEMENTS */
DATA_SET_ID = "MEX-M-HRSC-4-REFDR-MAPPROJECT-EXT9-V4.0"
DATA_SET_NAME = "MARS EXPRESS HRSC MAP PROJECTED REFDR EXTENSION9 V4.0"
DETECTOR_ID = MEX_HRSC_GREEN
EVENT_TYPE = "MARS-REGIONAL-MAPPING-Te-Pf-La"
INSTRUMENT_HOST_ID = MEX
INSTRUMENT_HOST_NAME = "MARS EXPRESS"
INSTRUMENT_ID = HRSC
INSTRUMENT_NAME = "HIGH RESOLUTION STEREO CAMERA"
MISSION_NAME = "MARS EXPRESS"
MISSION_PHASE_NAME = ME_Phase_50
PROCESSING_LEVEL_ID = 4
PRODUCT_CREATION_TIME = 2025-01-29T19:26:23.000Z
PRODUCT_ID = "HQ422_0000_GR4.TIF"
RELEASE_ID = 0022
REVISION_ID = 0000
/* QUALITY DATA ELEMENTS */
DATA_QUALITY_ID = 1
DATA_QUALITY_DESC = "Data calculated based on original SPICE kernels"
/* TIME DATA ELEMENTS */
SPACECRAFT_CLOCK_START_COUNT = "1/0681591343.64182"
SPACECRAFT_CLOCK_STOP_COUNT = "1/0681591600.56838"
START_TIME = 2024-12-06T18:57:04.814Z
STOP_TIME = 2024-12-06T19:00:11.770Z
/* ORBITAL DATA ELEMENTS */
ASCENDING_NODE_LONGITUDE = 85.22
MAXIMUM_RESOLUTION = 0.067
FOOTPRINT_POINT_LATITUDE = (70.2531,70.1739,70.1055,70.0492, 70.0468,70.0579,69.6551,69.2522,68.9835 ,68.7177,68.4557,68.1936,67.9315, 67.5381,67.0133,66.4882,65.7001,65.1742 ,64.9112,64.6481,64.3849,64.1217, 63.8583,63.5948,63.3313,63.0676,62.6721 ,62.4083,62.1444,61.8804,61.6164, 61.3522,60.9557,60.6914,60.4268,60.0299 ,59.7651,59.5002,59.2353,58.9702,58.705 ,58.4398,58.0415,57.776,57.5103,57.2444 ,56.9785,56.8455,56.8432,56.9012, 56.9362,56.9766,56.9776,56.9791,57.2459 ,57.5125,57.779,58.0456,58.3119,58.5782 ,58.8445,59.1106,59.3766,59.6425, 60.0413,60.4398,60.8383,61.2366,61.6347 ,61.9001,62.1654,62.4307,62.8285, 63.0936,63.3588,63.6238,64.0213,64.4188 ,64.6837,64.9486,65.2134,65.6107, 65.8755,66.1403,66.405,66.6698,66.9345, 67.1992,67.5963,67.861,68.1257,68.3904, 68.6551,68.9198,69.1884,69.46,69.8676, 70.1393,70.2752,70.2531)
FOOTPRINT_POINT_LONGITUDE = (118.416,116.595,115.288,114.331, 114.293,114.162,114.36,114.548,114.67, 114.786,114.898,115.006,115.112,115.264 ,115.458,115.642,115.901,116.062,116.14 ,116.215,116.289,116.361,116.431, 116.499,116.566,116.631,116.725,116.787 ,116.846,116.905,116.962,117.017, 117.098,117.15,117.201,117.276,117.324, 117.371,117.417,117.462,117.505,117.548 ,117.611,117.651,117.69,117.729,117.767 ,117.785,117.786,118.799,119.512, 120.481,120.507,120.515,120.492,120.469 ,120.446,120.422,120.397,120.372, 120.347,120.321,120.294,120.268,120.227 ,120.184,120.141,120.095,120.049, 120.017,119.985,119.952,119.901,119.866 ,119.83,119.794,119.738,119.679,119.64, 119.599,119.557,119.493,119.449,119.404 ,119.357,119.31,119.261,119.211,119.134 ,119.081,119.026,118.97,118.913,118.854 ,118.793,118.729,118.629,118.561, 118.526,118.416)
ORBIT_NUMBER = 26422
ORBITAL_ECCENTRICITY = 0.567
ORBITAL_INCLINATION = 87.12
ORBITAL_SEMIMAJOR_AXIS = 8776.27
PERIAPSIS_ALTITUDE = 415.75
PERIAPSIS_ARGUMENT_ANGLE = 116.24
PERIAPSIS_TIME = 2024-12-06T18:58:43.000Z
SPACECRAFT_ORIENTATION = (0.0,-1.0,0.0)
^MEX_ORIENTATION_DESC = "MEX_ORIENTATION_DESC.TXT"
SPACECRAFT_POINTING_MODE = INERT
^MEX_POINTING_DESC = "MEX_POINTING_DESC.TXT"
RIGHT_ASCENSION = 132.415
DECLINATION = -26.959
OFFSET_ANGLE = -1e+32
SPACECRAFT_SOLAR_DISTANCE = 2.37299e+08
TARGET_NAME = MARS
/* CAMERA DATA ELEMENTS */
DETECTOR_TEMPERATURE = 15.9237
FOCAL_PLANE_TEMPERATURE = 8.5833
INST_CMPRS_NAME = "DISCRETE COSINE TRANSFORMATION (DCT)"
INST_CMPRS_RATIO = 34.8509
INST_CMPRS_QUALITY = 0
INST_CMPRS_QUANTZ_TBL_ID = 0
INSTRUMENT_TEMPERATURE = 11.0301
LENS_TEMPERATURE = 8.5833
MACROPIXEL_SIZE = 4
MISSING_FRAMES = 0
PIXEL_SUBSAMPLING_FLAG = N
SIGNAL_CHAIN_ID = 2
/* RADIOMETRIC DATA ELEMENTS */
BANDWIDTH = 88.0
CENTER_FILTER_WAVELENGTH = 538.0
RADIANCE_OFFSET = 1.48286
RADIANCE_SCALING_FACTOR = 0.0025561
REFLECTANCE_SCALING_FACTOR = 0.000123925
MEX:REFLECTANCE_OFFSET = 0.0718918
/* IMAGE OBJECT DEFINITIONS */
OBJECT = IMAGE
  INTERCHANGE_FORMAT = BINARY
  LINES = 15904
  LINE_SAMPLES = 3171
  SAMPLE_TYPE = UNSIGNED_INTEGER
  SAMPLE_BITS = 8
  BANDS = 1
  BAND_STORAGE_TYPE = BAND_SEQUENTIAL
  MAXIMUM = 255
  MEAN = 243.347
  MINIMUM = 1
  STANDARD_DEVIATION = 40.0962
END_OBJECT = IMAGE
/* MAP OBJECT DEFINITIONS */
OBJECT = IMAGE_MAP_PROJECTION
  ^DATA_SET_MAP_PROJECTION_CATALOG= "DSMAP.CAT"
  A_AXIS_RADIUS = 3396.0
  B_AXIS_RADIUS = 3396.0
  C_AXIS_RADIUS = 3396.0
  CENTER_LATITUDE = 0.0
  CENTER_LONGITUDE = 118.0
  COORDINATE_SYSTEM_NAME = PLANETOGRAPHIC
  COORDINATE_SYSTEM_TYPE = "BODY-FIXED ROTATING"
  EASTERNMOST_LONGITUDE = 120.515
  FIRST_STANDARD_PARALLEL = "N/A"
  LINE_FIRST_PIXEL = 1
  LINE_LAST_PIXEL = 15904
  LINE_PROJECTION_OFFSET = 83308.125
  MAP_PROJECTION_ROTATION = 0.0
  MAP_PROJECTION_TYPE = SINUSOIDAL
  MAP_RESOLUTION = 1185.42760773333
  MAP_SCALE = 0.05
  MAXIMUM_LATITUDE = 70.2752
  MINIMUM_LATITUDE = 56.8432
  POSITIVE_LONGITUDE_DIRECTION = EAST
  REFERENCE_LATITUDE = "N/A"
  REFERENCE_LONGITUDE = "N/A"
  SAMPLE_FIRST_PIXEL = 1
  SAMPLE_LAST_PIXEL = 3171
  SAMPLE_PROJECTION_OFFSET = 1564.875
  SECOND_STANDARD_PARALLEL = "N/A"
  WESTERNMOST_LONGITUDE = 114.162
END_OBJECT = IMAGE_MAP_PROJECTION
END
