PDS_VERSION_ID = PDS3
/* FILE DATA ELEMENTS */
RECORD_TYPE = UNDEFINED
/* POINTERS TO DATA OBJECTS */
^IMAGE = ("HQ422_0000_P14.TIF")
/* IDENTIFICATION DATA ELEMENTS */
DATA_SET_ID = "MEX-M-HRSC-4-REFDR-MAPPROJECT-EXT9-V4.0"
DATA_SET_NAME = "MARS EXPRESS HRSC MAP PROJECTED REFDR EXTENSION9 V4.0"
DETECTOR_ID = MEX_HRSC_P1
EVENT_TYPE = "MARS-REGIONAL-MAPPING-Te-Pf-La"
INSTRUMENT_HOST_ID = MEX
INSTRUMENT_HOST_NAME = "MARS EXPRESS"
INSTRUMENT_ID = HRSC
INSTRUMENT_NAME = "HIGH RESOLUTION STEREO CAMERA"
MISSION_NAME = "MARS EXPRESS"
MISSION_PHASE_NAME = ME_Phase_50
PROCESSING_LEVEL_ID = 4
PRODUCT_CREATION_TIME = 2025-01-29T19:26:23.000Z
PRODUCT_ID = "HQ422_0000_P14.TIF"
RELEASE_ID = 0022
REVISION_ID = 0000
/* QUALITY DATA ELEMENTS */
DATA_QUALITY_ID = 1
DATA_QUALITY_DESC = "Data calculated based on original SPICE kernels"
/* TIME DATA ELEMENTS */
SPACECRAFT_CLOCK_START_COUNT = "1/0681591343.64182"
SPACECRAFT_CLOCK_STOP_COUNT = "1/0681591600.56838"
START_TIME = 2024-12-06T18:56:47.904Z
STOP_TIME = 2024-12-06T18:59:54.522Z
/* ORBITAL DATA ELEMENTS */
ASCENDING_NODE_LONGITUDE = 85.22
MAXIMUM_RESOLUTION = 0.0342
FOOTPRINT_POINT_LATITUDE = (70.3096,70.2371,70.1734,70.1058, 70.1033,70.0606,69.795,69.5294,69.1303, 68.8642,68.5978,68.198,67.9313,67.5338, 67.0127,66.491,65.8381,65.5765,65.1838, 64.9219,64.6597,64.3974,64.1351,63.8724 ,63.6093,63.2145,62.9511,62.5557, 62.2921,62.028,61.7639,61.4995,61.1024, 60.8376,60.5725,60.3071,60.0416,59.7759 ,59.5099,59.2438,58.9775,58.711,58.4442 ,58.1771,57.9098,57.6422,57.3746, 56.9726,56.8386,56.8327,56.892,56.928, 56.9689,56.9699,56.9709,57.3742,57.6428 ,57.9112,58.3134,58.7151,58.9827, 59.2503,59.5173,59.7843,60.0509,60.4507 ,60.8501,61.1162,61.3821,61.6478, 61.9134,62.1788,62.444,62.8416,63.1065, 63.3714,63.6361,64.0327,64.429,64.6929, 64.9567,65.2205,65.4842,65.7477,66.1429 ,66.406,66.8007,67.0637,67.3265,67.8519 ,68.1213,68.3907,68.6599,68.929,69.198, 69.6013,69.8701,70.1388,70.2731, 70.3096)
FOOTPRINT_POINT_LONGITUDE = (118.44,116.759,115.527,114.381,114.341 ,114.237,114.367,114.494,114.676, 114.794,114.908,115.074,115.18,115.333, 115.524,115.705,115.919,116.0,116.119, 116.196,116.27,116.343,116.415,116.484, 116.552,116.65,116.714,116.806,116.867, 116.925,116.982,117.038,117.119,117.172 ,117.224,117.274,117.323,117.371, 117.418,117.463,117.508,117.552,117.595 ,117.636,117.677,117.717,117.756, 117.813,117.832,117.832,118.847,119.57, 120.564,120.591,120.6,120.564,120.54, 120.515,120.477,120.439,120.412,120.385 ,120.357,120.33,120.301,120.258,120.213 ,120.182,120.151,120.119,120.086, 120.053,120.019,119.967,119.931,119.895 ,119.857,119.8,119.741,119.701,119.659, 119.617,119.574,119.529,119.461,119.414 ,119.341,119.291,119.24,119.134,119.078 ,119.02,118.96,118.899,118.836,118.739, 118.672,118.603,118.567,118.44)
ORBIT_NUMBER = 26422
ORBITAL_ECCENTRICITY = 0.567
ORBITAL_INCLINATION = 87.12
ORBITAL_SEMIMAJOR_AXIS = 8776.27
PERIAPSIS_ALTITUDE = 415.75
PERIAPSIS_ARGUMENT_ANGLE = 116.24
PERIAPSIS_TIME = 2024-12-06T18:58:43.000Z
SPACECRAFT_ORIENTATION = (0.0,-1.0,0.0)
^MEX_ORIENTATION_DESC = "MEX_ORIENTATION_DESC.TXT"
SPACECRAFT_POINTING_MODE = INERT
^MEX_POINTING_DESC = "MEX_POINTING_DESC.TXT"
RIGHT_ASCENSION = 132.415
DECLINATION = -26.959
OFFSET_ANGLE = -1e+32
SPACECRAFT_SOLAR_DISTANCE = 2.37299e+08
TARGET_NAME = MARS
/* CAMERA DATA ELEMENTS */
DETECTOR_TEMPERATURE = 17.1471
FOCAL_PLANE_TEMPERATURE = 8.5833
INST_CMPRS_NAME = "DISCRETE COSINE TRANSFORMATION (DCT)"
INST_CMPRS_RATIO = 10.6852
INST_CMPRS_QUALITY = 0
INST_CMPRS_QUANTZ_TBL_ID = 0
INSTRUMENT_TEMPERATURE = 11.0301
LENS_TEMPERATURE = 8.5833
MACROPIXEL_SIZE = 2
MISSING_FRAMES = 0
PIXEL_SUBSAMPLING_FLAG = N
SIGNAL_CHAIN_ID = 3
/* RADIOMETRIC DATA ELEMENTS */
BANDWIDTH = 174.0
CENTER_FILTER_WAVELENGTH = 675.0
RADIANCE_OFFSET = 3.98997
RADIANCE_SCALING_FACTOR = 0.0179367
REFLECTANCE_SCALING_FACTOR = 0.000543275
MEX:REFLECTANCE_OFFSET = 0.12085
/* IMAGE OBJECT DEFINITIONS */
OBJECT = IMAGE
  INTERCHANGE_FORMAT = BINARY
  LINES = 31807
  LINE_SAMPLES = 6341
  SAMPLE_TYPE = UNSIGNED_INTEGER
  SAMPLE_BITS = 8
  BANDS = 1
  BAND_STORAGE_TYPE = BAND_SEQUENTIAL
  MAXIMUM = 255
  MEAN = 163.168
  MINIMUM = 1
  STANDARD_DEVIATION = 60.0385
END_OBJECT = IMAGE
/* MAP OBJECT DEFINITIONS */
OBJECT = IMAGE_MAP_PROJECTION
  ^DATA_SET_MAP_PROJECTION_CATALOG= "DSMAP.CAT"
  A_AXIS_RADIUS = 3396.0
  B_AXIS_RADIUS = 3396.0
  C_AXIS_RADIUS = 3396.0
  CENTER_LATITUDE = 0.0
  CENTER_LONGITUDE = 118.0
  COORDINATE_SYSTEM_NAME = PLANETOGRAPHIC
  COORDINATE_SYSTEM_TYPE = "BODY-FIXED ROTATING"
  EASTERNMOST_LONGITUDE = 120.6
  FIRST_STANDARD_PARALLEL = "N/A"
  LINE_FIRST_PIXEL = 1
  LINE_LAST_PIXEL = 31807
  LINE_PROJECTION_OFFSET = 166616.75
  MAP_PROJECTION_ROTATION = 0.0
  MAP_PROJECTION_TYPE = SINUSOIDAL
  MAP_RESOLUTION = 2370.85521546667
  MAP_SCALE = 0.025
  MAXIMUM_LATITUDE = 70.3096
  MINIMUM_LATITUDE = 56.8327
  POSITIVE_LONGITUDE_DIRECTION = EAST
  REFERENCE_LATITUDE = "N/A"
  REFERENCE_LONGITUDE = "N/A"
  SAMPLE_FIRST_PIXEL = 1
  SAMPLE_LAST_PIXEL = 6341
  SAMPLE_PROJECTION_OFFSET = 3130.25
  SECOND_STANDARD_PARALLEL = "N/A"
  WESTERNMOST_LONGITUDE = 114.237
END_OBJECT = IMAGE_MAP_PROJECTION
END
