PDS_VERSION_ID = PDS3
/* FILE DATA ELEMENTS */
RECORD_TYPE = UNDEFINED
/* POINTERS TO DATA OBJECTS */
^IMAGE = ("HQ423_0000_RE4.TIF")
/* IDENTIFICATION DATA ELEMENTS */
DATA_SET_ID = "MEX-M-HRSC-4-REFDR-MAPPROJECT-EXT9-V4.0"
DATA_SET_NAME = "MARS EXPRESS HRSC MAP PROJECTED REFDR EXTENSION9 V4.0"
DETECTOR_ID = MEX_HRSC_RED
EVENT_TYPE = "MARS-REGIONAL-MAPPING-Te-Im-Pf"
INSTRUMENT_HOST_ID = MEX
INSTRUMENT_HOST_NAME = "MARS EXPRESS"
INSTRUMENT_ID = HRSC
INSTRUMENT_NAME = "HIGH RESOLUTION STEREO CAMERA"
MISSION_NAME = "MARS EXPRESS"
MISSION_PHASE_NAME = ME_Phase_50
PROCESSING_LEVEL_ID = 4
PRODUCT_CREATION_TIME = 2025-01-29T19:26:23.000Z
PRODUCT_ID = "HQ423_0000_RE4.TIF"
RELEASE_ID = 0022
REVISION_ID = 0000
/* QUALITY DATA ELEMENTS */
DATA_QUALITY_ID = 1
DATA_QUALITY_DESC = "Data calculated based on original SPICE kernels"
/* TIME DATA ELEMENTS */
SPACECRAFT_CLOCK_START_COUNT = "1/0681616713.00362"
SPACECRAFT_CLOCK_STOP_COUNT = "1/0681616977.32785"
START_TIME = 2024-12-07T02:00:30.503Z
STOP_TIME = 2024-12-07T02:03:40.824Z
/* ORBITAL DATA ELEMENTS */
ASCENDING_NODE_LONGITUDE = 85.2
MAXIMUM_RESOLUTION = 0.0758
FOOTPRINT_POINT_LATITUDE = (56.1256,56.0999,56.0701,56.0242, 56.0231,56.1349,55.7655,55.3966,55.0274 ,54.5365,54.2893,54.0382,53.6618, 53.2861,53.0356,52.6597,52.2849,52.0341 ,51.7787,51.5232,51.2677,50.8847,50.63, 50.3756,50.1188,49.8584,49.5981,49.3377 ,49.0778,48.6882,48.4242,48.1581, 47.8929,47.4953,47.2305,46.9601,46.6895 ,46.2842,46.0141,45.6018,45.3259,45.049 ,44.7738,44.4954,44.2128,43.7902, 43.5086,43.2205,43.0772,43.0188,43.0444 ,43.0631,43.0884,43.101,43.1015,43.1031 ,43.5338,43.8181,44.2404,44.5221,44.803 ,45.0792,45.4928,45.77,46.0446,46.3149, 46.5859,46.9917,47.396,47.6614,47.9269, 48.1926,48.4589,48.725,48.9852,49.3758, 49.6362,49.8964,50.1573,50.5439,50.799, 51.0544,51.3101,51.5661,51.9504,52.2064 ,52.5822,52.9586,53.2096,53.4606, 53.7117,53.9633,54.2151,54.4673,54.8365 ,55.3297,55.8237,56.0708,56.1947, 56.1256)
FOOTPRINT_POINT_LONGITUDE = (17.0842,16.2749,15.4563,14.3659, 14.3396,14.1937,14.255,14.3142,14.3721, 14.4455,14.4815,14.5169,14.5685,14.618, 14.6503,14.6977,14.7428,14.7719,14.8008 ,14.8292,14.8573,14.8979,14.9237, 14.9486,14.9733,14.9978,15.0218,15.0455 ,15.068,15.1009,15.1222,15.1441,15.1643 ,15.1938,15.2126,15.2324,15.2505, 15.2762,15.2929,15.3192,15.3352,15.3523 ,15.3664,15.3791,15.3953,15.4169, 15.4285,15.4436,15.4493,15.4518,16.0924 ,16.5904,17.3542,17.8446,17.8668, 17.8742,17.8594,17.8494,17.834,17.8234, 17.8126,17.8018,17.7849,17.7735,17.7617 ,17.7499,17.7378,17.7192,17.7,17.6871, 17.6738,17.6603,17.6465,17.6324,17.6182 ,17.5965,17.5816,17.5663,17.5508, 17.5271,17.5111,17.4947,17.4779,17.4608 ,17.4345,17.4165,17.3894,17.3614, 17.3422,17.3227,17.3027,17.2823,17.2615 ,17.2402,17.2083,17.1641,17.118,17.0942 ,17.0822,17.0842)
ORBIT_NUMBER = 26423
ORBITAL_ECCENTRICITY = 0.567
ORBITAL_INCLINATION = 87.12
ORBITAL_SEMIMAJOR_AXIS = 8774.43
PERIAPSIS_ALTITUDE = 416.41
PERIAPSIS_ARGUMENT_ANGLE = 116.07
PERIAPSIS_TIME = 2024-12-07T01:57:46.000Z
SPACECRAFT_ORIENTATION = (0.0,-1.0,0.0)
^MEX_ORIENTATION_DESC = "MEX_ORIENTATION_DESC.TXT"
SPACECRAFT_POINTING_MODE = INERT
^MEX_POINTING_DESC = "MEX_POINTING_DESC.TXT"
RIGHT_ASCENSION = 137.285
DECLINATION = -12.403
OFFSET_ANGLE = -1e+32
SPACECRAFT_SOLAR_DISTANCE = 2.37348e+08
TARGET_NAME = MARS
/* CAMERA DATA ELEMENTS */
DETECTOR_TEMPERATURE = 18.3705
FOCAL_PLANE_TEMPERATURE = 8.5833
INST_CMPRS_NAME = "DISCRETE COSINE TRANSFORMATION (DCT)"
INST_CMPRS_RATIO = 21.114
INST_CMPRS_QUALITY = 0
INST_CMPRS_QUANTZ_TBL_ID = 0
INSTRUMENT_TEMPERATURE = 10.8262
LENS_TEMPERATURE = 8.5833
MACROPIXEL_SIZE = 4
MISSING_FRAMES = 0
PIXEL_SUBSAMPLING_FLAG = N
SIGNAL_CHAIN_ID = 2
/* RADIOMETRIC DATA ELEMENTS */
BANDWIDTH = 48.0
CENTER_FILTER_WAVELENGTH = 748.0
RADIANCE_OFFSET = 0.995506
RADIANCE_SCALING_FACTOR = 0.00505511
REFLECTANCE_SCALING_FACTOR = 0.000649874
MEX:REFLECTANCE_OFFSET = 0.12798
/* IMAGE OBJECT DEFINITIONS */
OBJECT = IMAGE
  INTERCHANGE_FORMAT = BINARY
  LINES = 15740
  LINE_SAMPLES = 2779
  SAMPLE_TYPE = UNSIGNED_INTEGER
  SAMPLE_BITS = 8
  BANDS = 1
  BAND_STORAGE_TYPE = BAND_SEQUENTIAL
  MAXIMUM = 255
  MEAN = 121.708
  MINIMUM = 1
  STANDARD_DEVIATION = 32.6044
END_OBJECT = IMAGE
/* MAP OBJECT DEFINITIONS */
OBJECT = IMAGE_MAP_PROJECTION
  ^DATA_SET_MAP_PROJECTION_CATALOG= "DSMAP.CAT"
  A_AXIS_RADIUS = 3396.0
  B_AXIS_RADIUS = 3396.0
  C_AXIS_RADIUS = 3396.0
  CENTER_LATITUDE = 0.0
  CENTER_LONGITUDE = 16.0
  COORDINATE_SYSTEM_NAME = PLANETOGRAPHIC
  COORDINATE_SYSTEM_TYPE = "BODY-FIXED ROTATING"
  EASTERNMOST_LONGITUDE = 17.8742
  FIRST_STANDARD_PARALLEL = "N/A"
  LINE_FIRST_PIXEL = 1
  LINE_LAST_PIXEL = 15740
  LINE_PROJECTION_OFFSET = 66663.125
  MAP_PROJECTION_ROTATION = 0.0
  MAP_PROJECTION_TYPE = SINUSOIDAL
  MAP_RESOLUTION = 1185.42760773333
  MAP_SCALE = 0.05
  MAXIMUM_LATITUDE = 56.1947
  MINIMUM_LATITUDE = 43.0188
  POSITIVE_LONGITUDE_DIRECTION = EAST
  REFERENCE_LATITUDE = "N/A"
  REFERENCE_LONGITUDE = "N/A"
  SAMPLE_FIRST_PIXEL = 1
  SAMPLE_LAST_PIXEL = 2779
  SAMPLE_PROJECTION_OFFSET = 1053.875
  SECOND_STANDARD_PARALLEL = "N/A"
  WESTERNMOST_LONGITUDE = 14.1937
END_OBJECT = IMAGE_MAP_PROJECTION
END
