PDS_VERSION_ID = PDS3
/* FILE DATA ELEMENTS */
RECORD_TYPE = UNDEFINED
/* POINTERS TO DATA OBJECTS */
^IMAGE = ("HQ425_0000_ND4.TIF")
/* IDENTIFICATION DATA ELEMENTS */
DATA_SET_ID = "MEX-M-HRSC-4-REFDR-MAPPROJECT-EXT9-V4.0"
DATA_SET_NAME = "MARS EXPRESS HRSC MAP PROJECTED REFDR EXTENSION9 V4.0"
DETECTOR_ID = MEX_HRSC_NADIR
EVENT_TYPE = "MARS-LOCAL-VARIABLE-Eo-At-Sh"
INSTRUMENT_HOST_ID = MEX
INSTRUMENT_HOST_NAME = "MARS EXPRESS"
INSTRUMENT_ID = HRSC
INSTRUMENT_NAME = "HIGH RESOLUTION STEREO CAMERA"
MISSION_NAME = "MARS EXPRESS"
MISSION_PHASE_NAME = ME_Phase_50
PROCESSING_LEVEL_ID = 4
PRODUCT_CREATION_TIME = 2025-01-29T19:26:23.000Z
PRODUCT_ID = "HQ425_0000_ND4.TIF"
RELEASE_ID = 0022
REVISION_ID = 0000
/* QUALITY DATA ELEMENTS */
DATA_QUALITY_ID = 1
DATA_QUALITY_DESC = "Data calculated based on original SPICE kernels"
/* TIME DATA ELEMENTS */
SPACECRAFT_CLOCK_START_COUNT = "1/0681667255.64181"
SPACECRAFT_CLOCK_STOP_COUNT = "1/0681667544.04967"
START_TIME = 2024-12-07T16:02:32.795Z
STOP_TIME = 2024-12-07T16:05:31.825Z
/* ORBITAL DATA ELEMENTS */
ASCENDING_NODE_LONGITUDE = 85.16
MAXIMUM_RESOLUTION = 0.0221
FOOTPRINT_POINT_LATITUDE = (41.0954,41.0628,41.0358,41.008,40.9796 ,40.9505,40.9208,40.919,40.9465,40.612, 40.1663,39.8321,39.2651,38.8117,38.2351 ,37.8887,37.4205,37.1857,36.951,36.5939 ,36.3551,36.1163,35.7542,35.5112, 35.2684,35.0241,34.7771,34.5301,34.283, 34.0319,33.7807,33.5296,33.2785,33.0274 ,32.7764,32.3998,32.1487,31.8976,31.521 ,31.2699,30.8932,30.6421,30.391,30.1398 ,29.8886,29.6374,29.3862,29.0092, 28.8836,28.862,28.9076,28.9317,28.9551, 28.9854,29.002,29.0322,29.0524,29.0541, 29.0553,29.3063,29.5572,29.8081,30.0589 ,30.3097,30.5606,30.8114,31.1875, 31.4383,31.6891,31.9398,32.1906,32.4413 ,32.8175,33.0682,33.319,33.5698,33.8207 ,34.0715,34.3223,34.5716,34.8183,35.065 ,35.3115,35.5541,35.7967,36.0394, 36.2803,36.5188,36.7574,37.1145,37.5836 ,38.2823,38.6282,39.0876,39.5408, 40.1057,40.6626,40.9968,41.1083, 41.0954)
FOOTPRINT_POINT_LONGITUDE = (178.148,177.579,177.137,176.706, 176.286,175.876,175.474,175.449,175.491 ,175.5,175.512,175.521,175.536,175.548, 175.563,175.572,175.584,175.59,175.596, 175.605,175.611,175.618,175.627,175.633 ,175.64,175.646,175.652,175.659,175.665 ,175.672,175.678,175.685,175.692, 175.698,175.704,175.714,175.721,175.728 ,175.738,175.744,175.754,175.761, 175.768,175.775,175.782,175.789,175.795 ,175.806,175.809,175.81,176.416,176.755 ,177.1,177.57,177.84,178.36,178.737, 178.769,178.784,178.77,178.755,178.741, 178.727,178.713,178.699,178.686,178.665 ,178.652,178.64,178.627,178.614,178.602 ,178.584,178.572,178.56,178.549,178.538 ,178.526,178.515,178.504,178.494, 178.483,178.473,178.463,178.453,178.444 ,178.434,178.425,178.416,178.403, 178.386,178.362,178.351,178.336,178.322 ,178.306,178.291,178.282,178.279, 178.148)
ORBIT_NUMBER = 26425
ORBITAL_ECCENTRICITY = 0.567
ORBITAL_INCLINATION = 87.12
ORBITAL_SEMIMAJOR_AXIS = 8771.31
PERIAPSIS_ALTITUDE = 416.74
PERIAPSIS_ARGUMENT_ANGLE = 115.74
PERIAPSIS_TIME = 2024-12-07T15:56:00.000Z
SPACECRAFT_ORIENTATION = (0.0,-1.0,0.0)
^MEX_ORIENTATION_DESC = "MEX_ORIENTATION_DESC.TXT"
SPACECRAFT_POINTING_MODE = INERT
^MEX_POINTING_DESC = "MEX_POINTING_DESC.TXT"
RIGHT_ASCENSION = 116.408
DECLINATION = 3.158
OFFSET_ANGLE = -1e+32
SPACECRAFT_SOLAR_DISTANCE = 2.37445e+08
TARGET_NAME = MARS
/* CAMERA DATA ELEMENTS */
DETECTOR_TEMPERATURE = 17.7588
FOCAL_PLANE_TEMPERATURE = 8.5833
INST_CMPRS_NAME = "DISCRETE COSINE TRANSFORMATION (DCT)"
INST_CMPRS_RATIO = 7.21208
INST_CMPRS_QUALITY = 0
INST_CMPRS_QUANTZ_TBL_ID = 0
INSTRUMENT_TEMPERATURE = 11.0301
LENS_TEMPERATURE = 8.7872
MACROPIXEL_SIZE = 1
MISSING_FRAMES = 0
PIXEL_SUBSAMPLING_FLAG = N
SIGNAL_CHAIN_ID = 0
/* RADIOMETRIC DATA ELEMENTS */
BANDWIDTH = 177.0
CENTER_FILTER_WAVELENGTH = 677.5
RADIANCE_OFFSET = 4.31623
RADIANCE_SCALING_FACTOR = 0.0282107
REFLECTANCE_SCALING_FACTOR = 0.000844945
MEX:REFLECTANCE_OFFSET = 0.129277
/* IMAGE OBJECT DEFINITIONS */
OBJECT = IMAGE
  INTERCHANGE_FORMAT = BINARY
  LINES = 29065
  LINE_SAMPLES = 6652
  SAMPLE_TYPE = UNSIGNED_INTEGER
  SAMPLE_BITS = 8
  BANDS = 1
  BAND_STORAGE_TYPE = BAND_SEQUENTIAL
  MAXIMUM = 255
  MEAN = 105.921
  MINIMUM = 1
  STANDARD_DEVIATION = 36.3604
END_OBJECT = IMAGE
/* MAP OBJECT DEFINITIONS */
OBJECT = IMAGE_MAP_PROJECTION
  ^DATA_SET_MAP_PROJECTION_CATALOG= "DSMAP.CAT"
  A_AXIS_RADIUS = 3396.0
  B_AXIS_RADIUS = 3396.0
  C_AXIS_RADIUS = 3396.0
  CENTER_LATITUDE = 0.0
  CENTER_LONGITUDE = 177.0
  COORDINATE_SYSTEM_NAME = PLANETOGRAPHIC
  COORDINATE_SYSTEM_TYPE = "BODY-FIXED ROTATING"
  EASTERNMOST_LONGITUDE = 178.784
  FIRST_STANDARD_PARALLEL = "N/A"
  LINE_FIRST_PIXEL = 1
  LINE_LAST_PIXEL = 29065
  LINE_PROJECTION_OFFSET = 97493.0
  MAP_PROJECTION_ROTATION = 0.0
  MAP_PROJECTION_TYPE = SINUSOIDAL
  MAP_RESOLUTION = 2370.85521546667
  MAP_SCALE = 0.025
  MAXIMUM_LATITUDE = 41.1083
  MINIMUM_LATITUDE = 28.862
  POSITIVE_LONGITUDE_DIRECTION = EAST
  REFERENCE_LATITUDE = "N/A"
  REFERENCE_LONGITUDE = "N/A"
  SAMPLE_FIRST_PIXEL = 1
  SAMPLE_LAST_PIXEL = 6652
  SAMPLE_PROJECTION_OFFSET = 2795.0
  SECOND_STANDARD_PARALLEL = "N/A"
  WESTERNMOST_LONGITUDE = 175.449
END_OBJECT = IMAGE_MAP_PROJECTION
END
