PDS_VERSION_ID = PDS3
/* FILE DATA ELEMENTS */
RECORD_TYPE = UNDEFINED
/* POINTERS TO DATA OBJECTS */
^IMAGE = ("HQ428_0000_S14.TIF")
/* IDENTIFICATION DATA ELEMENTS */
DATA_SET_ID = "MEX-M-HRSC-4-REFDR-MAPPROJECT-EXT9-V4.0"
DATA_SET_NAME = "MARS EXPRESS HRSC MAP PROJECTED REFDR EXTENSION9 V4.0"
DETECTOR_ID = MEX_HRSC_S1
EVENT_TYPE = "MARS-REGIONAL-MAPPING-Im-Pf-La"
INSTRUMENT_HOST_ID = MEX
INSTRUMENT_HOST_NAME = "MARS EXPRESS"
INSTRUMENT_ID = HRSC
INSTRUMENT_NAME = "HIGH RESOLUTION STEREO CAMERA"
MISSION_NAME = "MARS EXPRESS"
MISSION_PHASE_NAME = ME_Phase_50
PROCESSING_LEVEL_ID = 4
PRODUCT_CREATION_TIME = 2025-01-29T19:26:23.000Z
PRODUCT_ID = "HQ428_0000_S14.TIF"
RELEASE_ID = 0022
REVISION_ID = 0000
/* QUALITY DATA ELEMENTS */
DATA_QUALITY_ID = 1
DATA_QUALITY_DESC = "Data calculated based on original SPICE kernels"
/* TIME DATA ELEMENTS */
SPACECRAFT_CLOCK_START_COUNT = "1/0681742177.00354"
SPACECRAFT_CLOCK_STOP_COUNT = "1/0681742448.08590"
START_TIME = 2024-12-08T12:50:29.476Z
STOP_TIME = 2024-12-08T12:51:41.699Z
/* ORBITAL DATA ELEMENTS */
ASCENDING_NODE_LONGITUDE = 85.12
MAXIMUM_RESOLUTION = 0.0355
FOOTPRINT_POINT_LATITUDE = (73.5775,73.5627,73.5391,73.5226, 73.5053,73.4849,73.4564,73.4365,73.4158 ,73.3724,73.3349,73.332,73.2491,73.1469 ,73.0458,72.9461,72.7964,72.6466, 72.5466,72.3968,72.2968,72.1966,72.0464 ,71.9463,71.8459,71.7454,71.6449, 71.5448,71.3944,71.2942,71.1939,71.0931 ,70.8939,70.6976,70.5011,70.2549, 70.1073,69.9103,69.7624,69.4173,69.1703 ,69.022,68.8245,68.7254,68.6261,68.5271 ,68.329,68.2794,68.2365,68.2667,68.2866 ,68.3039,68.3225,68.3519,68.3738, 68.3976,68.4134,68.4311,68.4328,68.4339 ,68.5339,68.6338,68.7338,68.8838, 68.9837,69.1333,69.2332,69.3331,69.5325 ,69.6819,69.8813,69.9812,70.1803, 70.3298,70.4791,70.6287,70.927,71.1259, 71.2766,71.3784,71.4802,71.5821,71.7348 ,71.8367,71.9383,72.04,72.1417,72.2942, 72.3957,72.4973,72.5989,72.7512,72.853, 72.9543,73.0557,73.2078,73.3092,73.412, 73.4638,73.5775)
FOOTPRINT_POINT_LONGITUDE = (224.562,224.177,223.602,223.219, 222.837,222.408,221.838,221.46,221.082, 220.329,219.719,219.672,219.576,219.649 ,219.721,219.791,219.894,219.996, 220.062,220.161,220.225,220.289,220.383 ,220.445,220.506,220.566,220.625, 220.685,220.772,220.829,220.886,220.942 ,221.05,221.155,221.257,221.382,221.455 ,221.551,221.622,221.782,221.893, 221.958,222.043,222.085,222.126,222.167 ,222.248,222.268,222.285,222.777, 223.119,223.424,223.767,224.339,224.799 ,225.336,225.721,226.183,226.222, 226.235,226.213,226.191,226.168,226.134 ,226.11,226.075,226.051,226.027,225.979 ,225.942,225.891,225.865,225.813, 225.773,225.732,225.69,225.606,225.548, 225.503,225.473,225.442,225.41,225.363, 225.33,225.298,225.264,225.231,225.18, 225.146,225.111,225.076,225.022,224.985 ,224.949,224.911,224.855,224.816, 224.777,224.757,224.562)
ORBIT_NUMBER = 26428
ORBITAL_ECCENTRICITY = 0.567
ORBITAL_INCLINATION = 87.13
ORBITAL_SEMIMAJOR_AXIS = 8770.85
PERIAPSIS_ALTITUDE = 415.65
PERIAPSIS_ARGUMENT_ANGLE = 115.21
PERIAPSIS_TIME = 2024-12-08T12:53:11.000Z
SPACECRAFT_ORIENTATION = (0.0,-1.0,0.0)
^MEX_ORIENTATION_DESC = "MEX_ORIENTATION_DESC.TXT"
SPACECRAFT_POINTING_MODE = INERT
^MEX_POINTING_DESC = "MEX_POINTING_DESC.TXT"
RIGHT_ASCENSION = 132.419
DECLINATION = -29.745
OFFSET_ANGLE = -1e+32
SPACECRAFT_SOLAR_DISTANCE = 2.37591e+08
TARGET_NAME = MARS
/* CAMERA DATA ELEMENTS */
DETECTOR_TEMPERATURE = 17.1471
FOCAL_PLANE_TEMPERATURE = 8.5833
INST_CMPRS_NAME = "DISCRETE COSINE TRANSFORMATION (DCT)"
INST_CMPRS_RATIO = 10.2805
INST_CMPRS_QUALITY = 0
INST_CMPRS_QUANTZ_TBL_ID = 0
INSTRUMENT_TEMPERATURE = 10.6223
LENS_TEMPERATURE = 8.5833
MACROPIXEL_SIZE = 2
MISSING_FRAMES = 0
PIXEL_SUBSAMPLING_FLAG = N
SIGNAL_CHAIN_ID = 1
/* RADIOMETRIC DATA ELEMENTS */
BANDWIDTH = 180.0
CENTER_FILTER_WAVELENGTH = 677.0
RADIANCE_OFFSET = 6.1642
RADIANCE_SCALING_FACTOR = 0.0121565
REFLECTANCE_SCALING_FACTOR = 0.000358024
MEX:REFLECTANCE_OFFSET = 0.181543
/* IMAGE OBJECT DEFINITIONS */
OBJECT = IMAGE
  INTERCHANGE_FORMAT = BINARY
  LINES = 6780
  LINE_SAMPLES = 4395
  SAMPLE_TYPE = UNSIGNED_INTEGER
  SAMPLE_BITS = 8
  BANDS = 1
  BAND_STORAGE_TYPE = BAND_SEQUENTIAL
  MAXIMUM = 213
  MEAN = 108.595
  MINIMUM = 1
  STANDARD_DEVIATION = 37.0371
END_OBJECT = IMAGE
/* MAP OBJECT DEFINITIONS */
OBJECT = IMAGE_MAP_PROJECTION
  ^DATA_SET_MAP_PROJECTION_CATALOG= "DSMAP.CAT"
  A_AXIS_RADIUS = 3396.0
  B_AXIS_RADIUS = 3396.0
  C_AXIS_RADIUS = 3396.0
  CENTER_LATITUDE = 0.0
  CENTER_LONGITUDE = 223.0
  COORDINATE_SYSTEM_NAME = PLANETOGRAPHIC
  COORDINATE_SYSTEM_TYPE = "BODY-FIXED ROTATING"
  EASTERNMOST_LONGITUDE = 226.235
  FIRST_STANDARD_PARALLEL = "N/A"
  LINE_FIRST_PIXEL = 1
  LINE_LAST_PIXEL = 6780
  LINE_PROJECTION_OFFSET = 174253.25
  MAP_PROJECTION_ROTATION = 0.0
  MAP_PROJECTION_TYPE = SINUSOIDAL
  MAP_RESOLUTION = 2370.85521546667
  MAP_SCALE = 0.025
  MAXIMUM_LATITUDE = 73.5775
  MINIMUM_LATITUDE = 68.23650000000001
  POSITIVE_LONGITUDE_DIRECTION = EAST
  REFERENCE_LATITUDE = "N/A"
  REFERENCE_LONGITUDE = "N/A"
  SAMPLE_FIRST_PIXEL = 1
  SAMPLE_LAST_PIXEL = 4395
  SAMPLE_PROJECTION_OFFSET = 2450.75
  SECOND_STANDARD_PARALLEL = "N/A"
  WESTERNMOST_LONGITUDE = 219.576
END_OBJECT = IMAGE_MAP_PROJECTION
END
