PDS_VERSION_ID = PDS3
/* FILE DATA ELEMENTS */
RECORD_TYPE = UNDEFINED
/* POINTERS TO DATA OBJECTS */
^IMAGE = ("HQ429_0000_S24.TIF")
/* IDENTIFICATION DATA ELEMENTS */
DATA_SET_ID = "MEX-M-HRSC-4-REFDR-MAPPROJECT-EXT9-V4.0"
DATA_SET_NAME = "MARS EXPRESS HRSC MAP PROJECTED REFDR EXTENSION9 V4.0"
DETECTOR_ID = MEX_HRSC_S2
EVENT_TYPE = "MARS-REGIONAL-MAPPING-Te-Pf-La"
INSTRUMENT_HOST_ID = MEX
INSTRUMENT_HOST_NAME = "MARS EXPRESS"
INSTRUMENT_ID = HRSC
INSTRUMENT_NAME = "HIGH RESOLUTION STEREO CAMERA"
MISSION_NAME = "MARS EXPRESS"
MISSION_PHASE_NAME = ME_Phase_50
PROCESSING_LEVEL_ID = 4
PRODUCT_CREATION_TIME = 2025-01-29T19:26:23.000Z
PRODUCT_ID = "HQ429_0000_S24.TIF"
RELEASE_ID = 0022
REVISION_ID = 0000
/* QUALITY DATA ELEMENTS */
DATA_QUALITY_ID = 1
DATA_QUALITY_DESC = "Data calculated based on original SPICE kernels"
/* TIME DATA ELEMENTS */
SPACECRAFT_CLOCK_START_COUNT = "1/0681767375.64166"
SPACECRAFT_CLOCK_STOP_COUNT = "1/0681767639.24166"
START_TIME = 2024-12-08T19:51:38.359Z
STOP_TIME = 2024-12-08T19:54:49.790Z
/* ORBITAL DATA ELEMENTS */
ASCENDING_NODE_LONGITUDE = 85.1
MAXIMUM_RESOLUTION = 0.0353
FOOTPRINT_POINT_LATITUDE = (70.3775,70.3224,70.2588,70.1719, 70.1694,70.3165,69.9071,69.6343,69.3616 ,69.089,68.8164,68.5443,68.1362,67.7289 ,67.4572,67.1859,66.9148,66.6439,66.373 ,66.1021,65.8315,65.5613,65.291,64.886, 64.616,64.3462,64.0764,63.8073,63.5379, 63.269,63.0002,62.7314,62.4628,62.1944, 61.7918,61.2557,60.8538,60.1849,59.7734 ,59.4991,59.0882,58.8144,58.5407, 58.2671,57.9936,57.7203,57.447,57.1739, 56.8939,56.754,56.7313,56.7931,56.8208, 56.8491,56.85,56.851,57.1319,57.4099, 57.8215,58.0961,58.3704,58.645,58.92, 59.1949,59.4701,59.7456,60.1587,60.4318 ,60.9696,61.508,62.0473,62.3173,62.5874 ,62.8578,63.1284,63.5346,63.8055, 64.2125,64.62,64.8919,65.1638,65.436, 65.7086,65.9818,66.2548,66.5282,66.9385 ,67.2125,67.6238,67.8982,68.1727, 68.5855,68.861,69.1366,69.4129,69.689, 69.9655,70.381,70.5198,70.3775)
FOOTPRINT_POINT_LONGITUDE = (121.974,120.651,119.323,117.738, 117.696,117.394,117.639,117.796,117.949 ,118.096,118.239,118.377,118.577, 118.768,118.891,119.01,119.125,119.237, 119.346,119.452,119.555,119.654,119.752 ,119.893,119.984,120.072,120.158, 120.242,120.323,120.402,120.479,120.554 ,120.627,120.698,120.802,120.934, 121.028,121.178,121.266,121.322,121.404 ,121.457,121.509,121.559,121.608, 121.656,121.702,121.748,121.793,121.815 ,121.819,123.079,123.73,124.481,124.507 ,124.517,124.489,124.461,124.419,124.39 ,124.36,124.33,124.299,124.267,124.234, 124.201,124.149,124.114,124.043,123.968 ,123.89,123.849,123.808,123.765,123.722 ,123.654,123.607,123.536,123.461, 123.409,123.357,123.302,123.247,123.189 ,123.131,123.07,122.977,122.912,122.812 ,122.742,122.671,122.56,122.483,122.404 ,122.322,122.238,122.151,122.015, 121.969,121.974)
ORBIT_NUMBER = 26429
ORBITAL_ECCENTRICITY = 0.567
ORBITAL_INCLINATION = 87.12
ORBITAL_SEMIMAJOR_AXIS = 8774.61
PERIAPSIS_ALTITUDE = 416.54
PERIAPSIS_ARGUMENT_ANGLE = 115.05
PERIAPSIS_TIME = 2024-12-08T19:52:21.000Z
SPACECRAFT_ORIENTATION = (0.0,-1.0,0.0)
^MEX_ORIENTATION_DESC = "MEX_ORIENTATION_DESC.TXT"
SPACECRAFT_POINTING_MODE = INERT
^MEX_POINTING_DESC = "MEX_POINTING_DESC.TXT"
RIGHT_ASCENSION = 136.167
DECLINATION = -26.947
OFFSET_ANGLE = -1e+32
SPACECRAFT_SOLAR_DISTANCE = 2.3764e+08
TARGET_NAME = MARS
/* CAMERA DATA ELEMENTS */
DETECTOR_TEMPERATURE = 18.3705
FOCAL_PLANE_TEMPERATURE = 8.3794
INST_CMPRS_NAME = "DISCRETE COSINE TRANSFORMATION (DCT)"
INST_CMPRS_RATIO = 12.3832
INST_CMPRS_QUALITY = 0
INST_CMPRS_QUANTZ_TBL_ID = 0
INSTRUMENT_TEMPERATURE = 10.6223
LENS_TEMPERATURE = 8.7872
MACROPIXEL_SIZE = 2
MISSING_FRAMES = 0
PIXEL_SUBSAMPLING_FLAG = N
SIGNAL_CHAIN_ID = 1
/* RADIOMETRIC DATA ELEMENTS */
BANDWIDTH = 178.0
CENTER_FILTER_WAVELENGTH = 679.0
RADIANCE_OFFSET = 3.98885
RADIANCE_SCALING_FACTOR = 0.0191843
REFLECTANCE_SCALING_FACTOR = 0.000573739
MEX:REFLECTANCE_OFFSET = 0.119293
/* IMAGE OBJECT DEFINITIONS */
OBJECT = IMAGE
  INTERCHANGE_FORMAT = BINARY
  LINES = 32827
  LINE_SAMPLES = 6931
  SAMPLE_TYPE = UNSIGNED_INTEGER
  SAMPLE_BITS = 8
  BANDS = 1
  BAND_STORAGE_TYPE = BAND_SEQUENTIAL
  MAXIMUM = 255
  MEAN = 154.01
  MINIMUM = 1
  STANDARD_DEVIATION = 75.0016
END_OBJECT = IMAGE
/* MAP OBJECT DEFINITIONS */
OBJECT = IMAGE_MAP_PROJECTION
  ^DATA_SET_MAP_PROJECTION_CATALOG= "DSMAP.CAT"
  A_AXIS_RADIUS = 3396.0
  B_AXIS_RADIUS = 3396.0
  C_AXIS_RADIUS = 3396.0
  CENTER_LATITUDE = 0.0
  CENTER_LONGITUDE = 122.0
  COORDINATE_SYSTEM_NAME = PLANETOGRAPHIC
  COORDINATE_SYSTEM_TYPE = "BODY-FIXED ROTATING"
  EASTERNMOST_LONGITUDE = 124.517
  FIRST_STANDARD_PARALLEL = "N/A"
  LINE_FIRST_PIXEL = 1
  LINE_LAST_PIXEL = 32827
  LINE_PROJECTION_OFFSET = 167265.25
  MAP_PROJECTION_ROTATION = 0.0
  MAP_PROJECTION_TYPE = SINUSOIDAL
  MAP_RESOLUTION = 2370.85521546667
  MAP_SCALE = 0.025
  MAXIMUM_LATITUDE = 70.5198
  MINIMUM_LATITUDE = 56.7313
  POSITIVE_LONGITUDE_DIRECTION = EAST
  REFERENCE_LATITUDE = "N/A"
  REFERENCE_LONGITUDE = "N/A"
  SAMPLE_FIRST_PIXEL = 1
  SAMPLE_LAST_PIXEL = 6931
  SAMPLE_PROJECTION_OFFSET = 3461.75
  SECOND_STANDARD_PARALLEL = "N/A"
  WESTERNMOST_LONGITUDE = 117.394
END_OBJECT = IMAGE_MAP_PROJECTION
END
