PDS_VERSION_ID = PDS3
/* FILE DATA ELEMENTS */
RECORD_TYPE = UNDEFINED
/* POINTERS TO DATA OBJECTS */
^IMAGE = ("HQ430_0000_GR4.TIF")
/* IDENTIFICATION DATA ELEMENTS */
DATA_SET_ID = "MEX-M-HRSC-4-REFDR-MAPPROJECT-EXT9-V4.0"
DATA_SET_NAME = "MARS EXPRESS HRSC MAP PROJECTED REFDR EXTENSION9 V4.0"
DETECTOR_ID = MEX_HRSC_GREEN
EVENT_TYPE = "MARS-TERMINATOR-CALIBRATION-Tc"
INSTRUMENT_HOST_ID = MEX
INSTRUMENT_HOST_NAME = "MARS EXPRESS"
INSTRUMENT_ID = HRSC
INSTRUMENT_NAME = "HIGH RESOLUTION STEREO CAMERA"
MISSION_NAME = "MARS EXPRESS"
MISSION_PHASE_NAME = ME_Phase_50
PROCESSING_LEVEL_ID = 4
PRODUCT_CREATION_TIME = 2025-01-29T19:26:23.000Z
PRODUCT_ID = "HQ430_0000_GR4.TIF"
RELEASE_ID = 0022
REVISION_ID = 0000
/* QUALITY DATA ELEMENTS */
DATA_QUALITY_ID = 1
DATA_QUALITY_DESC = "Data calculated based on original SPICE kernels"
/* TIME DATA ELEMENTS */
SPACECRAFT_CLOCK_START_COUNT = "1/0681798273.65295"
SPACECRAFT_CLOCK_STOP_COUNT = "1/0681798730.58780"
START_TIME = 2024-12-09T04:26:48.371Z
STOP_TIME = 2024-12-09T04:30:56.369Z
/* ORBITAL DATA ELEMENTS */
ASCENDING_NODE_LONGITUDE = 85.08
MAXIMUM_RESOLUTION = 0.5942
FOOTPRINT_POINT_LATITUDE = (-8.41372,-8.17043,-8.67636,-8.72286, -7.07769,-6.84736,-8.17305,-7.63994, -5.93025,-7.82532,-5.31489,-7.91897, -5.15999,-7.92074,-5.06405,-7.88907, -5.38433,-7.64694,-5.13501,-7.52893, -4.63663,-7.17775,-10.5528,-15.1966, -18.4937,-21.6217,-26.4834,-29.3351, -32.5234,-36.4288,-38.6013,-41.8079, -43.717,-45.6502,-46.677,-46.8438, -46.2929,-44.545,-42.0037,-40.1091, -37.238,-35.1655,-32.7175,-27.303, -23.666,-20.8545,-18.8651,-21.7623, -22.671,-20.1005,-23.1667,-23.6202, -23.9575,-23.4574,-24.8254,-24.5891, -26.2656,-27.2196,-26.1901,-28.7215, -28.7189,-28.928,-32.3316,-36.9871, -40.077,-44.6879,-48.27,-51.2528, -55.7854,-59.6728,-65.1147,-67.9882, -71.7731,-75.3276,-76.6568,-77.6811, -77.4997,-76.4013,-74.6034,-72.7441, -70.5857,-67.1187,-64.9191,-60.8945, -58.2042,-55.6706,-51.911,-47.7651, -42.7577,-39.1624,-36.6837,-33.4922, -30.892,-28.0647,-25.5283,-21.4105, -18.3061,-14.9361,-12.2934,-8.41372)
FOOTPRINT_POINT_LONGITUDE = (415.408,415.437,415.266,410.811, 407.021,404.204,401.63,397.133,393.099, 391.014,389.65,389.428,386.951,385.645, 384.724,383.208,382.599,381.298,380.845 ,379.322,378.03,375.419,375.137,374.378 ,373.553,372.516,370.328,368.653, 366.312,362.555,359.838,354.668,350.365 ,343.839,337.276,329.472,323.986, 316.246,309.641,306.291,302.376,300.114 ,297.909,294.266,292.536,291.48,288.54, 284.68,281.094,280.377,278.543,274.846, 271.42,266.738,263.56,259.493,254.71, 251.231,249.79,248.231,248.056,247.943, 248.721,249.936,250.862,252.469,253.957 ,255.407,258.101,261.082,266.962, 271.415,280.025,294.616,304.76,321.946, 340.349,354.669,366.395,374.043,380.325 ,387.365,390.671,395.333,397.773, 399.725,402.161,404.383,406.593,407.951 ,408.799,409.803,410.556,411.316, 411.954,412.91,413.577,414.254,414.755, 415.408)
ORBIT_NUMBER = 26430
ORBITAL_ECCENTRICITY = 0.567
ORBITAL_INCLINATION = 87.12
ORBITAL_SEMIMAJOR_AXIS = 8773.5
PERIAPSIS_ALTITUDE = 416.99
PERIAPSIS_ARGUMENT_ANGLE = 114.88
PERIAPSIS_TIME = 2024-12-09T02:51:25.000Z
SPACECRAFT_ORIENTATION = (0.0,-1.0,0.0)
^MEX_ORIENTATION_DESC = "MEX_ORIENTATION_DESC.TXT"
SPACECRAFT_POINTING_MODE = FIXED
^MEX_POINTING_DESC = "MEX_POINTING_DESC.TXT"
RIGHT_ASCENSION = -1e+32
DECLINATION = -1e+32
OFFSET_ANGLE = -1e+32
SPACECRAFT_SOLAR_DISTANCE = 2.37688e+08
TARGET_NAME = MARS
/* CAMERA DATA ELEMENTS */
DETECTOR_TEMPERATURE = 18.5744
FOCAL_PLANE_TEMPERATURE = 9.6028
INST_CMPRS_NAME = "DISCRETE COSINE TRANSFORMATION (DCT)"
INST_CMPRS_RATIO = 9.38358
INST_CMPRS_QUALITY = 0
INST_CMPRS_QUANTZ_TBL_ID = 0
INSTRUMENT_TEMPERATURE = 11.0301
LENS_TEMPERATURE = 10.0106
MACROPIXEL_SIZE = 2
MISSING_FRAMES = 0
PIXEL_SUBSAMPLING_FLAG = N
SIGNAL_CHAIN_ID = 2
/* RADIOMETRIC DATA ELEMENTS */
BANDWIDTH = 88.0
CENTER_FILTER_WAVELENGTH = 538.0
RADIANCE_OFFSET = 0.0
RADIANCE_SCALING_FACTOR = 0.0100242
REFLECTANCE_SCALING_FACTOR = 0.000487636
MEX:REFLECTANCE_OFFSET = 0.0
/* IMAGE OBJECT DEFINITIONS */
OBJECT = IMAGE
  INTERCHANGE_FORMAT = BINARY
  LINES = 10111
  LINE_SAMPLES = 15057
  SAMPLE_TYPE = UNSIGNED_INTEGER
  SAMPLE_BITS = 8
  BANDS = 1
  BAND_STORAGE_TYPE = BAND_SEQUENTIAL
  MAXIMUM = 255
  MEAN = 171.512
  MINIMUM = 41
  STANDARD_DEVIATION = 64.0254
END_OBJECT = IMAGE
/* MAP OBJECT DEFINITIONS */
OBJECT = IMAGE_MAP_PROJECTION
  ^DATA_SET_MAP_PROJECTION_CATALOG= "DSMAP.CAT"
  A_AXIS_RADIUS = 3396.0
  B_AXIS_RADIUS = 3396.0
  C_AXIS_RADIUS = 3396.0
  CENTER_LATITUDE = -62.4131
  CENTER_LONGITUDE = 351.762
  COORDINATE_SYSTEM_NAME = PLANETOGRAPHIC
  COORDINATE_SYSTEM_TYPE = "BODY-FIXED ROTATING"
  EASTERNMOST_LONGITUDE = 55.437
  FIRST_STANDARD_PARALLEL = "N/A"
  LINE_FIRST_PIXEL = 1
  LINE_LAST_PIXEL = 10111
  LINE_PROJECTION_OFFSET = 6407.25
  MAP_PROJECTION_ROTATION = 0.0
  MAP_PROJECTION_TYPE = ORTHOGRAPHIC
  MAP_RESOLUTION = 148.178450966667
  MAP_SCALE = 0.4
  MAXIMUM_LATITUDE = -4.63663
  MINIMUM_LATITUDE = -77.6811
  POSITIVE_LONGITUDE_DIRECTION = EAST
  REFERENCE_LATITUDE = "N/A"
  REFERENCE_LONGITUDE = "N/A"
  SAMPLE_FIRST_PIXEL = 1
  SAMPLE_LAST_PIXEL = 15057
  SAMPLE_PROJECTION_OFFSET = 7558.25
  SECOND_STANDARD_PARALLEL = "N/A"
  WESTERNMOST_LONGITUDE = -112.057
END_OBJECT = IMAGE_MAP_PROJECTION
END
