PDS_VERSION_ID = PDS3
/* FILE DATA ELEMENTS */
RECORD_TYPE = UNDEFINED
/* POINTERS TO DATA OBJECTS */
^IMAGE = ("HQ431_0000_RE4.TIF")
/* IDENTIFICATION DATA ELEMENTS */
DATA_SET_ID = "MEX-M-HRSC-4-REFDR-MAPPROJECT-EXT9-V4.0"
DATA_SET_NAME = "MARS EXPRESS HRSC MAP PROJECTED REFDR EXTENSION9 V4.0"
DETECTOR_ID = MEX_HRSC_RED
EVENT_TYPE = "MARS-REGIONAL-MAPPING-Im-Pf-La"
INSTRUMENT_HOST_ID = MEX
INSTRUMENT_HOST_NAME = "MARS EXPRESS"
INSTRUMENT_ID = HRSC
INSTRUMENT_NAME = "HIGH RESOLUTION STEREO CAMERA"
MISSION_NAME = "MARS EXPRESS"
MISSION_PHASE_NAME = ME_Phase_50
PROCESSING_LEVEL_ID = 4
PRODUCT_CREATION_TIME = 2025-01-29T19:26:23.000Z
PRODUCT_ID = "HQ431_0000_RE4.TIF"
RELEASE_ID = 0022
REVISION_ID = 0000
/* QUALITY DATA ELEMENTS */
DATA_QUALITY_ID = 1
DATA_QUALITY_DESC = "Data calculated based on original SPICE kernels"
/* TIME DATA ELEMENTS */
SPACECRAFT_CLOCK_START_COUNT = "1/0681817605.00327"
SPACECRAFT_CLOCK_STOP_COUNT = "1/0681817939.30879"
START_TIME = 2024-12-09T09:48:43.476Z
STOP_TIME = 2024-12-09T09:53:04.233Z
/* ORBITAL DATA ELEMENTS */
ASCENDING_NODE_LONGITUDE = 85.07
MAXIMUM_RESOLUTION = 0.069
FOOTPRINT_POINT_LATITUDE = (75.3069,75.2108,75.1254,75.0298, 75.0267,75.1914,74.8073,74.4234,74.0398 ,73.6563,73.2715,72.8896,72.3175,71.945 ,71.5725,71.2004,70.8287,70.4573, 70.0864,69.7155,69.3449,68.9747,68.6048 ,68.2351,67.681,67.1271,66.7585,66.3903 ,66.0223,65.6544,65.287,64.9199,64.5529 ,64.1862,63.8198,63.0875,62.3564, 61.6261,60.8965,60.3382,59.9645,59.5909 ,59.2175,58.8443,58.4713,58.0983, 57.7257,57.1538,56.7719,56.581,56.5786, 56.6239,56.6683,56.7223,56.7234,56.725, 57.1078,57.4907,58.0595,58.6205,59.182, 59.5566,60.1188,60.4936,61.0543,61.7871 ,62.5208,63.2556,63.9916,64.3601, 64.7288,65.0979,65.4678,65.8373,66.2076 ,66.5781,66.9496,67.5068,68.0652, 68.4378,68.8109,69.1842,69.5581,69.9322 ,70.307,70.6821,71.0578,71.4341,71.8107 ,72.1877,72.5653,72.9519,73.3407, 73.7301,74.1198,74.5106,74.9017,75.2933 ,75.4894,75.3069)
FOOTPRINT_POINT_LONGITUDE = (279.304,276.973,275.243,273.548, 273.496,273.296,273.594,273.876,274.143 ,274.396,274.638,274.866,275.187, 275.384,275.573,275.753,275.925,276.089 ,276.247,276.398,276.543,276.681, 276.815,276.943,277.125,277.298,277.407 ,277.513,277.614,277.712,277.806, 277.897,277.985,278.07,278.151,278.307, 278.451,278.587,278.713,278.805,278.864 ,278.92,278.975,279.029,279.08,279.13, 279.178,279.25,279.295,279.318,279.318, 280.055,280.851,281.964,281.99,281.998, 281.975,281.952,281.916,281.88,281.842, 281.816,281.776,281.748,281.706,281.649 ,281.588,281.525,281.457,281.422, 281.385,281.348,281.31,281.27,281.229, 281.187,281.144,281.076,281.005,280.956 ,280.904,280.851,280.795,280.738, 280.678,280.616,280.551,280.484,280.414 ,280.341,280.264,280.183,280.097, 280.008,279.913,279.814,279.71,279.599, 279.542,279.304)
ORBIT_NUMBER = 26431
ORBITAL_ECCENTRICITY = 0.567
ORBITAL_INCLINATION = 87.12
ORBITAL_SEMIMAJOR_AXIS = 8772.16
PERIAPSIS_ALTITUDE = 416.69
PERIAPSIS_ARGUMENT_ANGLE = 114.72
PERIAPSIS_TIME = 2024-12-09T09:50:37.000Z
SPACECRAFT_ORIENTATION = (0.0,-1.0,0.0)
^MEX_ORIENTATION_DESC = "MEX_ORIENTATION_DESC.TXT"
SPACECRAFT_POINTING_MODE = INERT
^MEX_POINTING_DESC = "MEX_POINTING_DESC.TXT"
RIGHT_ASCENSION = 127.507
DECLINATION = -29.272
OFFSET_ANGLE = -1e+32
SPACECRAFT_SOLAR_DISTANCE = 2.37736e+08
TARGET_NAME = MARS
/* CAMERA DATA ELEMENTS */
DETECTOR_TEMPERATURE = 18.3705
FOCAL_PLANE_TEMPERATURE = 8.1755
INST_CMPRS_NAME = "DISCRETE COSINE TRANSFORMATION (DCT)"
INST_CMPRS_RATIO = 24.2316
INST_CMPRS_QUALITY = 0
INST_CMPRS_QUANTZ_TBL_ID = 0
INSTRUMENT_TEMPERATURE = 10.6223
LENS_TEMPERATURE = 9.195
MACROPIXEL_SIZE = 4
MISSING_FRAMES = 0
PIXEL_SUBSAMPLING_FLAG = N
SIGNAL_CHAIN_ID = 2
/* RADIOMETRIC DATA ELEMENTS */
BANDWIDTH = 48.0
CENTER_FILTER_WAVELENGTH = 748.0
RADIANCE_OFFSET = 0.9362
RADIANCE_SCALING_FACTOR = 0.0045789
REFLECTANCE_SCALING_FACTOR = 0.000590581
MEX:REFLECTANCE_OFFSET = 0.12075
/* IMAGE OBJECT DEFINITIONS */
OBJECT = IMAGE
  INTERCHANGE_FORMAT = BINARY
  LINES = 22344
  LINE_SAMPLES = 3411
  SAMPLE_TYPE = UNSIGNED_INTEGER
  SAMPLE_BITS = 8
  BANDS = 1
  BAND_STORAGE_TYPE = BAND_SEQUENTIAL
  MAXIMUM = 255
  MEAN = 143.494
  MINIMUM = 1
  STANDARD_DEVIATION = 50.3928
END_OBJECT = IMAGE
/* MAP OBJECT DEFINITIONS */
OBJECT = IMAGE_MAP_PROJECTION
  ^DATA_SET_MAP_PROJECTION_CATALOG= "DSMAP.CAT"
  A_AXIS_RADIUS = 3396.0
  B_AXIS_RADIUS = 3396.0
  C_AXIS_RADIUS = 3396.0
  CENTER_LATITUDE = 0.0
  CENTER_LONGITUDE = 280.0
  COORDINATE_SYSTEM_NAME = PLANETOGRAPHIC
  COORDINATE_SYSTEM_TYPE = "BODY-FIXED ROTATING"
  EASTERNMOST_LONGITUDE = 281.998
  FIRST_STANDARD_PARALLEL = "N/A"
  LINE_FIRST_PIXEL = 1
  LINE_LAST_PIXEL = 22344
  LINE_PROJECTION_OFFSET = 89385.625
  MAP_PROJECTION_ROTATION = 0.0
  MAP_PROJECTION_TYPE = SINUSOIDAL
  MAP_RESOLUTION = 1185.42760773333
  MAP_SCALE = 0.05
  MAXIMUM_LATITUDE = 75.4894
  MINIMUM_LATITUDE = 56.5786
  POSITIVE_LONGITUDE_DIRECTION = EAST
  REFERENCE_LATITUDE = "N/A"
  REFERENCE_LONGITUDE = "N/A"
  SAMPLE_FIRST_PIXEL = 1
  SAMPLE_LAST_PIXEL = 3411
  SAMPLE_PROJECTION_OFFSET = 1984.875
  SECOND_STANDARD_PARALLEL = "N/A"
  WESTERNMOST_LONGITUDE = 273.296
END_OBJECT = IMAGE_MAP_PROJECTION
END
