PDS_VERSION_ID = PDS3
/* FILE DATA ELEMENTS */
RECORD_TYPE = UNDEFINED
/* POINTERS TO DATA OBJECTS */
^IMAGE = ("HQ433_0000_BL4.TIF")
/* IDENTIFICATION DATA ELEMENTS */
DATA_SET_ID = "MEX-M-HRSC-4-REFDR-MAPPROJECT-EXT9-V4.0"
DATA_SET_NAME = "MARS EXPRESS HRSC MAP PROJECTED REFDR EXTENSION9 V4.0"
DETECTOR_ID = MEX_HRSC_BLUE
EVENT_TYPE = "MARS-REGIONAL-MAPPING-Pf-La"
INSTRUMENT_HOST_ID = MEX
INSTRUMENT_HOST_NAME = "MARS EXPRESS"
INSTRUMENT_ID = HRSC
INSTRUMENT_NAME = "HIGH RESOLUTION STEREO CAMERA"
MISSION_NAME = "MARS EXPRESS"
MISSION_PHASE_NAME = ME_Phase_50
PROCESSING_LEVEL_ID = 4
PRODUCT_CREATION_TIME = 2025-01-29T19:26:23.000Z
PRODUCT_ID = "HQ433_0000_BL4.TIF"
RELEASE_ID = 0022
REVISION_ID = 0000
/* QUALITY DATA ELEMENTS */
DATA_QUALITY_ID = 1
DATA_QUALITY_DESC = "Data calculated based on original SPICE kernels"
/* TIME DATA ELEMENTS */
SPACECRAFT_CLOCK_START_COUNT = "1/0681867911.64184"
SPACECRAFT_CLOCK_STOP_COUNT = "1/0681868214.48514"
START_TIME = 2024-12-09T23:46:45.532Z
STOP_TIME = 2024-12-09T23:50:37.292Z
/* ORBITAL DATA ELEMENTS */
ASCENDING_NODE_LONGITUDE = 85.03
MAXIMUM_RESOLUTION = 0.0669
FOOTPRINT_POINT_LATITUDE = (74.4088,74.3445,74.2544,74.1471, 74.1441,74.203,73.8716,73.54,73.2082, 72.8764,72.5442,72.2121,71.8798,71.5474 ,71.2228,70.8987,70.5746,70.2504, 69.9261,69.6018,69.2773,68.9528,68.6284 ,68.1415,67.8169,67.4922,67.1674, 66.8426,66.5178,66.1929,65.868,65.543, 65.218,64.8929,64.0801,63.4295,62.7788, 62.1278,61.4765,60.9879,60.3361,59.684, 59.1946,58.5382,58.0356,57.868,57.8514, 57.9185,57.9536,57.9882,57.9892,57.9907 ,58.4952,58.831,59.1585,59.4859,59.9769 ,60.3043,60.6316,60.9588,61.286,61.6132 ,61.9403,62.2674,62.5946,62.9217, 63.2488,63.576,63.9031,64.2302,64.5574, 64.8845,65.2118,65.539,65.8663,66.1936, 66.521,67.0121,67.3397,67.831,68.1586, 68.4863,68.8141,69.3056,69.6338,69.9618 ,70.29,70.6182,70.9465,71.2749,71.6034, 71.9366,72.2738,72.6112,72.9489,73.4554 ,73.7933,74.3003,74.4694,74.4088)
FOOTPRINT_POINT_LONGITUDE = (73.3334,71.7911,69.9682,68.1171, 68.0687,67.8512,68.1231,68.3831,68.6319 ,68.8696,69.0978,69.3161,69.5257, 69.7269,69.9154,70.0963,70.2705,70.4382 ,70.5996,70.7552,70.9054,71.0502, 71.1894,71.39,71.5178,71.6413,71.7607, 71.8763,71.9879,72.0958,72.2003,72.3015 ,72.3998,72.4942,72.7187,72.8857, 73.0428,73.1907,73.3298,73.4286,73.5539 ,73.672,73.7561,73.8634,73.9414,73.9666 ,73.9691,75.1617,75.8913,76.727,76.7531 ,76.7617,76.7152,76.6836,76.6518, 76.6194,76.5693,76.5342,76.4989,76.4626 ,76.4254,76.3873,76.3483,76.3081,76.267 ,76.2247,76.1814,76.1368,76.091,76.0438 ,75.9954,75.9453,75.8942,75.8414,75.787 ,75.731,75.6733,75.5835,75.5214,75.4241 ,75.3567,75.287,75.215,75.1018,75.024, 74.9429,74.8589,74.7718,74.6815,74.5878 ,74.4906,74.3881,74.2801,74.1677, 74.0509,73.8657,73.7356,73.5293,73.4575 ,73.3334)
ORBIT_NUMBER = 26433
ORBITAL_ECCENTRICITY = 0.567
ORBITAL_INCLINATION = 87.13
ORBITAL_SEMIMAJOR_AXIS = 8773.93
PERIAPSIS_ALTITUDE = 416.02
PERIAPSIS_ARGUMENT_ANGLE = 114.37
PERIAPSIS_TIME = 2024-12-09T23:48:46.000Z
SPACECRAFT_ORIENTATION = (0.0,-1.0,0.0)
^MEX_ORIENTATION_DESC = "MEX_ORIENTATION_DESC.TXT"
SPACECRAFT_POINTING_MODE = INERT
^MEX_POINTING_DESC = "MEX_POINTING_DESC.TXT"
RIGHT_ASCENSION = 132.377
DECLINATION = -29.659
OFFSET_ANGLE = -1e+32
SPACECRAFT_SOLAR_DISTANCE = 2.37833e+08
TARGET_NAME = MARS
/* CAMERA DATA ELEMENTS */
DETECTOR_TEMPERATURE = 17.5549
FOCAL_PLANE_TEMPERATURE = 8.1755
INST_CMPRS_NAME = "DISCRETE COSINE TRANSFORMATION (DCT)"
INST_CMPRS_RATIO = 30.1197
INST_CMPRS_QUALITY = 0
INST_CMPRS_QUANTZ_TBL_ID = 0
INSTRUMENT_TEMPERATURE = 10.8262
LENS_TEMPERATURE = 8.7872
MACROPIXEL_SIZE = 4
MISSING_FRAMES = 0
PIXEL_SUBSAMPLING_FLAG = N
SIGNAL_CHAIN_ID = 2
/* RADIOMETRIC DATA ELEMENTS */
BANDWIDTH = 76.0
CENTER_FILTER_WAVELENGTH = 444.0
RADIANCE_OFFSET = 0.923155
RADIANCE_SCALING_FACTOR = 0.00153083
REFLECTANCE_SCALING_FACTOR = 8.89666e-05
MEX:REFLECTANCE_OFFSET = 0.0536504
/* IMAGE OBJECT DEFINITIONS */
OBJECT = IMAGE
  INTERCHANGE_FORMAT = BINARY
  LINES = 19684
  LINE_SAMPLES = 3728
  SAMPLE_TYPE = UNSIGNED_INTEGER
  SAMPLE_BITS = 8
  BANDS = 1
  BAND_STORAGE_TYPE = BAND_SEQUENTIAL
  MAXIMUM = 255
  MEAN = 240.112
  MINIMUM = 1
  STANDARD_DEVIATION = 31.0607
END_OBJECT = IMAGE
/* MAP OBJECT DEFINITIONS */
OBJECT = IMAGE_MAP_PROJECTION
  ^DATA_SET_MAP_PROJECTION_CATALOG= "DSMAP.CAT"
  A_AXIS_RADIUS = 3396.0
  B_AXIS_RADIUS = 3396.0
  C_AXIS_RADIUS = 3396.0
  CENTER_LATITUDE = 0.0
  CENTER_LONGITUDE = 74.0
  COORDINATE_SYSTEM_NAME = PLANETOGRAPHIC
  COORDINATE_SYSTEM_TYPE = "BODY-FIXED ROTATING"
  EASTERNMOST_LONGITUDE = 76.7617
  FIRST_STANDARD_PARALLEL = "N/A"
  LINE_FIRST_PIXEL = 1
  LINE_LAST_PIXEL = 19684
  LINE_PROJECTION_OFFSET = 88274.125
  MAP_PROJECTION_ROTATION = 0.0
  MAP_PROJECTION_TYPE = SINUSOIDAL
  MAP_RESOLUTION = 1185.42760773333
  MAP_SCALE = 0.05
  MAXIMUM_LATITUDE = 74.46939999999999
  MINIMUM_LATITUDE = 57.8514
  POSITIVE_LONGITUDE_DIRECTION = EAST
  REFERENCE_LATITUDE = "N/A"
  REFERENCE_LONGITUDE = "N/A"
  SAMPLE_FIRST_PIXEL = 1
  SAMPLE_LAST_PIXEL = 3728
  SAMPLE_PROJECTION_OFFSET = 1971.375
  SECOND_STANDARD_PARALLEL = "N/A"
  WESTERNMOST_LONGITUDE = 67.85120000000001
END_OBJECT = IMAGE_MAP_PROJECTION
END
