PDS_VERSION_ID = PDS3
/* FILE DATA ELEMENTS */
RECORD_TYPE = UNDEFINED
/* POINTERS TO DATA OBJECTS */
^IMAGE = ("HQ433_0000_RE4.TIF")
/* IDENTIFICATION DATA ELEMENTS */
DATA_SET_ID = "MEX-M-HRSC-4-REFDR-MAPPROJECT-EXT9-V4.0"
DATA_SET_NAME = "MARS EXPRESS HRSC MAP PROJECTED REFDR EXTENSION9 V4.0"
DETECTOR_ID = MEX_HRSC_RED
EVENT_TYPE = "MARS-REGIONAL-MAPPING-Pf-La"
INSTRUMENT_HOST_ID = MEX
INSTRUMENT_HOST_NAME = "MARS EXPRESS"
INSTRUMENT_ID = HRSC
INSTRUMENT_NAME = "HIGH RESOLUTION STEREO CAMERA"
MISSION_NAME = "MARS EXPRESS"
MISSION_PHASE_NAME = ME_Phase_50
PROCESSING_LEVEL_ID = 4
PRODUCT_CREATION_TIME = 2025-01-29T19:26:23.000Z
PRODUCT_ID = "HQ433_0000_RE4.TIF"
RELEASE_ID = 0022
REVISION_ID = 0000
/* QUALITY DATA ELEMENTS */
DATA_QUALITY_ID = 1
DATA_QUALITY_DESC = "Data calculated based on original SPICE kernels"
/* TIME DATA ELEMENTS */
SPACECRAFT_CLOCK_START_COUNT = "1/0681867911.64184"
SPACECRAFT_CLOCK_STOP_COUNT = "1/0681868214.48514"
START_TIME = 2024-12-09T23:47:09.761Z
STOP_TIME = 2024-12-09T23:50:59.657Z
/* ORBITAL DATA ELEMENTS */
ASCENDING_NODE_LONGITUDE = 85.03
MAXIMUM_RESOLUTION = 0.0689
FOOTPRINT_POINT_LATITUDE = (74.3258,74.2688,74.1789,74.0605, 74.0575,74.1987,73.8617,73.5247,73.1879 ,72.86,72.5318,72.2039,71.7123,71.2211, 70.8938,70.5667,70.2396,69.9128,69.586, 69.2594,68.9329,68.607,68.281,67.9549, 67.6293,67.3037,66.9783,66.6529,66.3278 ,66.0031,65.5158,65.191,64.867,64.3807, 64.0565,63.571,63.2472,62.9238,62.2772, 61.6315,60.9861,60.3412,59.8471,59.5168 ,59.1861,58.8557,58.5255,58.0302, 57.8652,57.8629,57.9344,57.9981,57.9991 ,58.0006,58.3315,58.8287,59.326,59.8237 ,60.1553,60.4854,61.1331,61.7816, 62.4306,62.7555,63.0809,63.4061,63.7316 ,64.0574,64.5462,64.8723,65.199,65.5257 ,65.8527,66.1799,66.5074,66.8352, 67.1636,67.6562,67.9848,68.3138,68.6431 ,68.9728,69.3019,69.6328,69.9633, 70.2941,70.6253,70.9568,71.2887,71.6208 ,71.9534,72.2861,72.6191,72.953,73.2865 ,73.6253,73.9689,74.3128,74.485, 74.3258)
FOOTPRINT_POINT_LONGITUDE = (73.3089,71.9499,70.1047,68.0334, 67.9843,67.6902,67.9709,68.2387,68.4947 ,68.7326,68.9612,69.1798,69.4913, 69.7838,69.9693,70.1477,70.3192,70.4842 ,70.6432,70.7963,70.9439,71.0855, 71.2226,71.355,71.4825,71.6058,71.7249, 71.8401,71.9513,72.0586,72.2135,72.3129 ,72.4081,72.546,72.6347,72.7618,72.8436 ,72.9227,73.0738,73.2154,73.349,73.4747 ,73.5663,73.6248,73.6824,73.7379, 73.7916,73.8696,73.8947,73.895,75.1931, 76.6007,76.6263,76.6348,76.6051,76.56, 76.5129,76.464,76.4299,76.3956,76.3256, 76.2517,76.1738,76.1333,76.0919,76.049, 76.005,75.9597,75.8891,75.8403,75.7903, 75.7386,75.6853,75.6304,75.5738,75.5154 ,75.4554,75.3613,75.2958,75.2282, 75.1583,75.0861,75.0107,74.9336,74.8533 ,74.7699,74.6836,74.5939,74.5008,74.404 ,74.3033,74.1984,74.0892,73.9757, 73.8568,73.7317,73.5988,73.4597,73.3878 ,73.3089)
ORBIT_NUMBER = 26433
ORBITAL_ECCENTRICITY = 0.567
ORBITAL_INCLINATION = 87.13
ORBITAL_SEMIMAJOR_AXIS = 8773.93
PERIAPSIS_ALTITUDE = 416.02
PERIAPSIS_ARGUMENT_ANGLE = 114.37
PERIAPSIS_TIME = 2024-12-09T23:48:46.000Z
SPACECRAFT_ORIENTATION = (0.0,-1.0,0.0)
^MEX_ORIENTATION_DESC = "MEX_ORIENTATION_DESC.TXT"
SPACECRAFT_POINTING_MODE = INERT
^MEX_POINTING_DESC = "MEX_POINTING_DESC.TXT"
RIGHT_ASCENSION = 132.377
DECLINATION = -29.659
OFFSET_ANGLE = -1e+32
SPACECRAFT_SOLAR_DISTANCE = 2.37833e+08
TARGET_NAME = MARS
/* CAMERA DATA ELEMENTS */
DETECTOR_TEMPERATURE = 18.3705
FOCAL_PLANE_TEMPERATURE = 8.1755
INST_CMPRS_NAME = "DISCRETE COSINE TRANSFORMATION (DCT)"
INST_CMPRS_RATIO = 20.6612
INST_CMPRS_QUALITY = 0
INST_CMPRS_QUANTZ_TBL_ID = 0
INSTRUMENT_TEMPERATURE = 10.8262
LENS_TEMPERATURE = 8.7872
MACROPIXEL_SIZE = 4
MISSING_FRAMES = 0
PIXEL_SUBSAMPLING_FLAG = N
SIGNAL_CHAIN_ID = 2
/* RADIOMETRIC DATA ELEMENTS */
BANDWIDTH = 48.0
CENTER_FILTER_WAVELENGTH = 748.0
RADIANCE_OFFSET = 1.00336
RADIANCE_SCALING_FACTOR = 0.00571172
REFLECTANCE_SCALING_FACTOR = 0.000737285
MEX:REFLECTANCE_OFFSET = 0.129516
/* IMAGE OBJECT DEFINITIONS */
OBJECT = IMAGE
  INTERCHANGE_FORMAT = BINARY
  LINES = 19684
  LINE_SAMPLES = 3728
  SAMPLE_TYPE = UNSIGNED_INTEGER
  SAMPLE_BITS = 8
  BANDS = 1
  BAND_STORAGE_TYPE = BAND_SEQUENTIAL
  MAXIMUM = 255
  MEAN = 152.735
  MINIMUM = 1
  STANDARD_DEVIATION = 62.3284
END_OBJECT = IMAGE
/* MAP OBJECT DEFINITIONS */
OBJECT = IMAGE_MAP_PROJECTION
  ^DATA_SET_MAP_PROJECTION_CATALOG= "DSMAP.CAT"
  A_AXIS_RADIUS = 3396.0
  B_AXIS_RADIUS = 3396.0
  C_AXIS_RADIUS = 3396.0
  CENTER_LATITUDE = 0.0
  CENTER_LONGITUDE = 74.0
  COORDINATE_SYSTEM_NAME = PLANETOGRAPHIC
  COORDINATE_SYSTEM_TYPE = "BODY-FIXED ROTATING"
  EASTERNMOST_LONGITUDE = 76.6348
  FIRST_STANDARD_PARALLEL = "N/A"
  LINE_FIRST_PIXEL = 1
  LINE_LAST_PIXEL = 19684
  LINE_PROJECTION_OFFSET = 88274.125
  MAP_PROJECTION_ROTATION = 0.0
  MAP_PROJECTION_TYPE = SINUSOIDAL
  MAP_RESOLUTION = 1185.42760773333
  MAP_SCALE = 0.05
  MAXIMUM_LATITUDE = 74.485
  MINIMUM_LATITUDE = 57.8629
  POSITIVE_LONGITUDE_DIRECTION = EAST
  REFERENCE_LATITUDE = "N/A"
  REFERENCE_LONGITUDE = "N/A"
  SAMPLE_FIRST_PIXEL = 1
  SAMPLE_LAST_PIXEL = 3728
  SAMPLE_PROJECTION_OFFSET = 1971.375
  SECOND_STANDARD_PARALLEL = "N/A"
  WESTERNMOST_LONGITUDE = 67.6902
END_OBJECT = IMAGE_MAP_PROJECTION
END
