PDS_VERSION_ID = PDS3
/* FILE DATA ELEMENTS */
RECORD_TYPE = UNDEFINED
/* POINTERS TO DATA OBJECTS */
^IMAGE = ("HQ434_0000_P24.TIF")
/* IDENTIFICATION DATA ELEMENTS */
DATA_SET_ID = "MEX-M-HRSC-4-REFDR-MAPPROJECT-EXT9-V4.0"
DATA_SET_NAME = "MARS EXPRESS HRSC MAP PROJECTED REFDR EXTENSION9 V4.0"
DETECTOR_ID = MEX_HRSC_P2
EVENT_TYPE = "MARS-REGIONAL-MAPPING-Im-Pf-La"
INSTRUMENT_HOST_ID = MEX
INSTRUMENT_HOST_NAME = "MARS EXPRESS"
INSTRUMENT_ID = HRSC
INSTRUMENT_NAME = "HIGH RESOLUTION STEREO CAMERA"
MISSION_NAME = "MARS EXPRESS"
MISSION_PHASE_NAME = ME_Phase_50
PROCESSING_LEVEL_ID = 4
PRODUCT_CREATION_TIME = 2025-01-29T19:26:23.000Z
PRODUCT_ID = "HQ434_0000_P24.TIF"
RELEASE_ID = 0022
REVISION_ID = 0000
/* QUALITY DATA ELEMENTS */
DATA_QUALITY_ID = 1
DATA_QUALITY_DESC = "Data calculated based on original SPICE kernels"
/* TIME DATA ELEMENTS */
SPACECRAFT_CLOCK_START_COUNT = "1/0681893065.00338"
SPACECRAFT_CLOCK_STOP_COUNT = "1/0681893356.34068"
START_TIME = 2024-12-10T06:46:16.109Z
STOP_TIME = 2024-12-10T06:49:55.855Z
/* ORBITAL DATA ELEMENTS */
ASCENDING_NODE_LONGITUDE = 85.02
MAXIMUM_RESOLUTION = 0.0343
FOOTPRINT_POINT_LATITUDE = (73.9253,73.8441,73.7678,73.6669, 73.6638,73.7877,73.3091,72.99,72.6709, 72.3591,72.0482,71.7375,71.4269,71.1163 ,70.8057,70.4951,70.1846,69.8744,69.409 ,69.0985,68.7888,68.4789,68.1692, 67.8595,67.5497,67.2402,66.9309,66.4669 ,66.1575,65.8485,65.5394,65.0763, 64.7676,64.4589,64.1504,63.5335,62.9171 ,62.301,61.6849,61.0693,60.4539,59.9832 ,59.6676,59.3521,59.0366,58.7212, 58.4058,58.2481,58.2142,58.2505,58.2906 ,58.3218,58.3531,58.3542,58.3552, 58.6716,58.988,59.3045,59.6212,59.9379, 60.2548,60.57,61.3426,61.8065,62.4254, 63.0448,63.82,64.1302,64.4408,64.7513, 65.0621,65.373,65.6842,65.9954,66.3069, 66.6184,66.9302,67.2422,67.5544,67.8668 ,68.1793,68.4922,68.9623,69.2755, 69.5893,69.9027,70.2167,70.5309,70.8453 ,71.1603,71.4753,71.7907,72.1063,72.422 ,72.7379,73.0587,73.3836,73.8715, 74.0341,73.9253)
FOOTPRINT_POINT_LONGITUDE = (331.364,329.485,327.976,326.232, 326.182,325.901,326.273,326.508,326.734 ,326.945,327.148,327.343,327.53,327.71, 327.884,328.052,328.213,328.368,328.592 ,328.735,328.872,329.004,329.133, 329.257,329.377,329.493,329.605,329.767 ,329.871,329.971,330.069,330.208, 330.298,330.386,330.47,330.632,330.784, 330.928,331.064,331.192,331.313,331.401 ,331.458,331.513,331.567,331.619, 331.669,331.694,331.699,332.323,333.084 ,333.738,334.475,334.502,334.512, 334.483,334.453,334.423,334.392,334.36, 334.328,334.295,334.21,334.156,334.082, 334.003,333.899,333.855,333.81,333.764, 333.717,333.668,333.618,333.567,333.513 ,333.459,333.402,333.344,333.285, 333.223,333.159,333.094,332.991,332.92, 332.847,332.77,332.692,332.61,332.526, 332.438,332.348,332.254,332.156,332.055 ,331.949,331.839,331.721,331.536, 331.472,331.364)
ORBIT_NUMBER = 26434
ORBITAL_ECCENTRICITY = 0.567
ORBITAL_INCLINATION = 87.13
ORBITAL_SEMIMAJOR_AXIS = 8769.55
PERIAPSIS_ALTITUDE = 416.93
PERIAPSIS_ARGUMENT_ANGLE = 114.2
PERIAPSIS_TIME = 2024-12-10T06:47:50.000Z
SPACECRAFT_ORIENTATION = (0.0,-1.0,0.0)
^MEX_ORIENTATION_DESC = "MEX_ORIENTATION_DESC.TXT"
SPACECRAFT_POINTING_MODE = INERT
^MEX_POINTING_DESC = "MEX_POINTING_DESC.TXT"
RIGHT_ASCENSION = 132.371
DECLINATION = -29.566
OFFSET_ANGLE = -1e+32
SPACECRAFT_SOLAR_DISTANCE = 2.37881e+08
TARGET_NAME = MARS
/* CAMERA DATA ELEMENTS */
DETECTOR_TEMPERATURE = 18.7783
FOCAL_PLANE_TEMPERATURE = 9.6028
INST_CMPRS_NAME = "DISCRETE COSINE TRANSFORMATION (DCT)"
INST_CMPRS_RATIO = 32.2036
INST_CMPRS_QUALITY = 0
INST_CMPRS_QUANTZ_TBL_ID = 0
INSTRUMENT_TEMPERATURE = 11.0301
LENS_TEMPERATURE = 10.0106
MACROPIXEL_SIZE = 2
MISSING_FRAMES = 0
PIXEL_SUBSAMPLING_FLAG = N
SIGNAL_CHAIN_ID = 3
/* RADIOMETRIC DATA ELEMENTS */
BANDWIDTH = 177.0
CENTER_FILTER_WAVELENGTH = 676.5
RADIANCE_OFFSET = 4.51735
RADIANCE_SCALING_FACTOR = 0.0057004
REFLECTANCE_SCALING_FACTOR = 0.000171033
MEX:REFLECTANCE_OFFSET = 0.135537
/* IMAGE OBJECT DEFINITIONS */
OBJECT = IMAGE
  INTERCHANGE_FORMAT = BINARY
  LINES = 37516
  LINE_SAMPLES = 7189
  SAMPLE_TYPE = UNSIGNED_INTEGER
  SAMPLE_BITS = 8
  BANDS = 1
  BAND_STORAGE_TYPE = BAND_SEQUENTIAL
  MAXIMUM = 255
  MEAN = 246.499
  MINIMUM = 1
  STANDARD_DEVIATION = 22.9445
END_OBJECT = IMAGE
/* MAP OBJECT DEFINITIONS */
OBJECT = IMAGE_MAP_PROJECTION
  ^DATA_SET_MAP_PROJECTION_CATALOG= "DSMAP.CAT"
  A_AXIS_RADIUS = 3396.0
  B_AXIS_RADIUS = 3396.0
  C_AXIS_RADIUS = 3396.0
  CENTER_LATITUDE = 0.0
  CENTER_LONGITUDE = 332.0
  COORDINATE_SYSTEM_NAME = PLANETOGRAPHIC
  COORDINATE_SYSTEM_TYPE = "BODY-FIXED ROTATING"
  EASTERNMOST_LONGITUDE = 334.512
  FIRST_STANDARD_PARALLEL = "N/A"
  LINE_FIRST_PIXEL = 1
  LINE_LAST_PIXEL = 37516
  LINE_PROJECTION_OFFSET = 175512.25
  MAP_PROJECTION_ROTATION = 0.0
  MAP_PROJECTION_TYPE = SINUSOIDAL
  MAP_RESOLUTION = 2370.85521546667
  MAP_SCALE = 0.025
  MAXIMUM_LATITUDE = 74.0341
  MINIMUM_LATITUDE = 58.2142
  POSITIVE_LONGITUDE_DIRECTION = EAST
  REFERENCE_LATITUDE = "N/A"
  REFERENCE_LONGITUDE = "N/A"
  SAMPLE_FIRST_PIXEL = 1
  SAMPLE_LAST_PIXEL = 7189
  SAMPLE_PROJECTION_OFFSET = 3908.25
  SECOND_STANDARD_PARALLEL = "N/A"
  WESTERNMOST_LONGITUDE = 325.901
END_OBJECT = IMAGE_MAP_PROJECTION
END
