PDS_VERSION_ID = PDS3
/* FILE DATA ELEMENTS */
RECORD_TYPE = UNDEFINED
/* POINTERS TO DATA OBJECTS */
^IMAGE = ("HQ434_0000_S14.TIF")
/* IDENTIFICATION DATA ELEMENTS */
DATA_SET_ID = "MEX-M-HRSC-4-REFDR-MAPPROJECT-EXT9-V4.0"
DATA_SET_NAME = "MARS EXPRESS HRSC MAP PROJECTED REFDR EXTENSION9 V4.0"
DETECTOR_ID = MEX_HRSC_S1
EVENT_TYPE = "MARS-REGIONAL-MAPPING-Im-Pf-La"
INSTRUMENT_HOST_ID = MEX
INSTRUMENT_HOST_NAME = "MARS EXPRESS"
INSTRUMENT_ID = HRSC
INSTRUMENT_NAME = "HIGH RESOLUTION STEREO CAMERA"
MISSION_NAME = "MARS EXPRESS"
MISSION_PHASE_NAME = ME_Phase_50
PROCESSING_LEVEL_ID = 4
PRODUCT_CREATION_TIME = 2025-01-29T19:26:23.000Z
PRODUCT_ID = "HQ434_0000_S14.TIF"
RELEASE_ID = 0022
REVISION_ID = 0000
/* QUALITY DATA ELEMENTS */
DATA_QUALITY_ID = 1
DATA_QUALITY_DESC = "Data calculated based on original SPICE kernels"
/* TIME DATA ELEMENTS */
SPACECRAFT_CLOCK_START_COUNT = "1/0681893065.00338"
SPACECRAFT_CLOCK_STOP_COUNT = "1/0681893356.34068"
START_TIME = 2024-12-10T06:45:17.487Z
STOP_TIME = 2024-12-10T06:48:57.489Z
/* ORBITAL DATA ELEMENTS */
ASCENDING_NODE_LONGITUDE = 85.02
MAXIMUM_RESOLUTION = 0.0354
FOOTPRINT_POINT_LATITUDE = (74.1046,74.0304,73.9386,73.8557, 73.8527,73.7726,73.3008,72.9868,72.6724 ,72.3575,72.0422,71.7263,71.2581, 70.9492,70.64,70.3303,69.865,69.399, 69.0879,68.7762,68.4669,67.8579,67.2473 ,66.6353,66.3288,66.0218,65.7149, 65.4068,65.0988,64.7903,64.4816,64.1677 ,63.8583,63.5481,63.2376,62.9268, 62.4598,62.1479,61.8362,61.5233,61.2103 ,60.7399,60.264,59.9493,59.4762,59.1604 ,58.8393,58.3633,58.204,58.1599,58.2479 ,58.275,58.3034,58.3044,58.3053,58.6237 ,58.942,59.265,59.5817,59.8984,60.2143, 60.6919,61.1643,61.479,61.7932,62.1071, 62.4204,62.7336,63.0464,63.3586,63.6704 ,63.9822,64.2935,64.7643,65.0748,65.385 ,65.6948,66.0043,66.3135,66.6225, 66.9312,67.5477,68.163,68.7771,69.2489, 69.5633,69.8775,70.3482,70.6617,70.9749 ,71.2877,71.6003,72.0771,72.3972,72.717 ,73.0364,73.5152,73.8341,73.9944, 74.1046)
FOOTPRINT_POINT_LONGITUDE = (331.396,329.627,327.827,326.431, 326.383,326.28,326.634,326.857,327.072, 327.278,327.477,327.668,327.938,328.108 ,328.272,328.43,328.657,328.873,329.011 ,329.145,329.273,329.513,329.738,329.95 ,330.051,330.149,330.245,330.337, 330.427,330.514,330.599,330.682,330.762 ,330.84,330.915,330.989,331.095,331.163 ,331.23,331.295,331.358,331.449,331.538 ,331.594,331.676,331.729,331.781, 331.855,331.88,331.886,333.443,334.04, 334.78,334.809,334.819,334.787,334.754, 334.72,334.686,334.652,334.617,334.562, 334.506,334.468,334.428,334.388,334.347 ,334.305,334.262,334.218,334.173, 334.126,334.079,334.005,333.955,333.903 ,333.85,333.795,333.739,333.682,333.623 ,333.499,333.369,333.231,333.119, 333.042,332.961,332.836,332.749,332.659 ,332.566,332.47,332.316,332.208,332.096 ,331.98,331.796,331.668,331.6,331.396)
ORBIT_NUMBER = 26434
ORBITAL_ECCENTRICITY = 0.567
ORBITAL_INCLINATION = 87.13
ORBITAL_SEMIMAJOR_AXIS = 8769.55
PERIAPSIS_ALTITUDE = 416.93
PERIAPSIS_ARGUMENT_ANGLE = 114.2
PERIAPSIS_TIME = 2024-12-10T06:47:50.000Z
SPACECRAFT_ORIENTATION = (0.0,-1.0,0.0)
^MEX_ORIENTATION_DESC = "MEX_ORIENTATION_DESC.TXT"
SPACECRAFT_POINTING_MODE = INERT
^MEX_POINTING_DESC = "MEX_POINTING_DESC.TXT"
RIGHT_ASCENSION = 132.371
DECLINATION = -29.566
OFFSET_ANGLE = -1e+32
SPACECRAFT_SOLAR_DISTANCE = 2.37881e+08
TARGET_NAME = MARS
/* CAMERA DATA ELEMENTS */
DETECTOR_TEMPERATURE = 17.7588
FOCAL_PLANE_TEMPERATURE = 9.6028
INST_CMPRS_NAME = "DISCRETE COSINE TRANSFORMATION (DCT)"
INST_CMPRS_RATIO = 27.6371
INST_CMPRS_QUALITY = 0
INST_CMPRS_QUANTZ_TBL_ID = 0
INSTRUMENT_TEMPERATURE = 11.0301
LENS_TEMPERATURE = 10.0106
MACROPIXEL_SIZE = 2
PIXEL_SUBSAMPLING_FLAG = N
SIGNAL_CHAIN_ID = 1
/* RADIOMETRIC DATA ELEMENTS */
BANDWIDTH = 180.0
CENTER_FILTER_WAVELENGTH = 677.0
RADIANCE_OFFSET = 5.03845
RADIANCE_SCALING_FACTOR = 0.00963355
REFLECTANCE_SCALING_FACTOR = 0.000284411
MEX:REFLECTANCE_OFFSET = 0.14875
/* IMAGE OBJECT DEFINITIONS */
OBJECT = IMAGE
  INTERCHANGE_FORMAT = BINARY
  LINES = 37516
  LINE_SAMPLES = 7189
  SAMPLE_TYPE = UNSIGNED_INTEGER
  SAMPLE_BITS = 8
  BANDS = 1
  BAND_STORAGE_TYPE = BAND_SEQUENTIAL
  MAXIMUM = 255
  MEAN = 224.859
  MINIMUM = 1
  STANDARD_DEVIATION = 43.4051
END_OBJECT = IMAGE
/* MAP OBJECT DEFINITIONS */
OBJECT = IMAGE_MAP_PROJECTION
  ^DATA_SET_MAP_PROJECTION_CATALOG= "DSMAP.CAT"
  A_AXIS_RADIUS = 3396.0
  B_AXIS_RADIUS = 3396.0
  C_AXIS_RADIUS = 3396.0
  CENTER_LATITUDE = 0.0
  CENTER_LONGITUDE = 332.0
  COORDINATE_SYSTEM_NAME = PLANETOGRAPHIC
  COORDINATE_SYSTEM_TYPE = "BODY-FIXED ROTATING"
  EASTERNMOST_LONGITUDE = 334.819
  FIRST_STANDARD_PARALLEL = "N/A"
  LINE_FIRST_PIXEL = 1
  LINE_LAST_PIXEL = 37516
  LINE_PROJECTION_OFFSET = 175512.25
  MAP_PROJECTION_ROTATION = 0.0
  MAP_PROJECTION_TYPE = SINUSOIDAL
  MAP_RESOLUTION = 2370.85521546667
  MAP_SCALE = 0.025
  MAXIMUM_LATITUDE = 74.1046
  MINIMUM_LATITUDE = 58.1599
  POSITIVE_LONGITUDE_DIRECTION = EAST
  REFERENCE_LATITUDE = "N/A"
  REFERENCE_LONGITUDE = "N/A"
  SAMPLE_FIRST_PIXEL = 1
  SAMPLE_LAST_PIXEL = 7189
  SAMPLE_PROJECTION_OFFSET = 3908.25
  SECOND_STANDARD_PARALLEL = "N/A"
  WESTERNMOST_LONGITUDE = 326.28
END_OBJECT = IMAGE_MAP_PROJECTION
END
