PDS_VERSION_ID = PDS3
/* FILE DATA ELEMENTS */
RECORD_TYPE = UNDEFINED
/* POINTERS TO DATA OBJECTS */
^IMAGE = ("HQ435_0000_P14.TIF")
/* IDENTIFICATION DATA ELEMENTS */
DATA_SET_ID = "MEX-M-HRSC-4-REFDR-MAPPROJECT-EXT9-V4.0"
DATA_SET_NAME = "MARS EXPRESS HRSC MAP PROJECTED REFDR EXTENSION9 V4.0"
DETECTOR_ID = MEX_HRSC_P1
EVENT_TYPE = "MARS-REGIONAL-MAPPING-Pf-La"
INSTRUMENT_HOST_ID = MEX
INSTRUMENT_HOST_NAME = "MARS EXPRESS"
INSTRUMENT_ID = HRSC
INSTRUMENT_NAME = "HIGH RESOLUTION STEREO CAMERA"
MISSION_NAME = "MARS EXPRESS"
MISSION_PHASE_NAME = ME_Phase_50
PROCESSING_LEVEL_ID = 4
PRODUCT_CREATION_TIME = 2025-01-29T19:26:23.000Z
PRODUCT_ID = "HQ435_0000_P14.TIF"
RELEASE_ID = 0022
REVISION_ID = 0000
/* QUALITY DATA ELEMENTS */
DATA_QUALITY_ID = 1
DATA_QUALITY_DESC = "Data calculated based on original SPICE kernels"
/* TIME DATA ELEMENTS */
SPACECRAFT_CLOCK_START_COUNT = "1/0681918226.65123"
SPACECRAFT_CLOCK_STOP_COUNT = "1/0681918483.55319"
START_TIME = 2024-12-10T13:44:51.031Z
STOP_TIME = 2024-12-10T13:47:57.585Z
/* ORBITAL DATA ELEMENTS */
ASCENDING_NODE_LONGITUDE = 85.0
MAXIMUM_RESOLUTION = 0.0343
FOOTPRINT_POINT_LATITUDE = (72.9439,72.8611,72.7881,72.7107, 72.7079,72.6611,72.3978,71.9892,71.7257 ,71.4619,71.1981,70.934,70.5375,70.2724 ,69.8751,69.6137,69.0962,68.8373, 68.5782,68.3189,67.9294,67.6693,67.4095 ,67.1493,66.889,66.6283,66.3674,66.1063 ,65.845,65.5838,65.3222,65.0603,64.7986 ,64.5363,64.1425,63.8799,63.6173, 63.2224,62.959,62.6952,62.4316,62.1674, 61.9033,61.6347,61.109,60.8437,60.5782, 60.3128,60.0469,59.6475,59.5144,59.4827 ,59.5465,59.5849,59.629,59.6301,59.631, 60.0319,60.4322,60.6989,60.9653,61.2315 ,61.6305,61.8961,62.1617,62.427,62.6923 ,62.9574,63.2221,63.4867,63.7512, 64.1477,64.4118,64.6755,65.0711,65.4665 ,65.7297,65.9929,66.2558,66.6501, 67.0443,67.4379,67.8314,68.2243,68.4862 ,68.7477,69.1407,69.5327,69.794,70.0574 ,70.3255,70.5933,70.8611,71.1287, 71.5298,71.9307,72.3455,72.7461,72.8796 ,72.9439)
FOOTPRINT_POINT_LONGITUDE = (229.693,227.761,226.349,225.038, 224.993,224.872,225.046,225.304,225.464 ,225.619,225.769,225.915,226.125,226.26 ,226.455,226.578,226.812,226.924, 227.034,227.14,227.293,227.392,227.489, 227.583,227.674,227.764,227.85,227.935, 228.017,228.098,228.176,228.252,228.327 ,228.4,228.505,228.573,228.64,228.737, 228.8,228.861,228.921,228.979,229.036, 229.09,229.199,229.251,229.301,229.351, 229.399,229.469,229.492,229.498,230.587 ,231.364,232.432,232.461,232.471, 232.428,232.383,232.353,232.322,232.291 ,232.243,232.21,232.176,232.142,232.107 ,232.071,232.034,231.997,231.959, 231.901,231.86,231.82,231.757,231.691, 231.646,231.601,231.554,231.482,231.406 ,231.329,231.248,231.165,231.107, 231.049,230.956,230.861,230.796,230.728 ,230.656,230.583,230.508,230.43,230.31, 230.184,230.047,229.907,229.859, 229.693)
ORBIT_NUMBER = 26435
ORBITAL_ECCENTRICITY = 0.567
ORBITAL_INCLINATION = 87.13
ORBITAL_SEMIMAJOR_AXIS = 8769.55
PERIAPSIS_ALTITUDE = 416.18
PERIAPSIS_ARGUMENT_ANGLE = 114.01
PERIAPSIS_TIME = 2024-12-10T13:46:53.000Z
SPACECRAFT_ORIENTATION = (0.0,-1.0,0.0)
^MEX_ORIENTATION_DESC = "MEX_ORIENTATION_DESC.TXT"
SPACECRAFT_POINTING_MODE = INERT
^MEX_POINTING_DESC = "MEX_POINTING_DESC.TXT"
RIGHT_ASCENSION = 132.363
DECLINATION = -29.701
OFFSET_ANGLE = -1e+32
SPACECRAFT_SOLAR_DISTANCE = 2.37929e+08
TARGET_NAME = MARS
/* CAMERA DATA ELEMENTS */
DETECTOR_TEMPERATURE = 17.351
FOCAL_PLANE_TEMPERATURE = 9.8067
INST_CMPRS_NAME = "DISCRETE COSINE TRANSFORMATION (DCT)"
INST_CMPRS_RATIO = 9.40073
INST_CMPRS_QUALITY = 0
INST_CMPRS_QUANTZ_TBL_ID = 0
INSTRUMENT_TEMPERATURE = 10.8262
LENS_TEMPERATURE = 8.7872
MACROPIXEL_SIZE = 2
MISSING_FRAMES = 3
PIXEL_SUBSAMPLING_FLAG = N
SIGNAL_CHAIN_ID = 3
/* RADIOMETRIC DATA ELEMENTS */
BANDWIDTH = 174.0
CENTER_FILTER_WAVELENGTH = 675.0
RADIANCE_OFFSET = 5.15936
RADIANCE_SCALING_FACTOR = 0.0124915
REFLECTANCE_SCALING_FACTOR = 0.00038036
MEX:REFLECTANCE_OFFSET = 0.157099
/* IMAGE OBJECT DEFINITIONS */
OBJECT = IMAGE
  INTERCHANGE_FORMAT = BINARY
  LINES = 31805
  LINE_SAMPLES = 6513
  SAMPLE_TYPE = UNSIGNED_INTEGER
  SAMPLE_BITS = 8
  BANDS = 1
  BAND_STORAGE_TYPE = BAND_SEQUENTIAL
  MAXIMUM = 255
  MEAN = 145.742
  MINIMUM = 1
  STANDARD_DEVIATION = 55.3335
END_OBJECT = IMAGE
/* MAP OBJECT DEFINITIONS */
OBJECT = IMAGE_MAP_PROJECTION
  ^DATA_SET_MAP_PROJECTION_CATALOG= "DSMAP.CAT"
  A_AXIS_RADIUS = 3396.0
  B_AXIS_RADIUS = 3396.0
  C_AXIS_RADIUS = 3396.0
  CENTER_LATITUDE = 0.0
  CENTER_LONGITUDE = 230.0
  COORDINATE_SYSTEM_NAME = PLANETOGRAPHIC
  COORDINATE_SYSTEM_TYPE = "BODY-FIXED ROTATING"
  EASTERNMOST_LONGITUDE = 232.471
  FIRST_STANDARD_PARALLEL = "N/A"
  LINE_FIRST_PIXEL = 1
  LINE_LAST_PIXEL = 31805
  LINE_PROJECTION_OFFSET = 172845.75
  MAP_PROJECTION_ROTATION = 0.0
  MAP_PROJECTION_TYPE = SINUSOIDAL
  MAP_RESOLUTION = 2370.85521546667
  MAP_SCALE = 0.025
  MAXIMUM_LATITUDE = 72.9439
  MINIMUM_LATITUDE = 59.4827
  POSITIVE_LONGITUDE_DIRECTION = EAST
  REFERENCE_LATITUDE = "N/A"
  REFERENCE_LONGITUDE = "N/A"
  SAMPLE_FIRST_PIXEL = 1
  SAMPLE_LAST_PIXEL = 6513
  SAMPLE_PROJECTION_OFFSET = 3691.25
  SECOND_STANDARD_PARALLEL = "N/A"
  WESTERNMOST_LONGITUDE = 224.872
END_OBJECT = IMAGE_MAP_PROJECTION
END
