PDS_VERSION_ID = PDS3
/* FILE DATA ELEMENTS */
RECORD_TYPE = UNDEFINED
/* POINTERS TO DATA OBJECTS */
^IMAGE = ("HQ435_0000_RE4.TIF")
/* IDENTIFICATION DATA ELEMENTS */
DATA_SET_ID = "MEX-M-HRSC-4-REFDR-MAPPROJECT-EXT9-V4.0"
DATA_SET_NAME = "MARS EXPRESS HRSC MAP PROJECTED REFDR EXTENSION9 V4.0"
DETECTOR_ID = MEX_HRSC_RED
EVENT_TYPE = "MARS-REGIONAL-MAPPING-Pf-La"
INSTRUMENT_HOST_ID = MEX
INSTRUMENT_HOST_NAME = "MARS EXPRESS"
INSTRUMENT_ID = HRSC
INSTRUMENT_NAME = "HIGH RESOLUTION STEREO CAMERA"
MISSION_NAME = "MARS EXPRESS"
MISSION_PHASE_NAME = ME_Phase_50
PROCESSING_LEVEL_ID = 4
PRODUCT_CREATION_TIME = 2025-01-29T19:26:23.000Z
PRODUCT_ID = "HQ435_0000_RE4.TIF"
RELEASE_ID = 0022
REVISION_ID = 0000
/* QUALITY DATA ELEMENTS */
DATA_QUALITY_ID = 1
DATA_QUALITY_DESC = "Data calculated based on original SPICE kernels"
/* TIME DATA ELEMENTS */
SPACECRAFT_CLOCK_START_COUNT = "1/0681918226.65123"
SPACECRAFT_CLOCK_STOP_COUNT = "1/0681918483.55319"
START_TIME = 2024-12-10T13:45:43.281Z
STOP_TIME = 2024-12-10T13:48:48.772Z
/* ORBITAL DATA ELEMENTS */
ASCENDING_NODE_LONGITUDE = 85.0
MAXIMUM_RESOLUTION = 0.069
FOOTPRINT_POINT_LATITUDE = (72.7984,72.747,72.6662,72.5602,72.5575 ,72.6915,72.4265,72.1616,71.7644, 71.3674,71.1027,70.8383,70.4416,70.1778 ,69.9132,69.6489,69.2531,68.9892, 68.5932,68.3296,68.0662,67.6714,67.408, 67.0134,66.6188,66.356,66.0935,65.831, 65.5685,65.3061,65.0439,64.7818,64.3887 ,64.127,63.7343,63.4726,63.0803,62.6884 ,62.427,62.166,61.9049,61.5144,61.2527, 60.7314,60.4664,60.1991,59.9318,59.6646 ,59.5311,59.5147,59.5784,59.6226, 59.6556,59.6567,59.6582,59.9265,60.1947 ,60.4631,60.8639,61.3877,61.9119, 62.3055,62.5679,62.8304,63.2246,63.4877 ,63.7508,64.0139,64.2772,64.541,64.9366 ,65.2004,65.5967,65.8609,66.1253, 66.3899,66.6549,66.9201,67.185,67.4503, 67.7159,68.1149,68.3809,68.6475,69.0466 ,69.4469,69.8474,70.1149,70.382,70.6498 ,70.9183,71.186,71.4547,71.7232,71.9921 ,72.2615,72.5314,72.7999,72.9345, 72.7984)
FOOTPRINT_POINT_LONGITUDE = (229.612,228.391,226.732,224.865,224.82 ,224.567,224.748,224.923,225.174, 225.413,225.567,225.715,225.929,226.065 ,226.199,226.328,226.514,226.633, 226.807,226.918,227.026,227.181,227.282 ,227.428,227.567,227.657,227.744,227.83 ,227.913,227.993,228.072,228.148, 228.259,228.331,228.435,228.502,228.6, 228.694,228.755,228.814,228.872,228.955 ,229.01,229.115,229.166,229.217,229.266 ,229.315,229.338,229.341,230.483, 231.391,232.166,232.193,232.202,232.175 ,232.148,232.12,232.077,232.018,231.958 ,231.911,231.878,231.845,231.794, 231.759,231.723,231.686,231.649,231.611 ,231.551,231.511,231.448,231.404,231.36 ,231.314,231.268,231.22,231.171,231.121 ,231.069,230.989,230.934,230.877, 230.789,230.697,230.601,230.534,230.466 ,230.395,230.323,230.248,230.171, 230.091,230.009,229.924,229.837,229.746 ,229.699,229.612)
ORBIT_NUMBER = 26435
ORBITAL_ECCENTRICITY = 0.567
ORBITAL_INCLINATION = 87.13
ORBITAL_SEMIMAJOR_AXIS = 8769.55
PERIAPSIS_ALTITUDE = 416.18
PERIAPSIS_ARGUMENT_ANGLE = 114.01
PERIAPSIS_TIME = 2024-12-10T13:46:53.000Z
SPACECRAFT_ORIENTATION = (0.0,-1.0,0.0)
^MEX_ORIENTATION_DESC = "MEX_ORIENTATION_DESC.TXT"
SPACECRAFT_POINTING_MODE = INERT
^MEX_POINTING_DESC = "MEX_POINTING_DESC.TXT"
RIGHT_ASCENSION = 132.363
DECLINATION = -29.701
OFFSET_ANGLE = -1e+32
SPACECRAFT_SOLAR_DISTANCE = 2.37929e+08
TARGET_NAME = MARS
/* CAMERA DATA ELEMENTS */
DETECTOR_TEMPERATURE = 18.3705
FOCAL_PLANE_TEMPERATURE = 9.8067
INST_CMPRS_NAME = "DISCRETE COSINE TRANSFORMATION (DCT)"
INST_CMPRS_RATIO = 22.966
INST_CMPRS_QUALITY = 0
INST_CMPRS_QUANTZ_TBL_ID = 0
INSTRUMENT_TEMPERATURE = 10.8262
LENS_TEMPERATURE = 8.7872
MACROPIXEL_SIZE = 4
MISSING_FRAMES = 0
PIXEL_SUBSAMPLING_FLAG = N
SIGNAL_CHAIN_ID = 2
/* RADIOMETRIC DATA ELEMENTS */
BANDWIDTH = 48.0
CENTER_FILTER_WAVELENGTH = 748.0
RADIANCE_OFFSET = 1.38097
RADIANCE_SCALING_FACTOR = 0.00346934
REFLECTANCE_SCALING_FACTOR = 0.000448196
MEX:REFLECTANCE_OFFSET = 0.178404
/* IMAGE OBJECT DEFINITIONS */
OBJECT = IMAGE
  INTERCHANGE_FORMAT = BINARY
  LINES = 15903
  LINE_SAMPLES = 3257
  SAMPLE_TYPE = UNSIGNED_INTEGER
  SAMPLE_BITS = 8
  BANDS = 1
  BAND_STORAGE_TYPE = BAND_SEQUENTIAL
  MAXIMUM = 255
  MEAN = 144.361
  MINIMUM = 1
  STANDARD_DEVIATION = 60.8244
END_OBJECT = IMAGE
/* MAP OBJECT DEFINITIONS */
OBJECT = IMAGE_MAP_PROJECTION
  ^DATA_SET_MAP_PROJECTION_CATALOG= "DSMAP.CAT"
  A_AXIS_RADIUS = 3396.0
  B_AXIS_RADIUS = 3396.0
  C_AXIS_RADIUS = 3396.0
  CENTER_LATITUDE = 0.0
  CENTER_LONGITUDE = 230.0
  COORDINATE_SYSTEM_NAME = PLANETOGRAPHIC
  COORDINATE_SYSTEM_TYPE = "BODY-FIXED ROTATING"
  EASTERNMOST_LONGITUDE = 232.202
  FIRST_STANDARD_PARALLEL = "N/A"
  LINE_FIRST_PIXEL = 1
  LINE_LAST_PIXEL = 15903
  LINE_PROJECTION_OFFSET = 86422.625
  MAP_PROJECTION_ROTATION = 0.0
  MAP_PROJECTION_TYPE = SINUSOIDAL
  MAP_RESOLUTION = 1185.42760773333
  MAP_SCALE = 0.05
  MAXIMUM_LATITUDE = 72.9345
  MINIMUM_LATITUDE = 59.5147
  POSITIVE_LONGITUDE_DIRECTION = EAST
  REFERENCE_LATITUDE = "N/A"
  REFERENCE_LONGITUDE = "N/A"
  SAMPLE_FIRST_PIXEL = 1
  SAMPLE_LAST_PIXEL = 3257
  SAMPLE_PROJECTION_OFFSET = 1845.375
  SECOND_STANDARD_PARALLEL = "N/A"
  WESTERNMOST_LONGITUDE = 224.567
END_OBJECT = IMAGE_MAP_PROJECTION
END
