PDS_VERSION_ID = PDS3
/* FILE DATA ELEMENTS */
RECORD_TYPE = UNDEFINED
/* POINTERS TO DATA OBJECTS */
^IMAGE = ("HQ435_0000_S14.TIF")
/* IDENTIFICATION DATA ELEMENTS */
DATA_SET_ID = "MEX-M-HRSC-4-REFDR-MAPPROJECT-EXT9-V4.0"
DATA_SET_NAME = "MARS EXPRESS HRSC MAP PROJECTED REFDR EXTENSION9 V4.0"
DETECTOR_ID = MEX_HRSC_S1
EVENT_TYPE = "MARS-REGIONAL-MAPPING-Pf-La"
INSTRUMENT_HOST_ID = MEX
INSTRUMENT_HOST_NAME = "MARS EXPRESS"
INSTRUMENT_ID = HRSC
INSTRUMENT_NAME = "HIGH RESOLUTION STEREO CAMERA"
MISSION_NAME = "MARS EXPRESS"
MISSION_PHASE_NAME = ME_Phase_50
PROCESSING_LEVEL_ID = 4
PRODUCT_CREATION_TIME = 2025-01-29T19:26:23.000Z
PRODUCT_ID = "HQ435_0000_S14.TIF"
RELEASE_ID = 0022
REVISION_ID = 0000
/* QUALITY DATA ELEMENTS */
DATA_QUALITY_ID = 1
DATA_QUALITY_DESC = "Data calculated based on original SPICE kernels"
/* TIME DATA ELEMENTS */
SPACECRAFT_CLOCK_START_COUNT = "1/0681918226.65123"
SPACECRAFT_CLOCK_STOP_COUNT = "1/0681918483.55319"
START_TIME = 2024-12-10T13:44:39.494Z
STOP_TIME = 2024-12-10T13:47:45.586Z
/* ORBITAL DATA ELEMENTS */
ASCENDING_NODE_LONGITUDE = 85.0
MAXIMUM_RESOLUTION = 0.0353
FOOTPRINT_POINT_LATITUDE = (72.9812,72.9122,72.827,72.75,72.7472, 72.6622,72.3941,72.1262,71.7266,71.4643 ,71.2021,70.8079,70.5451,70.2813, 69.8859,69.4897,69.2254,68.8316,68.3147 ,67.7966,67.4079,67.1482,66.8885, 66.6281,66.3676,65.9762,65.7152,65.4538 ,65.1921,64.7993,64.5368,64.1428, 63.8799,63.485,63.2211,62.9572,62.6926, 62.4281,62.0309,61.7626,61.3669,61.1003 ,60.8341,60.5673,60.1664,59.8991, 59.6264,59.4921,59.4675,59.4993,59.5453 ,59.5831,59.6141,59.615,59.616,59.885, 60.1585,60.4268,60.6949,60.9627,61.23, 61.6305,62.0307,62.2969,62.5629,62.9617 ,63.2272,63.4921,63.7571,64.1542, 64.5506,64.9462,65.21,65.4736,65.7366, 65.9997,66.3938,66.7874,67.0496,67.3115 ,67.5736,67.835,68.2267,68.7482,69.0094 ,69.2725,69.54,69.8069,70.2072,70.607, 70.8732,71.1392,71.4051,71.6707,71.936, 72.2044,72.4762,72.7484,72.8844, 72.9812)
FOOTPRINT_POINT_LONGITUDE = (229.697,228.053,226.379,225.077, 225.033,224.941,225.116,225.286,225.529 ,225.682,225.831,226.045,226.182, 226.316,226.509,226.693,226.812,226.983 ,227.196,227.397,227.542,227.635, 227.726,227.814,227.9,228.025,228.106, 228.185,228.262,228.374,228.446,228.551 ,228.619,228.718,228.782,228.845, 228.905,228.965,229.052,229.107,229.19, 229.242,229.294,229.345,229.418,229.466 ,229.513,229.536,229.54,230.058,230.895 ,231.706,232.489,232.518,232.529, 232.499,232.469,232.438,232.407,232.375 ,232.343,232.294,232.243,232.209, 232.173,232.119,232.081,232.044,232.005 ,231.945,231.884,231.821,231.777, 231.732,231.687,231.641,231.569,231.495 ,231.444,231.392,231.338,231.284, 231.199,231.082,231.02,230.957,230.891, 230.823,230.717,230.607,230.531,230.453 ,230.373,230.29,230.205,230.116,230.023 ,229.926,229.877,229.697)
ORBIT_NUMBER = 26435
ORBITAL_ECCENTRICITY = 0.567
ORBITAL_INCLINATION = 87.13
ORBITAL_SEMIMAJOR_AXIS = 8769.55
PERIAPSIS_ALTITUDE = 416.18
PERIAPSIS_ARGUMENT_ANGLE = 114.01
PERIAPSIS_TIME = 2024-12-10T13:46:53.000Z
SPACECRAFT_ORIENTATION = (0.0,-1.0,0.0)
^MEX_ORIENTATION_DESC = "MEX_ORIENTATION_DESC.TXT"
SPACECRAFT_POINTING_MODE = INERT
^MEX_POINTING_DESC = "MEX_POINTING_DESC.TXT"
RIGHT_ASCENSION = 132.363
DECLINATION = -29.701
OFFSET_ANGLE = -1e+32
SPACECRAFT_SOLAR_DISTANCE = 2.37929e+08
TARGET_NAME = MARS
/* CAMERA DATA ELEMENTS */
DETECTOR_TEMPERATURE = 17.351
FOCAL_PLANE_TEMPERATURE = 9.8067
INST_CMPRS_NAME = "DISCRETE COSINE TRANSFORMATION (DCT)"
INST_CMPRS_RATIO = 10.0633
INST_CMPRS_QUALITY = 0
INST_CMPRS_QUANTZ_TBL_ID = 0
INSTRUMENT_TEMPERATURE = 10.8262
LENS_TEMPERATURE = 8.7872
MACROPIXEL_SIZE = 2
MISSING_FRAMES = 1
PIXEL_SUBSAMPLING_FLAG = N
SIGNAL_CHAIN_ID = 1
/* RADIOMETRIC DATA ELEMENTS */
BANDWIDTH = 180.0
CENTER_FILTER_WAVELENGTH = 677.0
RADIANCE_OFFSET = 5.63565
RADIANCE_SCALING_FACTOR = 0.0129765
REFLECTANCE_SCALING_FACTOR = 0.00038326
MEX:REFLECTANCE_OFFSET = 0.166448
/* IMAGE OBJECT DEFINITIONS */
OBJECT = IMAGE
  INTERCHANGE_FORMAT = BINARY
  LINES = 31805
  LINE_SAMPLES = 6513
  SAMPLE_TYPE = UNSIGNED_INTEGER
  SAMPLE_BITS = 8
  BANDS = 1
  BAND_STORAGE_TYPE = BAND_SEQUENTIAL
  MAXIMUM = 255
  MEAN = 150.072
  MINIMUM = 1
  STANDARD_DEVIATION = 53.3848
END_OBJECT = IMAGE
/* MAP OBJECT DEFINITIONS */
OBJECT = IMAGE_MAP_PROJECTION
  ^DATA_SET_MAP_PROJECTION_CATALOG= "DSMAP.CAT"
  A_AXIS_RADIUS = 3396.0
  B_AXIS_RADIUS = 3396.0
  C_AXIS_RADIUS = 3396.0
  CENTER_LATITUDE = 0.0
  CENTER_LONGITUDE = 230.0
  COORDINATE_SYSTEM_NAME = PLANETOGRAPHIC
  COORDINATE_SYSTEM_TYPE = "BODY-FIXED ROTATING"
  EASTERNMOST_LONGITUDE = 232.529
  FIRST_STANDARD_PARALLEL = "N/A"
  LINE_FIRST_PIXEL = 1
  LINE_LAST_PIXEL = 31805
  LINE_PROJECTION_OFFSET = 172845.75
  MAP_PROJECTION_ROTATION = 0.0
  MAP_PROJECTION_TYPE = SINUSOIDAL
  MAP_RESOLUTION = 2370.85521546667
  MAP_SCALE = 0.025
  MAXIMUM_LATITUDE = 72.9812
  MINIMUM_LATITUDE = 59.4675
  POSITIVE_LONGITUDE_DIRECTION = EAST
  REFERENCE_LATITUDE = "N/A"
  REFERENCE_LONGITUDE = "N/A"
  SAMPLE_FIRST_PIXEL = 1
  SAMPLE_LAST_PIXEL = 6513
  SAMPLE_PROJECTION_OFFSET = 3691.25
  SECOND_STANDARD_PARALLEL = "N/A"
  WESTERNMOST_LONGITUDE = 224.941
END_OBJECT = IMAGE_MAP_PROJECTION
END
