PDS_VERSION_ID = PDS3
/* FILE DATA ELEMENTS */
RECORD_TYPE = UNDEFINED
/* POINTERS TO DATA OBJECTS */
^IMAGE = ("HQ435_0000_S24.TIF")
/* IDENTIFICATION DATA ELEMENTS */
DATA_SET_ID = "MEX-M-HRSC-4-REFDR-MAPPROJECT-EXT9-V4.0"
DATA_SET_NAME = "MARS EXPRESS HRSC MAP PROJECTED REFDR EXTENSION9 V4.0"
DETECTOR_ID = MEX_HRSC_S2
EVENT_TYPE = "MARS-REGIONAL-MAPPING-Pf-La"
INSTRUMENT_HOST_ID = MEX
INSTRUMENT_HOST_NAME = "MARS EXPRESS"
INSTRUMENT_ID = HRSC
INSTRUMENT_NAME = "HIGH RESOLUTION STEREO CAMERA"
MISSION_NAME = "MARS EXPRESS"
MISSION_PHASE_NAME = ME_Phase_50
PROCESSING_LEVEL_ID = 4
PRODUCT_CREATION_TIME = 2025-01-29T19:26:23.000Z
PRODUCT_ID = "HQ435_0000_S24.TIF"
RELEASE_ID = 0022
REVISION_ID = 0000
/* QUALITY DATA ELEMENTS */
DATA_QUALITY_ID = 1
DATA_QUALITY_DESC = "Data calculated based on original SPICE kernels"
/* TIME DATA ELEMENTS */
SPACECRAFT_CLOCK_START_COUNT = "1/0681918226.65123"
SPACECRAFT_CLOCK_STOP_COUNT = "1/0681918483.55319"
START_TIME = 2024-12-10T13:45:49.633Z
STOP_TIME = 2024-12-10T13:48:54.367Z
/* ORBITAL DATA ELEMENTS */
ASCENDING_NODE_LONGITUDE = 85.0
MAXIMUM_RESOLUTION = 0.0349
FOOTPRINT_POINT_LATITUDE = (72.7645,72.6845,72.6185,72.526,72.5231 ,72.6796,72.2813,72.0161,71.7506, 71.3533,71.0882,70.8235,70.4265,70.0301 ,69.7655,69.501,69.2377,68.9735,68.7096 ,68.446,68.0507,67.7876,67.5248,67.2614 ,66.9988,66.7359,66.4735,66.0803, 65.8182,65.5561,65.2943,65.0327,64.771, 64.3789,64.1178,63.8567,63.5956,63.0743 ,62.4229,61.9028,61.5155,61.1233,60.726 ,60.4597,60.1936,59.9276,59.6616, 59.5288,59.5182,59.5575,59.5851,59.6164 ,59.6587,59.6598,59.6608,59.9277, 60.1948,60.462,60.7292,60.9968,61.5235, 61.9152,62.3074,62.8305,63.0924,63.3546 ,63.6169,63.8793,64.1417,64.4045,64.668 ,65.0628,65.326,65.5899,65.9854,66.2496 ,66.5143,66.7785,67.0436,67.3083, 67.5735,67.8392,68.238,68.6376,68.9041, 69.1701,69.5705,69.8375,70.1052,70.3726 ,70.6406,70.9092,71.3119,71.7155, 71.9849,72.255,72.5251,72.7942,72.929, 72.7645)
FOOTPRINT_POINT_LONGITUDE = (229.609,227.777,226.472,224.852, 224.806,224.531,224.802,224.974,225.142 ,225.382,225.536,225.684,225.899, 226.104,226.235,226.363,226.486,226.606 ,226.723,226.836,226.999,227.104, 227.206,227.306,227.402,227.496,227.587 ,227.719,227.805,227.888,227.969, 228.047,228.124,228.235,228.307,228.377 ,228.445,228.576,228.731,228.848, 228.929,229.013,229.093,229.145,229.195 ,229.245,229.293,229.316,229.318, 230.007,230.531,231.166,232.136,232.164 ,232.174,232.147,232.12,232.092,232.064 ,232.035,231.976,231.931,231.884, 231.819,231.785,231.751,231.716,231.68, 231.643,231.606,231.568,231.508,231.467 ,231.425,231.36,231.316,231.27,231.223, 231.175,231.126,231.075,231.023,230.942 ,230.859,230.801,230.741,230.648, 230.584,230.518,230.45,230.38,230.308, 230.195,230.077,229.995,229.911,229.824 ,229.733,229.686,229.609)
ORBIT_NUMBER = 26435
ORBITAL_ECCENTRICITY = 0.567
ORBITAL_INCLINATION = 87.13
ORBITAL_SEMIMAJOR_AXIS = 8769.55
PERIAPSIS_ALTITUDE = 416.18
PERIAPSIS_ARGUMENT_ANGLE = 114.01
PERIAPSIS_TIME = 2024-12-10T13:46:53.000Z
SPACECRAFT_ORIENTATION = (0.0,-1.0,0.0)
^MEX_ORIENTATION_DESC = "MEX_ORIENTATION_DESC.TXT"
SPACECRAFT_POINTING_MODE = INERT
^MEX_POINTING_DESC = "MEX_POINTING_DESC.TXT"
RIGHT_ASCENSION = 132.363
DECLINATION = -29.701
OFFSET_ANGLE = -1e+32
SPACECRAFT_SOLAR_DISTANCE = 2.37929e+08
TARGET_NAME = MARS
/* CAMERA DATA ELEMENTS */
DETECTOR_TEMPERATURE = 18.3705
FOCAL_PLANE_TEMPERATURE = 9.8067
INST_CMPRS_NAME = "DISCRETE COSINE TRANSFORMATION (DCT)"
INST_CMPRS_RATIO = 13.0942
INST_CMPRS_QUALITY = 0
INST_CMPRS_QUANTZ_TBL_ID = 0
INSTRUMENT_TEMPERATURE = 10.8262
LENS_TEMPERATURE = 8.7872
MACROPIXEL_SIZE = 2
MISSING_FRAMES = 0
PIXEL_SUBSAMPLING_FLAG = N
SIGNAL_CHAIN_ID = 1
/* RADIOMETRIC DATA ELEMENTS */
BANDWIDTH = 178.0
CENTER_FILTER_WAVELENGTH = 679.0
RADIANCE_OFFSET = 5.0814
RADIANCE_SCALING_FACTOR = 0.0139275
REFLECTANCE_SCALING_FACTOR = 0.00041754
MEX:REFLECTANCE_OFFSET = 0.152338
/* IMAGE OBJECT DEFINITIONS */
OBJECT = IMAGE
  INTERCHANGE_FORMAT = BINARY
  LINES = 31805
  LINE_SAMPLES = 6513
  SAMPLE_TYPE = UNSIGNED_INTEGER
  SAMPLE_BITS = 8
  BANDS = 1
  BAND_STORAGE_TYPE = BAND_SEQUENTIAL
  MAXIMUM = 255
  MEAN = 152.809
  MINIMUM = 1
  STANDARD_DEVIATION = 60.6079
END_OBJECT = IMAGE
/* MAP OBJECT DEFINITIONS */
OBJECT = IMAGE_MAP_PROJECTION
  ^DATA_SET_MAP_PROJECTION_CATALOG= "DSMAP.CAT"
  A_AXIS_RADIUS = 3396.0
  B_AXIS_RADIUS = 3396.0
  C_AXIS_RADIUS = 3396.0
  CENTER_LATITUDE = 0.0
  CENTER_LONGITUDE = 230.0
  COORDINATE_SYSTEM_NAME = PLANETOGRAPHIC
  COORDINATE_SYSTEM_TYPE = "BODY-FIXED ROTATING"
  EASTERNMOST_LONGITUDE = 232.174
  FIRST_STANDARD_PARALLEL = "N/A"
  LINE_FIRST_PIXEL = 1
  LINE_LAST_PIXEL = 31805
  LINE_PROJECTION_OFFSET = 172845.75
  MAP_PROJECTION_ROTATION = 0.0
  MAP_PROJECTION_TYPE = SINUSOIDAL
  MAP_RESOLUTION = 2370.85521546667
  MAP_SCALE = 0.025
  MAXIMUM_LATITUDE = 72.929
  MINIMUM_LATITUDE = 59.5182
  POSITIVE_LONGITUDE_DIRECTION = EAST
  REFERENCE_LATITUDE = "N/A"
  REFERENCE_LONGITUDE = "N/A"
  SAMPLE_FIRST_PIXEL = 1
  SAMPLE_LAST_PIXEL = 6513
  SAMPLE_PROJECTION_OFFSET = 3691.25
  SECOND_STANDARD_PARALLEL = "N/A"
  WESTERNMOST_LONGITUDE = 224.531
END_OBJECT = IMAGE_MAP_PROJECTION
END
