PDS_VERSION_ID = PDS3
/* FILE DATA ELEMENTS */
RECORD_TYPE = UNDEFINED
/* POINTERS TO DATA OBJECTS */
^IMAGE = ("HQ436_0009_RE4.TIF")
/* IDENTIFICATION DATA ELEMENTS */
DATA_SET_ID = "MEX-M-HRSC-4-REFDR-MAPPROJECT-EXT9-V4.0"
DATA_SET_NAME = "MARS EXPRESS HRSC MAP PROJECTED REFDR EXTENSION9 V4.0"
DETECTOR_ID = MEX_HRSC_RED
EVENT_TYPE = "MARS-REGIONAL-MAPPING-Im-Pf-La"
INSTRUMENT_HOST_ID = MEX
INSTRUMENT_HOST_NAME = "MARS EXPRESS"
INSTRUMENT_ID = HRSC
INSTRUMENT_NAME = "HIGH RESOLUTION STEREO CAMERA"
MISSION_NAME = "MARS EXPRESS"
MISSION_PHASE_NAME = ME_Phase_50
PROCESSING_LEVEL_ID = 4
PRODUCT_CREATION_TIME = 2025-01-29T19:26:23.000Z
PRODUCT_ID = "HQ436_0009_RE4.TIF"
RELEASE_ID = 0022
REVISION_ID = 0000
/* QUALITY DATA ELEMENTS */
DATA_QUALITY_ID = 1
DATA_QUALITY_DESC = "Data calculated based on original SPICE kernels"
/* TIME DATA ELEMENTS */
SPACECRAFT_CLOCK_START_COUNT = "1/0681943418.65126"
SPACECRAFT_CLOCK_STOP_COUNT = "1/0681943705.00351"
START_TIME = 2024-12-10T20:45:34.850Z
STOP_TIME = 2024-12-10T20:49:09.512Z
/* ORBITAL DATA ELEMENTS */
ASCENDING_NODE_LONGITUDE = 84.98
MAXIMUM_RESOLUTION = 0.0704
FOOTPRINT_POINT_LATITUDE = (70.4756,70.3842,70.3166,70.2611, 70.2587,70.3988,69.9435,69.4888,69.1856 ,68.7313,68.2784,67.9763,67.6744, 67.3727,67.0714,66.7702,66.4691,66.1683 ,65.8679,65.5676,65.2676,64.8178, 64.5181,64.2188,63.9195,63.6206,63.023, 62.5753,62.1281,61.3834,60.7815,60.4765 ,60.1716,59.8669,59.5625,59.1058, 58.8016,58.3456,58.0417,57.5773,57.266, 56.9549,56.6439,56.3329,56.0221,55.7114 ,55.3944,55.2352,55.1887,55.2314, 55.2736,55.3283,55.3294,55.331,55.8093, 56.1207,56.4322,56.744,57.0557,57.5239, 57.8361,58.147,58.4519,58.7568,59.2146, 59.52,59.8254,60.1312,60.4374,60.7436, 61.0499,61.3528,62.1002,62.5498,63.1496 ,63.4498,63.7504,64.0511,64.3521, 64.8042,65.1058,65.4076,65.7097,66.0124 ,66.3154,66.7697,67.0733,67.3773, 67.6814,67.9857,68.2906,68.5955,68.9009 ,69.2066,69.5127,69.8188,70.1258,70.433 ,70.5866,70.4756)
FOOTPRINT_POINT_LONGITUDE = (128.997,126.979,125.708,124.762, 124.723,124.565,124.777,124.977,125.105 ,125.29,125.464,125.576,125.684,125.789 ,125.891,125.989,126.084,126.177, 126.266,126.353,126.437,126.559,126.637 ,126.713,126.786,126.858,126.995, 127.093,127.186,127.334,127.446,127.501 ,127.554,127.606,127.656,127.729, 127.775,127.843,127.887,127.952,127.994 ,128.035,128.074,128.113,128.15,128.187 ,128.223,128.241,128.246,128.956, 129.721,130.868,130.893,130.902,130.871 ,130.851,130.83,130.809,130.787,130.754 ,130.731,130.708,130.685,130.661, 130.625,130.6,130.574,130.548,130.522, 130.495,130.467,130.439,130.366,130.321 ,130.258,130.225,130.191,130.157, 130.122,130.067,130.029,129.991,129.951 ,129.91,129.869,129.804,129.759,129.713 ,129.665,129.617,129.566,129.514, 129.461,129.406,129.349,129.29,129.229, 129.167,129.135,128.997)
ORBIT_NUMBER = 26436
ORBITAL_ECCENTRICITY = 0.567
ORBITAL_INCLINATION = 87.12
ORBITAL_SEMIMAJOR_AXIS = 8772.71
PERIAPSIS_ALTITUDE = 417.27
PERIAPSIS_ARGUMENT_ANGLE = 113.86
PERIAPSIS_TIME = 2024-12-10T20:46:02.000Z
SPACECRAFT_ORIENTATION = (0.0,-1.0,0.0)
^MEX_ORIENTATION_DESC = "MEX_ORIENTATION_DESC.TXT"
SPACECRAFT_POINTING_MODE = INERT
^MEX_POINTING_DESC = "MEX_POINTING_DESC.TXT"
RIGHT_ASCENSION = 129.746
DECLINATION = -26.158
OFFSET_ANGLE = -1e+32
SPACECRAFT_SOLAR_DISTANCE = 2.37977e+08
TARGET_NAME = MARS
/* CAMERA DATA ELEMENTS */
DETECTOR_TEMPERATURE = 18.9822
FOCAL_PLANE_TEMPERATURE = 8.5833
INST_CMPRS_NAME = "DISCRETE COSINE TRANSFORMATION (DCT)"
INST_CMPRS_RATIO = 19.4482
INST_CMPRS_QUALITY = 0
INST_CMPRS_QUANTZ_TBL_ID = 0
INSTRUMENT_TEMPERATURE = 11.234
LENS_TEMPERATURE = 9.3989
MACROPIXEL_SIZE = 4
MISSING_FRAMES = 0
PIXEL_SUBSAMPLING_FLAG = N
SIGNAL_CHAIN_ID = 2
/* RADIOMETRIC DATA ELEMENTS */
BANDWIDTH = 48.0
CENTER_FILTER_WAVELENGTH = 748.0
RADIANCE_OFFSET = 1.0521
RADIANCE_SCALING_FACTOR = 0.00392806
REFLECTANCE_SCALING_FACTOR = 0.000507661
MEX:REFLECTANCE_OFFSET = 0.135973
/* IMAGE OBJECT DEFINITIONS */
OBJECT = IMAGE
  INTERCHANGE_FORMAT = BINARY
  LINES = 18287
  LINE_SAMPLES = 3087
  SAMPLE_TYPE = UNSIGNED_INTEGER
  SAMPLE_BITS = 8
  BANDS = 1
  BAND_STORAGE_TYPE = BAND_SEQUENTIAL
  MAXIMUM = 255
  MEAN = 188.808
  MINIMUM = 1
  STANDARD_DEVIATION = 69.1428
END_OBJECT = IMAGE
/* MAP OBJECT DEFINITIONS */
OBJECT = IMAGE_MAP_PROJECTION
  ^DATA_SET_MAP_PROJECTION_CATALOG= "DSMAP.CAT"
  A_AXIS_RADIUS = 3396.0
  B_AXIS_RADIUS = 3396.0
  C_AXIS_RADIUS = 3396.0
  CENTER_LATITUDE = 0.0
  CENTER_LONGITUDE = 129.0
  COORDINATE_SYSTEM_NAME = PLANETOGRAPHIC
  COORDINATE_SYSTEM_TYPE = "BODY-FIXED ROTATING"
  EASTERNMOST_LONGITUDE = 130.902
  FIRST_STANDARD_PARALLEL = "N/A"
  LINE_FIRST_PIXEL = 1
  LINE_LAST_PIXEL = 18287
  LINE_PROJECTION_OFFSET = 83678.125
  MAP_PROJECTION_ROTATION = 0.0
  MAP_PROJECTION_TYPE = SINUSOIDAL
  MAP_RESOLUTION = 1185.42760773333
  MAP_SCALE = 0.05
  MAXIMUM_LATITUDE = 70.5866
  MINIMUM_LATITUDE = 55.1887
  POSITIVE_LONGITUDE_DIRECTION = EAST
  REFERENCE_LATITUDE = "N/A"
  REFERENCE_LONGITUDE = "N/A"
  SAMPLE_FIRST_PIXEL = 1
  SAMPLE_LAST_PIXEL = 3087
  SAMPLE_PROJECTION_OFFSET = 1694.625
  SECOND_STANDARD_PARALLEL = "N/A"
  WESTERNMOST_LONGITUDE = 124.565
END_OBJECT = IMAGE_MAP_PROJECTION
END
