PDS_VERSION_ID = PDS3
/* FILE DATA ELEMENTS */
RECORD_TYPE = UNDEFINED
/* POINTERS TO DATA OBJECTS */
^IMAGE = ("HQ437_0000_S14.TIF")
/* IDENTIFICATION DATA ELEMENTS */
DATA_SET_ID = "MEX-M-HRSC-4-REFDR-MAPPROJECT-EXT9-V4.0"
DATA_SET_NAME = "MARS EXPRESS HRSC MAP PROJECTED REFDR EXTENSION9 V4.0"
DETECTOR_ID = MEX_HRSC_S1
EVENT_TYPE = "MARS-REGIONAL-MAPPING-Gl-Pf-Eo"
INSTRUMENT_HOST_ID = MEX
INSTRUMENT_HOST_NAME = "MARS EXPRESS"
INSTRUMENT_ID = HRSC
INSTRUMENT_NAME = "HIGH RESOLUTION STEREO CAMERA"
MISSION_NAME = "MARS EXPRESS"
MISSION_PHASE_NAME = ME_Phase_50
PROCESSING_LEVEL_ID = 4
PRODUCT_CREATION_TIME = 2025-01-29T19:26:23.000Z
PRODUCT_ID = "HQ437_0000_S14.TIF"
RELEASE_ID = 0022
REVISION_ID = 0000
/* QUALITY DATA ELEMENTS */
DATA_QUALITY_ID = 1
DATA_QUALITY_DESC = "Data calculated based on original SPICE kernels"
/* TIME DATA ELEMENTS */
SPACECRAFT_CLOCK_START_COUNT = "1/0681968377.00404"
SPACECRAFT_CLOCK_STOP_COUNT = "1/0681968690.30017"
START_TIME = 2024-12-11T03:40:29.531Z
STOP_TIME = 2024-12-11T03:44:31.921Z
/* ORBITAL DATA ELEMENTS */
ASCENDING_NODE_LONGITUDE = 84.96
MAXIMUM_RESOLUTION = 0.037
FOOTPRINT_POINT_LATITUDE = (82.1547,81.9934,81.793,81.6126,81.606, 81.5273,81.1909,80.8521,80.3427,80.006, 79.6657,79.3252,78.9841,78.479,78.14, 77.8004,77.4669,77.1323,76.7965,76.4599 ,75.9547,75.6238,75.292,74.9594,74.6258 ,74.2923,73.9654,73.6379,73.3096, 72.9807,72.6513,72.3211,71.8279,71.1807 ,70.8561,70.5311,70.2052,69.8789, 69.5519,69.2241,68.896,68.5674,68.2407, 67.598,66.9526,66.3047,65.6549,65.1661, 65.0027,64.9854,65.0415,65.1269,65.1673 ,65.1685,65.1695,65.6617,66.3161, 66.9695,67.458,67.9454,68.5946,68.926, 69.2578,69.5887,70.0844,70.4144,70.7442 ,71.0737,71.4022,71.7302,72.0581, 72.5578,72.893,73.2277,73.5618,73.896, 74.2295,74.5627,74.9023,75.2428,75.583, 75.9226,76.2618,76.7799,77.1262,77.472, 77.8173,78.1621,78.5134,78.8678,79.2194 ,79.5701,79.9267,80.4625,80.8189, 81.1786,81.5418,81.9029,82.083,82.1547)
FOOTPRINT_POINT_LONGITUDE = (17.6649,13.8996,10.2032,7.43577, 7.34245,7.2652,8.31922,9.29482,10.621, 11.4154,12.1559,12.8492,13.4857,14.3665 ,14.9105,15.4221,15.8953,16.3432, 16.7675,17.1701,17.7342,18.0804,18.4102 ,18.7248,19.0249,19.311,19.5786,19.8349 ,20.0805,20.3161,20.5422,20.7592, 21.0669,21.4434,21.6212,21.7927,21.958, 22.1174,22.2713,22.4197,22.5631,22.7017 ,22.8345,23.083,23.3159,23.5343,23.7395 ,23.8853,23.9324,23.9374,24.8545, 26.5222,27.5573,27.5931,27.6059,27.5215 ,27.4035,27.2781,27.1795,27.0767, 26.9323,26.8554,26.775,26.6926,26.5634, 26.4736,26.3804,26.2838,26.1844,26.0815 ,25.9745,25.8033,25.6826,25.557,25.4266 ,25.2898,25.1478,24.9992,24.8411, 24.6749,24.5003,24.3176,24.1257,23.8126 ,23.5888,23.3525,23.1027,22.8381, 22.5513,22.2358,21.9082,21.559,21.1757, 20.5479,20.0868,19.5844,19.0266,18.4252 ,18.1042,17.6649)
ORBIT_NUMBER = 26437
ORBITAL_ECCENTRICITY = 0.567
ORBITAL_INCLINATION = 87.12
ORBITAL_SEMIMAJOR_AXIS = 8772.29
PERIAPSIS_ALTITUDE = 417.47
PERIAPSIS_ARGUMENT_ANGLE = 113.69
PERIAPSIS_TIME = 2024-12-11T03:45:07.000Z
SPACECRAFT_ORIENTATION = (0.0,-1.0,0.0)
^MEX_ORIENTATION_DESC = "MEX_ORIENTATION_DESC.TXT"
SPACECRAFT_POINTING_MODE = INERT
^MEX_POINTING_DESC = "MEX_POINTING_DESC.TXT"
RIGHT_ASCENSION = 132.478
DECLINATION = -37.421
OFFSET_ANGLE = -1e+32
SPACECRAFT_SOLAR_DISTANCE = 2.38025e+08
TARGET_NAME = MARS
/* CAMERA DATA ELEMENTS */
DETECTOR_TEMPERATURE = 17.5549
FOCAL_PLANE_TEMPERATURE = 8.9911
INST_CMPRS_NAME = "DISCRETE COSINE TRANSFORMATION (DCT)"
INST_CMPRS_RATIO = 11.5333
INST_CMPRS_QUALITY = 0
INST_CMPRS_QUANTZ_TBL_ID = 0
INSTRUMENT_TEMPERATURE = 11.234
LENS_TEMPERATURE = 9.6028
MACROPIXEL_SIZE = 2
MISSING_FRAMES = 1
PIXEL_SUBSAMPLING_FLAG = N
SIGNAL_CHAIN_ID = 1
/* RADIOMETRIC DATA ELEMENTS */
BANDWIDTH = 180.0
CENTER_FILTER_WAVELENGTH = 677.0
RADIANCE_OFFSET = 4.02557
RADIANCE_SCALING_FACTOR = 0.0234252
REFLECTANCE_SCALING_FACTOR = 0.000692417
MEX:REFLECTANCE_OFFSET = 0.11899
/* IMAGE OBJECT DEFINITIONS */
OBJECT = IMAGE
  INTERCHANGE_FORMAT = BINARY
  LINES = 40522
  LINE_SAMPLES = 9937
  SAMPLE_TYPE = UNSIGNED_INTEGER
  SAMPLE_BITS = 8
  BANDS = 1
  BAND_STORAGE_TYPE = BAND_SEQUENTIAL
  MAXIMUM = 255
  MEAN = 142.318
  MINIMUM = 1
  STANDARD_DEVIATION = 69.9473
END_OBJECT = IMAGE
/* MAP OBJECT DEFINITIONS */
OBJECT = IMAGE_MAP_PROJECTION
  ^DATA_SET_MAP_PROJECTION_CATALOG= "DSMAP.CAT"
  A_AXIS_RADIUS = 3396.0
  B_AXIS_RADIUS = 3396.0
  C_AXIS_RADIUS = 3396.0
  CENTER_LATITUDE = 0.0
  CENTER_LONGITUDE = 23.0
  COORDINATE_SYSTEM_NAME = PLANETOGRAPHIC
  COORDINATE_SYSTEM_TYPE = "BODY-FIXED ROTATING"
  EASTERNMOST_LONGITUDE = 27.6059
  FIRST_STANDARD_PARALLEL = "N/A"
  LINE_FIRST_PIXEL = 1
  LINE_LAST_PIXEL = 40522
  LINE_PROJECTION_OFFSET = 194662.75
  MAP_PROJECTION_ROTATION = 0.0
  MAP_PROJECTION_TYPE = SINUSOIDAL
  MAP_RESOLUTION = 2370.85521546667
  MAP_SCALE = 0.025
  MAXIMUM_LATITUDE = 82.15470000000001
  MINIMUM_LATITUDE = 64.9854
  POSITIVE_LONGITUDE_DIRECTION = EAST
  REFERENCE_LATITUDE = "N/A"
  REFERENCE_LONGITUDE = "N/A"
  SAMPLE_FIRST_PIXEL = 1
  SAMPLE_LAST_PIXEL = 9937
  SAMPLE_PROJECTION_OFFSET = 5582.25
  SECOND_STANDARD_PARALLEL = "N/A"
  WESTERNMOST_LONGITUDE = 7.2652
END_OBJECT = IMAGE_MAP_PROJECTION
END
