PDS_VERSION_ID = PDS3
/* FILE DATA ELEMENTS */
RECORD_TYPE = UNDEFINED
/* POINTERS TO DATA OBJECTS */
^IMAGE = ("HQ438_0000_IR4.TIF")
/* IDENTIFICATION DATA ELEMENTS */
DATA_SET_ID = "MEX-M-HRSC-4-REFDR-MAPPROJECT-EXT9-V4.0"
DATA_SET_NAME = "MARS EXPRESS HRSC MAP PROJECTED REFDR EXTENSION9 V4.0"
DETECTOR_ID = MEX_HRSC_IR
EVENT_TYPE = "MARS-REGIONAL-MAPPING-Im-Pf-La"
INSTRUMENT_HOST_ID = MEX
INSTRUMENT_HOST_NAME = "MARS EXPRESS"
INSTRUMENT_ID = HRSC
INSTRUMENT_NAME = "HIGH RESOLUTION STEREO CAMERA"
MISSION_NAME = "MARS EXPRESS"
MISSION_PHASE_NAME = ME_Phase_50
PROCESSING_LEVEL_ID = 4
PRODUCT_CREATION_TIME = 2025-01-29T19:26:23.000Z
PRODUCT_ID = "HQ438_0000_IR4.TIF"
RELEASE_ID = 0022
REVISION_ID = 0000
/* QUALITY DATA ELEMENTS */
DATA_QUALITY_ID = 1
DATA_QUALITY_DESC = "Data calculated based on original SPICE kernels"
/* TIME DATA ELEMENTS */
SPACECRAFT_CLOCK_START_COUNT = "1/0681993765.00348"
SPACECRAFT_CLOCK_STOP_COUNT = "1/0681994062.08003"
START_TIME = 2024-12-11T10:43:42.919Z
STOP_TIME = 2024-12-11T10:47:24.640Z
/* ORBITAL DATA ELEMENTS */
ASCENDING_NODE_LONGITUDE = 84.95
MAXIMUM_RESOLUTION = 0.0681
FOOTPRINT_POINT_LATITUDE = (67.8084,67.7151,67.6231,67.6209, 67.5682,66.6443,66.027,65.2542,64.6348, 64.1695,63.8593,63.5487,63.2378,62.9267 ,62.6154,62.3039,61.9922,61.6801, 61.3676,61.055,60.7423,60.4292,60.116, 59.8021,59.488,59.1739,58.8594,58.5449, 58.2297,57.9144,57.5987,57.1168,56.7918 ,56.4665,56.1412,55.6521,55.3256, 54.9987,54.6715,54.3439,54.0159,53.6813 ,53.344,53.006,52.6677,52.3289,51.82, 51.6502,51.6477,51.7025,51.7544,51.7846 ,51.7856,51.7873,52.1275,52.4671, 52.8061,53.1446,53.483,53.8207,54.3202, 54.6484,54.9765,55.3042,55.6316,55.9588 ,56.2853,56.6114,56.937,57.2627,57.5872 ,57.9038,58.3783,58.8523,59.1678, 59.6408,59.9556,60.2702,60.5847,60.8989 ,61.213,61.527,61.8405,62.1539,62.4671, 62.9366,63.2493,63.5619,63.8742,64.1864 ,64.4984,64.8103,65.1221,65.4336,65.745 ,66.3672,66.9887,67.6099,67.7651, 67.8084)
FOOTPRINT_POINT_LONGITUDE = (284.301,282.347,280.799,280.766, 280.666,281.005,281.213,281.457,281.638 ,281.768,281.851,281.932,282.01,282.086 ,282.16,282.232,282.302,282.37,282.436, 282.5,282.563,282.624,282.683,282.74, 282.796,282.85,282.903,282.954,283.004, 283.053,283.1,283.17,283.215,283.259, 283.302,283.364,283.404,283.442,283.48, 283.517,283.552,283.587,283.622,283.655 ,283.687,283.719,283.764,283.779, 283.779,284.649,285.616,286.343,286.367 ,286.375,286.352,286.328,286.304, 286.279,286.254,286.228,286.189,286.163 ,286.137,286.109,286.082,286.053, 286.025,285.995,285.965,285.935,285.904 ,285.873,285.825,285.775,285.741, 285.689,285.654,285.617,285.58,285.541, 285.502,285.462,285.421,285.379,285.336 ,285.269,285.223,285.176,285.128, 285.078,285.027,284.975,284.921,284.866 ,284.809,284.691,284.567,284.435,284.4, 284.301)
ORBIT_NUMBER = 26438
ORBITAL_ECCENTRICITY = 0.567
ORBITAL_INCLINATION = 87.12
ORBITAL_SEMIMAJOR_AXIS = 8770.4
PERIAPSIS_ALTITUDE = 417.26
PERIAPSIS_ARGUMENT_ANGLE = 113.53
PERIAPSIS_TIME = 2024-12-11T10:44:18.000Z
SPACECRAFT_ORIENTATION = (0.0,-1.0,0.0)
^MEX_ORIENTATION_DESC = "MEX_ORIENTATION_DESC.TXT"
SPACECRAFT_POINTING_MODE = INERT
^MEX_POINTING_DESC = "MEX_POINTING_DESC.TXT"
RIGHT_ASCENSION = 133.112
DECLINATION = -22.841
OFFSET_ANGLE = -1e+32
SPACECRAFT_SOLAR_DISTANCE = 2.38072e+08
TARGET_NAME = MARS
/* CAMERA DATA ELEMENTS */
DETECTOR_TEMPERATURE = 16.7393
FOCAL_PLANE_TEMPERATURE = 8.5833
INST_CMPRS_NAME = "DISCRETE COSINE TRANSFORMATION (DCT)"
INST_CMPRS_RATIO = 17.6935
INST_CMPRS_QUALITY = 0
INST_CMPRS_QUANTZ_TBL_ID = 0
INSTRUMENT_TEMPERATURE = 11.6418
LENS_TEMPERATURE = 9.6028
MACROPIXEL_SIZE = 4
MISSING_FRAMES = 0
PIXEL_SUBSAMPLING_FLAG = N
SIGNAL_CHAIN_ID = 2
/* RADIOMETRIC DATA ELEMENTS */
BANDWIDTH = 81.0
CENTER_FILTER_WAVELENGTH = 955.5
RADIANCE_OFFSET = 0.962199
RADIANCE_SCALING_FACTOR = 0.00447409
REFLECTANCE_SCALING_FACTOR = 0.000547081
MEX:REFLECTANCE_OFFSET = 0.117655
/* IMAGE OBJECT DEFINITIONS */
OBJECT = IMAGE
  INTERCHANGE_FORMAT = BINARY
  LINES = 19054
  LINE_SAMPLES = 3242
  SAMPLE_TYPE = UNSIGNED_INTEGER
  SAMPLE_BITS = 8
  BANDS = 1
  BAND_STORAGE_TYPE = BAND_SEQUENTIAL
  MAXIMUM = 255
  MEAN = 103.615
  MINIMUM = 1
  STANDARD_DEVIATION = 45.1621
END_OBJECT = IMAGE
/* MAP OBJECT DEFINITIONS */
OBJECT = IMAGE_MAP_PROJECTION
  ^DATA_SET_MAP_PROJECTION_CATALOG= "DSMAP.CAT"
  A_AXIS_RADIUS = 3396.0
  B_AXIS_RADIUS = 3396.0
  C_AXIS_RADIUS = 3396.0
  CENTER_LATITUDE = 0.0
  CENTER_LONGITUDE = 284.0
  COORDINATE_SYSTEM_NAME = PLANETOGRAPHIC
  COORDINATE_SYSTEM_TYPE = "BODY-FIXED ROTATING"
  EASTERNMOST_LONGITUDE = 286.375
  FIRST_STANDARD_PARALLEL = "N/A"
  LINE_FIRST_PIXEL = 1
  LINE_LAST_PIXEL = 19054
  LINE_PROJECTION_OFFSET = 80310.625
  MAP_PROJECTION_ROTATION = 0.0
  MAP_PROJECTION_TYPE = SINUSOIDAL
  MAP_RESOLUTION = 1185.42760773333
  MAP_SCALE = 0.05
  MAXIMUM_LATITUDE = 67.80840000000001
  MINIMUM_LATITUDE = 51.6477
  POSITIVE_LONGITUDE_DIRECTION = EAST
  REFERENCE_LATITUDE = "N/A"
  REFERENCE_LONGITUDE = "N/A"
  SAMPLE_FIRST_PIXEL = 1
  SAMPLE_LAST_PIXEL = 3242
  SAMPLE_PROJECTION_OFFSET = 1591.375
  SECOND_STANDARD_PARALLEL = "N/A"
  WESTERNMOST_LONGITUDE = 280.666
END_OBJECT = IMAGE_MAP_PROJECTION
END
