PDS_VERSION_ID = PDS3
/* FILE DATA ELEMENTS */
RECORD_TYPE = UNDEFINED
/* POINTERS TO DATA OBJECTS */
^IMAGE = ("HQ438_0000_P14.TIF")
/* IDENTIFICATION DATA ELEMENTS */
DATA_SET_ID = "MEX-M-HRSC-4-REFDR-MAPPROJECT-EXT9-V4.0"
DATA_SET_NAME = "MARS EXPRESS HRSC MAP PROJECTED REFDR EXTENSION9 V4.0"
DETECTOR_ID = MEX_HRSC_P1
EVENT_TYPE = "MARS-REGIONAL-MAPPING-Im-Pf-La"
INSTRUMENT_HOST_ID = MEX
INSTRUMENT_HOST_NAME = "MARS EXPRESS"
INSTRUMENT_ID = HRSC
INSTRUMENT_NAME = "HIGH RESOLUTION STEREO CAMERA"
MISSION_NAME = "MARS EXPRESS"
MISSION_PHASE_NAME = ME_Phase_50
PROCESSING_LEVEL_ID = 4
PRODUCT_CREATION_TIME = 2025-01-29T19:26:23.000Z
PRODUCT_ID = "HQ438_0000_P14.TIF"
RELEASE_ID = 0022
REVISION_ID = 0000
/* QUALITY DATA ELEMENTS */
DATA_QUALITY_ID = 1
DATA_QUALITY_DESC = "Data calculated based on original SPICE kernels"
/* TIME DATA ELEMENTS */
SPACECRAFT_CLOCK_START_COUNT = "1/0681993765.00348"
SPACECRAFT_CLOCK_STOP_COUNT = "1/0681994062.08003"
START_TIME = 2024-12-11T10:43:48.557Z
STOP_TIME = 2024-12-11T10:47:30.880Z
/* ORBITAL DATA ELEMENTS */
ASCENDING_NODE_LONGITUDE = 84.95
MAXIMUM_RESOLUTION = 0.0338
FOOTPRINT_POINT_LATITUDE = (67.7873,67.7473,67.6759,67.6011, 67.5988,67.5649,66.6412,66.0244,65.2523 ,64.6338,64.1694,63.8597,63.5497, 63.2395,62.9291,62.6186,62.1524,61.8415 ,61.5301,61.2186,60.907,60.5952,60.2832 ,59.9709,59.6582,59.3454,58.8758, 58.5627,58.2491,57.9353,57.6154,57.2928 ,56.9698,56.6465,56.323,55.9995,55.6753 ,55.3509,55.0261,54.7011,54.3755, 54.0365,53.7022,53.3675,53.0323,52.6968 ,52.3608,51.854,51.6815,51.6674,51.7322 ,51.7596,51.8037,51.8048,51.8058, 52.1498,52.4865,52.8227,53.1585,53.4943 ,53.8295,54.1643,54.5038,54.8304,55.156 ,55.4813,55.8065,56.1313,56.4558, 56.7799,57.1038,57.4274,57.7508,58.0721 ,58.3867,58.8584,59.1727,59.4868, 59.8004,60.1141,60.4273,60.7406,61.0537 ,61.3668,61.6795,61.9921,62.3046, 62.6169,63.0851,63.3971,63.7089,64.1764 ,64.6437,65.1107,65.733,66.5102,67.1314 ,67.5972,67.7524,67.7873)
FOOTPRINT_POINT_LONGITUDE = (284.299,283.395,282.009,280.765, 280.731,280.618,280.959,281.169,281.413 ,281.596,281.726,281.809,281.89,281.969 ,282.045,282.12,282.227,282.297,282.364 ,282.429,282.493,282.554,282.615, 282.673,282.729,282.785,282.865,282.916 ,282.966,283.015,283.064,283.111, 283.157,283.201,283.245,283.287,283.328 ,283.368,283.407,283.444,283.481, 283.518,283.553,283.588,283.621,283.653 ,283.685,283.73,283.745,283.746,284.803 ,285.306,286.314,286.339,286.349, 286.325,286.302,286.278,286.254,286.229 ,286.204,286.179,286.153,286.127,286.1, 286.073,286.046,286.018,285.989,285.96, 285.93,285.9,285.869,285.837,285.806, 285.757,285.723,285.689,285.654,285.619 ,285.582,285.545,285.507,285.467, 285.427,285.386,285.344,285.301,285.234 ,285.188,285.141,285.068,284.992, 284.913,284.802,284.655,284.53,284.431, 284.396,284.299)
ORBIT_NUMBER = 26438
ORBITAL_ECCENTRICITY = 0.567
ORBITAL_INCLINATION = 87.12
ORBITAL_SEMIMAJOR_AXIS = 8770.4
PERIAPSIS_ALTITUDE = 417.26
PERIAPSIS_ARGUMENT_ANGLE = 113.53
PERIAPSIS_TIME = 2024-12-11T10:44:18.000Z
SPACECRAFT_ORIENTATION = (0.0,-1.0,0.0)
^MEX_ORIENTATION_DESC = "MEX_ORIENTATION_DESC.TXT"
SPACECRAFT_POINTING_MODE = INERT
^MEX_POINTING_DESC = "MEX_POINTING_DESC.TXT"
RIGHT_ASCENSION = 133.112
DECLINATION = -22.841
OFFSET_ANGLE = -1e+32
SPACECRAFT_SOLAR_DISTANCE = 2.38072e+08
TARGET_NAME = MARS
/* CAMERA DATA ELEMENTS */
DETECTOR_TEMPERATURE = 16.7393
FOCAL_PLANE_TEMPERATURE = 8.5833
INST_CMPRS_NAME = "DISCRETE COSINE TRANSFORMATION (DCT)"
INST_CMPRS_RATIO = 14.0596
INST_CMPRS_QUALITY = 0
INST_CMPRS_QUANTZ_TBL_ID = 0
INSTRUMENT_TEMPERATURE = 11.6418
LENS_TEMPERATURE = 9.6028
MACROPIXEL_SIZE = 2
MISSING_FRAMES = 1
PIXEL_SUBSAMPLING_FLAG = N
SIGNAL_CHAIN_ID = 3
/* RADIOMETRIC DATA ELEMENTS */
BANDWIDTH = 174.0
CENTER_FILTER_WAVELENGTH = 675.0
RADIANCE_OFFSET = 4.11437
RADIANCE_SCALING_FACTOR = 0.0159631
REFLECTANCE_SCALING_FACTOR = 0.000486656
MEX:REFLECTANCE_OFFSET = 0.125432
/* IMAGE OBJECT DEFINITIONS */
OBJECT = IMAGE
  INTERCHANGE_FORMAT = BINARY
  LINES = 38108
  LINE_SAMPLES = 6484
  SAMPLE_TYPE = UNSIGNED_INTEGER
  SAMPLE_BITS = 8
  BANDS = 1
  BAND_STORAGE_TYPE = BAND_SEQUENTIAL
  MAXIMUM = 255
  MEAN = 98.0722
  MINIMUM = 1
  STANDARD_DEVIATION = 45.0836
END_OBJECT = IMAGE
/* MAP OBJECT DEFINITIONS */
OBJECT = IMAGE_MAP_PROJECTION
  ^DATA_SET_MAP_PROJECTION_CATALOG= "DSMAP.CAT"
  A_AXIS_RADIUS = 3396.0
  B_AXIS_RADIUS = 3396.0
  C_AXIS_RADIUS = 3396.0
  CENTER_LATITUDE = 0.0
  CENTER_LONGITUDE = 284.0
  COORDINATE_SYSTEM_NAME = PLANETOGRAPHIC
  COORDINATE_SYSTEM_TYPE = "BODY-FIXED ROTATING"
  EASTERNMOST_LONGITUDE = 286.349
  FIRST_STANDARD_PARALLEL = "N/A"
  LINE_FIRST_PIXEL = 1
  LINE_LAST_PIXEL = 38108
  LINE_PROJECTION_OFFSET = 160621.75
  MAP_PROJECTION_ROTATION = 0.0
  MAP_PROJECTION_TYPE = SINUSOIDAL
  MAP_RESOLUTION = 2370.85521546667
  MAP_SCALE = 0.025
  MAXIMUM_LATITUDE = 67.7873
  MINIMUM_LATITUDE = 51.6674
  POSITIVE_LONGITUDE_DIRECTION = EAST
  REFERENCE_LATITUDE = "N/A"
  REFERENCE_LONGITUDE = "N/A"
  SAMPLE_FIRST_PIXEL = 1
  SAMPLE_LAST_PIXEL = 6484
  SAMPLE_PROJECTION_OFFSET = 3183.25
  SECOND_STANDARD_PARALLEL = "N/A"
  WESTERNMOST_LONGITUDE = 280.618
END_OBJECT = IMAGE_MAP_PROJECTION
END
