PDS_VERSION_ID = PDS3
/* FILE DATA ELEMENTS */
RECORD_TYPE = UNDEFINED
/* POINTERS TO DATA OBJECTS */
^IMAGE = ("HQ439_0000_ND4.TIF")
/* IDENTIFICATION DATA ELEMENTS */
DATA_SET_ID = "MEX-M-HRSC-4-REFDR-MAPPROJECT-EXT9-V4.0"
DATA_SET_NAME = "MARS EXPRESS HRSC MAP PROJECTED REFDR EXTENSION9 V4.0"
DETECTOR_ID = MEX_HRSC_NADIR
EVENT_TYPE = "MARS-REGIONAL-MAPPING-Im-Pf-La"
INSTRUMENT_HOST_ID = MEX
INSTRUMENT_HOST_NAME = "MARS EXPRESS"
INSTRUMENT_ID = HRSC
INSTRUMENT_NAME = "HIGH RESOLUTION STEREO CAMERA"
MISSION_NAME = "MARS EXPRESS"
MISSION_PHASE_NAME = ME_Phase_50
PROCESSING_LEVEL_ID = 4
PRODUCT_CREATION_TIME = 2025-01-29T19:26:23.000Z
PRODUCT_ID = "HQ439_0000_ND4.TIF"
RELEASE_ID = 0022
REVISION_ID = 0000
/* QUALITY DATA ELEMENTS */
DATA_QUALITY_ID = 1
DATA_QUALITY_DESC = "Data calculated based on original SPICE kernels"
/* TIME DATA ELEMENTS */
SPACECRAFT_CLOCK_START_COUNT = "1/0682018761.00623"
SPACECRAFT_CLOCK_STOP_COUNT = "1/0682019020.09486"
START_TIME = 2024-12-11T17:40:49.287Z
STOP_TIME = 2024-12-11T17:43:57.292Z
/* ORBITAL DATA ELEMENTS */
ASCENDING_NODE_LONGITUDE = 84.92
MAXIMUM_RESOLUTION = 0.0169
FOOTPRINT_POINT_LATITUDE = (76.8359,76.7486,76.642,76.5225,76.5186 ,76.5467,76.2778,75.8738,75.469,75.1988 ,74.9283,74.6633,74.3991,74.0023,73.605 ,73.3399,73.0746,72.8092,72.4107, 72.1448,71.7457,71.4862,71.2266,70.9669 ,70.7071,70.4472,70.1871,69.9269, 69.5364,69.2759,68.885,68.6242,68.3634, 67.9719,67.5801,67.1881,66.9267,66.6651 ,66.4035,66.1416,65.8798,65.4868, 65.2247,64.9624,64.7,64.4374,64.0436, 63.6493,63.5178,63.3869,63.424,63.4801, 63.5111,63.5504,63.5517,63.5526,63.949, 64.3453,64.7415,65.0056,65.2696,65.5335 ,65.7974,66.0612,66.4569,66.7206,67.116 ,67.3796,67.6431,67.9066,68.3018, 68.5652,68.9602,69.2235,69.4868,69.7501 ,70.1449,70.4081,70.6713,70.9345, 71.1976,71.4607,71.7238,71.9871,72.257, 72.527,72.7969,73.0669,73.3368,73.7415, 74.0115,74.4163,74.8211,75.0909,75.3651 ,75.6419,76.1954,76.6102,76.7485, 76.8359)
FOOTPRINT_POINT_LONGITUDE = (179.118,177.05,174.949,172.941,172.881 ,172.623,172.936,173.382,173.802, 174.068,174.323,174.564,174.795,175.127 ,175.441,175.641,175.835,176.021,176.29 ,176.461,176.709,176.863,177.012, 177.157,177.298,177.434,177.567,177.695 ,177.88,178.0,178.172,178.284,178.392, 178.548,178.699,178.843,178.936,179.026 ,179.115,179.2,179.284,179.405,179.484, 179.56,179.634,179.706,179.812,179.914, 179.946,179.979,180.596,181.638,182.291 ,183.242,183.274,183.291,183.234, 183.175,183.114,183.072,183.029,182.985 ,182.941,182.895,182.824,182.775,182.7, 182.648,182.595,182.541,182.457,182.399 ,182.309,182.247,182.183,182.118, 182.017,181.946,181.875,181.8,181.724, 181.646,181.565,181.481,181.393,181.301 ,181.207,181.109,181.008,180.85,180.741 ,180.568,180.387,180.26,180.126,179.986 ,179.687,179.446,179.363,179.118)
ORBIT_NUMBER = 26439
ORBITAL_ECCENTRICITY = 0.567
ORBITAL_INCLINATION = 87.13
ORBITAL_SEMIMAJOR_AXIS = 8768.36
PERIAPSIS_ALTITUDE = 417.57
PERIAPSIS_ARGUMENT_ANGLE = 113.36
PERIAPSIS_TIME = 2024-12-11T17:43:21.000Z
SPACECRAFT_ORIENTATION = (0.0,-1.0,0.0)
^MEX_ORIENTATION_DESC = "MEX_ORIENTATION_DESC.TXT"
SPACECRAFT_POINTING_MODE = INERT
^MEX_POINTING_DESC = "MEX_POINTING_DESC.TXT"
RIGHT_ASCENSION = 132.398
DECLINATION = -33.687
OFFSET_ANGLE = -1e+32
SPACECRAFT_SOLAR_DISTANCE = 2.3812e+08
TARGET_NAME = MARS
/* CAMERA DATA ELEMENTS */
DETECTOR_TEMPERATURE = 17.7588
FOCAL_PLANE_TEMPERATURE = 8.3794
INST_CMPRS_NAME = "DISCRETE COSINE TRANSFORMATION (DCT)"
INST_CMPRS_RATIO = 7.32067
INST_CMPRS_QUALITY = 0
INST_CMPRS_QUANTZ_TBL_ID = 0
INSTRUMENT_TEMPERATURE = 10.6223
LENS_TEMPERATURE = 8.7872
MACROPIXEL_SIZE = 1
MISSING_FRAMES = 0
PIXEL_SUBSAMPLING_FLAG = N
SIGNAL_CHAIN_ID = 0
/* RADIOMETRIC DATA ELEMENTS */
BANDWIDTH = 177.0
CENTER_FILTER_WAVELENGTH = 677.5
RADIANCE_OFFSET = 4.34142
RADIANCE_SCALING_FACTOR = 0.0168124
REFLECTANCE_SCALING_FACTOR = 0.000506412
MEX:REFLECTANCE_OFFSET = 0.13077
/* IMAGE OBJECT DEFINITIONS */
OBJECT = IMAGE
  INTERCHANGE_FORMAT = BINARY
  LINES = 63901
  LINE_SAMPLES = 14993
  SAMPLE_TYPE = UNSIGNED_INTEGER
  SAMPLE_BITS = 8
  BANDS = 1
  BAND_STORAGE_TYPE = BAND_SEQUENTIAL
  MAXIMUM = 255
  MEAN = 128.384
  MINIMUM = 1
  STANDARD_DEVIATION = 43.5949
END_OBJECT = IMAGE
/* MAP OBJECT DEFINITIONS */
OBJECT = IMAGE_MAP_PROJECTION
  ^DATA_SET_MAP_PROJECTION_CATALOG= "DSMAP.CAT"
  A_AXIS_RADIUS = 3396.0
  B_AXIS_RADIUS = 3396.0
  C_AXIS_RADIUS = 3396.0
  CENTER_LATITUDE = 0.0
  CENTER_LONGITUDE = 180.0
  COORDINATE_SYSTEM_NAME = PLANETOGRAPHIC
  COORDINATE_SYSTEM_TYPE = "BODY-FIXED ROTATING"
  EASTERNMOST_LONGITUDE = 183.291
  FIRST_STANDARD_PARALLEL = "N/A"
  LINE_FIRST_PIXEL = 1
  LINE_LAST_PIXEL = 63901
  LINE_PROJECTION_OFFSET = 364500.0
  MAP_PROJECTION_ROTATION = 0.0
  MAP_PROJECTION_TYPE = SINUSOIDAL
  MAP_RESOLUTION = 4741.71043093333
  MAP_SCALE = 0.0125
  MAXIMUM_LATITUDE = 76.8359
  MINIMUM_LATITUDE = 63.3869
  POSITIVE_LONGITUDE_DIRECTION = EAST
  REFERENCE_LATITUDE = "N/A"
  REFERENCE_LONGITUDE = "N/A"
  SAMPLE_FIRST_PIXEL = 1
  SAMPLE_LAST_PIXEL = 14993
  SAMPLE_PROJECTION_OFFSET = 8086.0
  SECOND_STANDARD_PARALLEL = "N/A"
  WESTERNMOST_LONGITUDE = 172.623
END_OBJECT = IMAGE_MAP_PROJECTION
END
