PDS_VERSION_ID = PDS3
/* FILE DATA ELEMENTS */
RECORD_TYPE = UNDEFINED
/* POINTERS TO DATA OBJECTS */
^IMAGE = ("HQ442_0000_IR4.TIF")
/* IDENTIFICATION DATA ELEMENTS */
DATA_SET_ID = "MEX-M-HRSC-4-REFDR-MAPPROJECT-EXT9-V4.0"
DATA_SET_NAME = "MARS EXPRESS HRSC MAP PROJECTED REFDR EXTENSION9 V4.0"
DETECTOR_ID = MEX_HRSC_IR
EVENT_TYPE = "MARS-REGIONAL-MAPPING-Im-Pf-La"
INSTRUMENT_HOST_ID = MEX
INSTRUMENT_HOST_NAME = "MARS EXPRESS"
INSTRUMENT_ID = HRSC
INSTRUMENT_NAME = "HIGH RESOLUTION STEREO CAMERA"
MISSION_NAME = "MARS EXPRESS"
MISSION_PHASE_NAME = ME_Phase_50
PROCESSING_LEVEL_ID = 4
PRODUCT_CREATION_TIME = 2025-01-29T19:26:23.000Z
PRODUCT_ID = "HQ442_0000_IR4.TIF"
RELEASE_ID = 0022
REVISION_ID = 0000
/* QUALITY DATA ELEMENTS */
DATA_QUALITY_ID = 1
DATA_QUALITY_DESC = "Data calculated based on original SPICE kernels"
/* TIME DATA ELEMENTS */
SPACECRAFT_CLOCK_START_COUNT = "1/0682094255.64163"
SPACECRAFT_CLOCK_STOP_COUNT = "1/0682094521.07801"
START_TIME = 2024-12-12T14:38:34.292Z
STOP_TIME = 2024-12-12T14:41:47.442Z
/* ORBITAL DATA ELEMENTS */
ASCENDING_NODE_LONGITUDE = 84.88
MAXIMUM_RESOLUTION = 0.0696
FOOTPRINT_POINT_LATITUDE = (73.7752,73.7528,73.7229,73.6827, 73.6813,73.6277,73.3479,73.0682,72.6483 ,72.3677,72.087,71.8086,71.535,71.2614, 70.9872,70.7122,70.438,70.163,69.8875, 69.6126,69.1995,68.7859,68.5101,68.0968 ,67.8226,67.2834,66.8784,66.2026, 65.7968,65.5257,65.2544,64.983,64.7115, 64.4395,64.1675,63.7591,63.4866,63.2136 ,62.8041,62.3938,61.9829,61.7088, 61.2972,60.8849,60.6096,60.331,60.0479, 59.9063,59.865,59.8821,59.8833,59.8777, 59.8774,59.8785,60.1629,60.5858,60.8622 ,61.1385,61.4144,61.6901,61.9654, 62.2404,62.5153,62.79,63.0645,63.4755, 63.7495,64.0231,64.2964,64.5698,64.843, 65.1157,65.5245,65.9331,66.3412,66.6132 ,66.8847,67.2917,67.6986,68.1084, 68.5251,68.8029,69.0798,69.3573,69.6353 ,69.9116,70.1883,70.6034,70.88,71.1562, 71.4326,71.7084,71.9848,72.2677,72.6919 ,72.9744,73.2572,73.5397,73.6809, 73.7752)
FOOTPRINT_POINT_LONGITUDE = (238.309,236.248,234.724,233.24,233.194 ,233.292,233.425,233.553,233.736, 233.854,233.968,234.077,234.18,234.28, 234.378,234.473,234.564,234.653,234.741 ,234.824,234.946,235.063,235.137, 235.245,235.315,235.446,235.541,235.69, 235.775,235.83,235.884,235.937,235.988, 236.038,236.087,236.158,236.205,236.25, 236.316,236.38,236.441,236.482,236.54, 236.597,236.634,236.67,236.707,236.725, 236.73,238.158,238.895,239.829,239.859, 239.869,239.852,239.826,239.809,239.791 ,239.774,239.756,239.739,239.721, 239.704,239.686,239.667,239.64,239.622, 239.603,239.584,239.565,239.545,239.526 ,239.496,239.466,239.435,239.413, 239.392,239.36,239.327,239.292,239.256, 239.231,239.208,239.182,239.153,239.13, 239.104,239.062,239.034,239.006,238.976 ,238.947,238.916,238.884,238.834, 238.801,238.764,238.727,238.709, 238.309)
ORBIT_NUMBER = 26442
ORBITAL_ECCENTRICITY = 0.567
ORBITAL_INCLINATION = 87.13
ORBITAL_SEMIMAJOR_AXIS = 8768.27
PERIAPSIS_ALTITUDE = 416.71
PERIAPSIS_ARGUMENT_ANGLE = 112.82
PERIAPSIS_TIME = 2024-12-12T14:40:35.000Z
SPACECRAFT_ORIENTATION = (0.0,-1.0,0.0)
^MEX_ORIENTATION_DESC = "MEX_ORIENTATION_DESC.TXT"
SPACECRAFT_POINTING_MODE = INERT
^MEX_POINTING_DESC = "MEX_POINTING_DESC.TXT"
RIGHT_ASCENSION = 121.817
DECLINATION = -29.931
OFFSET_ANGLE = -1e+32
SPACECRAFT_SOLAR_DISTANCE = 2.38263e+08
TARGET_NAME = MARS
/* CAMERA DATA ELEMENTS */
DETECTOR_TEMPERATURE = 17.5549
FOCAL_PLANE_TEMPERATURE = 9.3989
INST_CMPRS_NAME = "DISCRETE COSINE TRANSFORMATION (DCT)"
INST_CMPRS_RATIO = 10.0647
INST_CMPRS_QUALITY = 0
INST_CMPRS_QUANTZ_TBL_ID = 0
INSTRUMENT_TEMPERATURE = 11.234
LENS_TEMPERATURE = 9.6028
MACROPIXEL_SIZE = 4
MISSING_FRAMES = 0
PIXEL_SUBSAMPLING_FLAG = N
SIGNAL_CHAIN_ID = 2
/* RADIOMETRIC DATA ELEMENTS */
BANDWIDTH = 81.0
CENTER_FILTER_WAVELENGTH = 955.5
RADIANCE_OFFSET = 0.976184
RADIANCE_SCALING_FACTOR = 0.00500316
REFLECTANCE_SCALING_FACTOR = 0.000612749
MEX:REFLECTANCE_OFFSET = 0.119556
/* IMAGE OBJECT DEFINITIONS */
OBJECT = IMAGE
  INTERCHANGE_FORMAT = BINARY
  LINES = 16494
  LINE_SAMPLES = 2886
  SAMPLE_TYPE = UNSIGNED_INTEGER
  SAMPLE_BITS = 8
  BANDS = 1
  BAND_STORAGE_TYPE = BAND_SEQUENTIAL
  MAXIMUM = 255
  MEAN = 146.817
  MINIMUM = 1
  STANDARD_DEVIATION = 45.7503
END_OBJECT = IMAGE
/* MAP OBJECT DEFINITIONS */
OBJECT = IMAGE_MAP_PROJECTION
  ^DATA_SET_MAP_PROJECTION_CATALOG= "DSMAP.CAT"
  A_AXIS_RADIUS = 3396.0
  B_AXIS_RADIUS = 3396.0
  C_AXIS_RADIUS = 3396.0
  CENTER_LATITUDE = 0.0
  CENTER_LONGITUDE = 237.0
  COORDINATE_SYSTEM_NAME = PLANETOGRAPHIC
  COORDINATE_SYSTEM_TYPE = "BODY-FIXED ROTATING"
  EASTERNMOST_LONGITUDE = 239.869
  FIRST_STANDARD_PARALLEL = "N/A"
  LINE_FIRST_PIXEL = 1
  LINE_LAST_PIXEL = 16494
  LINE_PROJECTION_OFFSET = 87422.625
  MAP_PROJECTION_ROTATION = 0.0
  MAP_PROJECTION_TYPE = SINUSOIDAL
  MAP_RESOLUTION = 1185.42760773333
  MAP_SCALE = 0.05
  MAXIMUM_LATITUDE = 73.7752
  MINIMUM_LATITUDE = 59.865
  POSITIVE_LONGITUDE_DIRECTION = EAST
  REFERENCE_LATITUDE = "N/A"
  REFERENCE_LONGITUDE = "N/A"
  SAMPLE_FIRST_PIXEL = 1
  SAMPLE_LAST_PIXEL = 2886
  SAMPLE_PROJECTION_OFFSET = 1289.625
  SECOND_STANDARD_PARALLEL = "N/A"
  WESTERNMOST_LONGITUDE = 233.194
END_OBJECT = IMAGE_MAP_PROJECTION
END
