PDS_VERSION_ID = PDS3
/* FILE DATA ELEMENTS */
RECORD_TYPE = UNDEFINED
/* POINTERS TO DATA OBJECTS */
^IMAGE = ("HQ443_0000_GR4.TIF")
/* IDENTIFICATION DATA ELEMENTS */
DATA_SET_ID = "MEX-M-HRSC-4-REFDR-MAPPROJECT-EXT9-V4.0"
DATA_SET_NAME = "MARS EXPRESS HRSC MAP PROJECTED REFDR EXTENSION9 V4.0"
DETECTOR_ID = MEX_HRSC_GREEN
EVENT_TYPE = "MARS-REGIONAL-MAPPING-Te-Im-Pf"
INSTRUMENT_HOST_ID = MEX
INSTRUMENT_HOST_NAME = "MARS EXPRESS"
INSTRUMENT_ID = HRSC
INSTRUMENT_NAME = "HIGH RESOLUTION STEREO CAMERA"
MISSION_NAME = "MARS EXPRESS"
MISSION_PHASE_NAME = ME_Phase_50
PROCESSING_LEVEL_ID = 4
PRODUCT_CREATION_TIME = 2025-01-29T19:26:23.000Z
PRODUCT_ID = "HQ443_0000_GR4.TIF"
RELEASE_ID = 0022
REVISION_ID = 0000
/* QUALITY DATA ELEMENTS */
DATA_QUALITY_ID = 1
DATA_QUALITY_DESC = "Data calculated based on original SPICE kernels"
/* TIME DATA ELEMENTS */
SPACECRAFT_CLOCK_START_COUNT = "1/0682119514.65139"
SPACECRAFT_CLOCK_STOP_COUNT = "1/0682119809.48339"
START_TIME = 2024-12-12T21:39:54.627Z
STOP_TIME = 2024-12-12T21:43:35.931Z
/* ORBITAL DATA ELEMENTS */
ASCENDING_NODE_LONGITUDE = 84.86
MAXIMUM_RESOLUTION = 0.0674
FOOTPRINT_POINT_LATITUDE = (67.0604,66.9931,66.9426,66.8717, 66.8695,66.8866,66.5854,66.2842,65.9829 ,65.6816,65.3802,65.0788,64.7774, 64.1742,63.5709,63.1183,62.6655,62.0616 ,61.4575,60.8531,60.3955,60.0851, 59.6194,59.3087,58.8427,58.5319,58.2209 ,57.9099,57.5988,57.2876,56.8111, 56.3344,56.0148,55.5351,55.2152,54.7349 ,54.4146,54.0913,53.7624,53.269,52.9399 ,52.6105,52.281,51.9455,51.4385,51.2695 ,51.2209,51.3054,51.3383,51.3608, 51.3619,51.3635,51.7018,52.0401,52.3775 ,52.7072,53.0371,53.3667,53.6962, 54.0256,54.3546,54.6756,54.9965,55.3173 ,55.6379,55.9585,56.2791,56.5994, 56.9183,57.3961,57.7082,58.0202,58.4882 ,58.9561,59.4237,59.7355,60.0472, 60.3589,60.6705,60.9753,61.2789,61.7343 ,62.0378,62.3413,62.6449,62.9484, 63.2519,63.5554,63.8589,64.1624,64.466, 64.7695,65.0731,65.3767,65.8321,66.1358 ,66.4394,66.8951,67.0469,67.0604)
FOOTPRINT_POINT_LONGITUDE = (133.261,131.842,130.917,129.759, 129.726,129.575,129.689,129.799,129.905 ,130.009,130.108,130.205,130.3,130.48, 130.65,130.771,130.887,131.034,131.173, 131.303,131.398,131.46,131.549,131.606, 131.69,131.743,131.795,131.846,131.895, 131.943,132.014,132.081,132.125,132.188 ,132.229,132.288,132.326,132.363, 132.399,132.451,132.485,132.518,132.549 ,132.581,132.626,132.641,132.645, 134.058,134.714,135.222,135.247,135.255 ,135.232,135.21,135.186,135.163,135.139 ,135.115,135.09,135.065,135.039,135.013 ,134.987,134.96,134.933,134.904,134.875 ,134.846,134.816,134.769,134.738, 134.706,134.657,134.606,134.553,134.517 ,134.479,134.441,134.402,134.362, 134.322,134.26,134.218,134.174,134.129, 134.083,134.036,133.988,133.938,133.887 ,133.834,133.78,133.725,133.668,133.579 ,133.518,133.455,133.357,133.324, 133.261)
ORBIT_NUMBER = 26443
ORBITAL_ECCENTRICITY = 0.567
ORBITAL_INCLINATION = 87.12
ORBITAL_SEMIMAJOR_AXIS = 8770.91
PERIAPSIS_ALTITUDE = 417.96
PERIAPSIS_ARGUMENT_ANGLE = 112.67
PERIAPSIS_TIME = 2024-12-12T21:39:44.000Z
SPACECRAFT_ORIENTATION = (0.0,-1.0,0.0)
^MEX_ORIENTATION_DESC = "MEX_ORIENTATION_DESC.TXT"
SPACECRAFT_POINTING_MODE = INERT
^MEX_POINTING_DESC = "MEX_POINTING_DESC.TXT"
RIGHT_ASCENSION = 134.544
DECLINATION = -22.327
OFFSET_ANGLE = -1e+32
SPACECRAFT_SOLAR_DISTANCE = 2.3831e+08
TARGET_NAME = MARS
/* CAMERA DATA ELEMENTS */
DETECTOR_TEMPERATURE = 18.3705
FOCAL_PLANE_TEMPERATURE = 8.1755
INST_CMPRS_NAME = "DISCRETE COSINE TRANSFORMATION (DCT)"
INST_CMPRS_RATIO = 14.0911
INST_CMPRS_QUALITY = 0
INST_CMPRS_QUANTZ_TBL_ID = 0
INSTRUMENT_TEMPERATURE = 10.2145
LENS_TEMPERATURE = 10.0106
MACROPIXEL_SIZE = 4
MISSING_FRAMES = 1
PIXEL_SUBSAMPLING_FLAG = N
SIGNAL_CHAIN_ID = 2
/* RADIOMETRIC DATA ELEMENTS */
BANDWIDTH = 88.0
CENTER_FILTER_WAVELENGTH = 538.0
RADIANCE_OFFSET = 1.88556
RADIANCE_SCALING_FACTOR = 0.00456336
REFLECTANCE_SCALING_FACTOR = 0.00022313
MEX:REFLECTANCE_OFFSET = 0.092196
/* IMAGE OBJECT DEFINITIONS */
OBJECT = IMAGE
  INTERCHANGE_FORMAT = BINARY
  LINES = 18808
  LINE_SAMPLES = 3266
  SAMPLE_TYPE = UNSIGNED_INTEGER
  SAMPLE_BITS = 8
  BANDS = 1
  BAND_STORAGE_TYPE = BAND_SEQUENTIAL
  MAXIMUM = 255
  MEAN = 87.1304
  MINIMUM = 1
  STANDARD_DEVIATION = 59.8183
END_OBJECT = IMAGE
/* MAP OBJECT DEFINITIONS */
OBJECT = IMAGE_MAP_PROJECTION
  ^DATA_SET_MAP_PROJECTION_CATALOG= "DSMAP.CAT"
  A_AXIS_RADIUS = 3396.0
  B_AXIS_RADIUS = 3396.0
  C_AXIS_RADIUS = 3396.0
  CENTER_LATITUDE = 0.0
  CENTER_LONGITUDE = 133.0
  COORDINATE_SYSTEM_NAME = PLANETOGRAPHIC
  COORDINATE_SYSTEM_TYPE = "BODY-FIXED ROTATING"
  EASTERNMOST_LONGITUDE = 135.255
  FIRST_STANDARD_PARALLEL = "N/A"
  LINE_FIRST_PIXEL = 1
  LINE_LAST_PIXEL = 18808
  LINE_PROJECTION_OFFSET = 79510.125
  MAP_PROJECTION_ROTATION = 0.0
  MAP_PROJECTION_TYPE = SINUSOIDAL
  MAP_RESOLUTION = 1185.42760773333
  MAP_SCALE = 0.05
  MAXIMUM_LATITUDE = 67.0604
  MINIMUM_LATITUDE = 51.2209
  POSITIVE_LONGITUDE_DIRECTION = EAST
  REFERENCE_LATITUDE = "N/A"
  REFERENCE_LONGITUDE = "N/A"
  SAMPLE_FIRST_PIXEL = 1
  SAMPLE_LAST_PIXEL = 3266
  SAMPLE_PROJECTION_OFFSET = 1610.125
  SECOND_STANDARD_PARALLEL = "N/A"
  WESTERNMOST_LONGITUDE = 129.575
END_OBJECT = IMAGE_MAP_PROJECTION
END
