PDS_VERSION_ID = PDS3
/* FILE DATA ELEMENTS */
RECORD_TYPE = UNDEFINED
/* POINTERS TO DATA OBJECTS */
^IMAGE = ("HQ443_0000_P14.TIF")
/* IDENTIFICATION DATA ELEMENTS */
DATA_SET_ID = "MEX-M-HRSC-4-REFDR-MAPPROJECT-EXT9-V4.0"
DATA_SET_NAME = "MARS EXPRESS HRSC MAP PROJECTED REFDR EXTENSION9 V4.0"
DETECTOR_ID = MEX_HRSC_P1
EVENT_TYPE = "MARS-REGIONAL-MAPPING-Te-Im-Pf"
INSTRUMENT_HOST_ID = MEX
INSTRUMENT_HOST_NAME = "MARS EXPRESS"
INSTRUMENT_ID = HRSC
INSTRUMENT_NAME = "HIGH RESOLUTION STEREO CAMERA"
MISSION_NAME = "MARS EXPRESS"
MISSION_PHASE_NAME = ME_Phase_50
PROCESSING_LEVEL_ID = 4
PRODUCT_CREATION_TIME = 2025-01-29T19:26:23.000Z
PRODUCT_ID = "HQ443_0000_P14.TIF"
RELEASE_ID = 0022
REVISION_ID = 0000
/* QUALITY DATA ELEMENTS */
DATA_QUALITY_ID = 1
DATA_QUALITY_DESC = "Data calculated based on original SPICE kernels"
/* TIME DATA ELEMENTS */
SPACECRAFT_CLOCK_START_COUNT = "1/0682119514.65139"
SPACECRAFT_CLOCK_STOP_COUNT = "1/0682119809.48339"
START_TIME = 2024-12-12T21:39:38.280Z
STOP_TIME = 2024-12-12T21:43:17.278Z
/* ORBITAL DATA ELEMENTS */
ASCENDING_NODE_LONGITUDE = 84.86
MAXIMUM_RESOLUTION = 0.0338
FOOTPRINT_POINT_LATITUDE = (67.108,67.0333,66.9698,66.9123,66.91, 66.8741,66.2715,65.6684,65.2154,64.6108 ,63.8541,63.248,62.9445,62.6409,62.3372 ,62.0332,61.7291,61.4249,61.1201, 60.8153,60.5103,60.205,59.8996,59.594, 59.2865,58.9724,58.658,58.3434,58.0286, 57.7135,57.3981,57.0825,56.7664,56.292, 55.9755,55.6588,55.339,55.0138,54.6876, 54.3615,53.871,53.544,53.2165,52.8889, 52.5522,52.2154,51.7096,51.3719,51.2031 ,51.1941,51.2698,51.3107,51.3488, 51.3499,51.351,51.6889,52.0266,52.3643, 52.701,53.2023,53.5303,53.858,54.1851, 54.512,55.002,55.328,55.6526,55.9702, 56.2877,56.6047,57.0798,57.3965,57.7127 ,58.0288,58.3447,58.6603,58.9758, 59.2908,59.6035,59.9103,60.2169,60.5234 ,60.8297,61.1357,61.4416,61.7472, 62.2055,62.511,62.8162,63.1213,63.5788, 63.8835,64.1882,64.4927,65.1014,65.7096 ,66.3174,66.9249,67.0767,67.108)
FOOTPRINT_POINT_LONGITUDE = (133.282,131.801,130.724,129.847, 129.814,129.685,129.904,130.111,130.258 ,130.443,130.661,130.824,130.902, 130.977,131.051,131.123,131.192,131.26, 131.326,131.39,131.452,131.512,131.571, 131.628,131.684,131.74,131.794,131.846, 131.897,131.947,131.995,132.042,132.087 ,132.153,132.196,132.237,132.277, 132.318,132.356,132.394,132.448,132.483 ,132.517,132.55,132.582,132.614,132.66, 132.689,132.704,132.704,133.825,134.536 ,135.295,135.321,135.33,135.307,135.283 ,135.259,135.234,135.197,135.171, 135.146,135.12,135.093,135.051,135.023, 134.995,134.966,134.936,134.907,134.86, 134.828,134.796,134.763,134.729,134.694 ,134.659,134.623,134.586,134.549, 134.511,134.472,134.432,134.391,134.35, 134.307,134.241,134.196,134.149,134.101 ,134.027,133.976,133.924,133.871, 133.759,133.641,133.516,133.385,133.35, 133.282)
ORBIT_NUMBER = 26443
ORBITAL_ECCENTRICITY = 0.567
ORBITAL_INCLINATION = 87.12
ORBITAL_SEMIMAJOR_AXIS = 8770.91
PERIAPSIS_ALTITUDE = 417.96
PERIAPSIS_ARGUMENT_ANGLE = 112.67
PERIAPSIS_TIME = 2024-12-12T21:39:44.000Z
SPACECRAFT_ORIENTATION = (0.0,-1.0,0.0)
^MEX_ORIENTATION_DESC = "MEX_ORIENTATION_DESC.TXT"
SPACECRAFT_POINTING_MODE = INERT
^MEX_POINTING_DESC = "MEX_POINTING_DESC.TXT"
RIGHT_ASCENSION = 134.544
DECLINATION = -22.327
OFFSET_ANGLE = -1e+32
SPACECRAFT_SOLAR_DISTANCE = 2.3831e+08
TARGET_NAME = MARS
/* CAMERA DATA ELEMENTS */
DETECTOR_TEMPERATURE = 17.351
FOCAL_PLANE_TEMPERATURE = 8.1755
INST_CMPRS_NAME = "DISCRETE COSINE TRANSFORMATION (DCT)"
INST_CMPRS_RATIO = 11.5427
INST_CMPRS_QUALITY = 0
INST_CMPRS_QUANTZ_TBL_ID = 0
INSTRUMENT_TEMPERATURE = 10.2145
LENS_TEMPERATURE = 10.0106
MACROPIXEL_SIZE = 2
MISSING_FRAMES = 0
PIXEL_SUBSAMPLING_FLAG = N
SIGNAL_CHAIN_ID = 3
/* RADIOMETRIC DATA ELEMENTS */
BANDWIDTH = 174.0
CENTER_FILTER_WAVELENGTH = 675.0
RADIANCE_OFFSET = 4.56678
RADIANCE_SCALING_FACTOR = 0.0154888
REFLECTANCE_SCALING_FACTOR = 0.000473138
MEX:REFLECTANCE_OFFSET = 0.139502
/* IMAGE OBJECT DEFINITIONS */
OBJECT = IMAGE
  INTERCHANGE_FORMAT = BINARY
  LINES = 37615
  LINE_SAMPLES = 6531
  SAMPLE_TYPE = UNSIGNED_INTEGER
  SAMPLE_BITS = 8
  BANDS = 1
  BAND_STORAGE_TYPE = BAND_SEQUENTIAL
  MAXIMUM = 255
  MEAN = 92.4619
  MINIMUM = 1
  STANDARD_DEVIATION = 67.3545
END_OBJECT = IMAGE
/* MAP OBJECT DEFINITIONS */
OBJECT = IMAGE_MAP_PROJECTION
  ^DATA_SET_MAP_PROJECTION_CATALOG= "DSMAP.CAT"
  A_AXIS_RADIUS = 3396.0
  B_AXIS_RADIUS = 3396.0
  C_AXIS_RADIUS = 3396.0
  CENTER_LATITUDE = 0.0
  CENTER_LONGITUDE = 133.0
  COORDINATE_SYSTEM_NAME = PLANETOGRAPHIC
  COORDINATE_SYSTEM_TYPE = "BODY-FIXED ROTATING"
  EASTERNMOST_LONGITUDE = 135.33
  FIRST_STANDARD_PARALLEL = "N/A"
  LINE_FIRST_PIXEL = 1
  LINE_LAST_PIXEL = 37615
  LINE_PROJECTION_OFFSET = 159020.75
  MAP_PROJECTION_ROTATION = 0.0
  MAP_PROJECTION_TYPE = SINUSOIDAL
  MAP_RESOLUTION = 2370.85521546667
  MAP_SCALE = 0.025
  MAXIMUM_LATITUDE = 67.108
  MINIMUM_LATITUDE = 51.1941
  POSITIVE_LONGITUDE_DIRECTION = EAST
  REFERENCE_LATITUDE = "N/A"
  REFERENCE_LONGITUDE = "N/A"
  SAMPLE_FIRST_PIXEL = 1
  SAMPLE_LAST_PIXEL = 6531
  SAMPLE_PROJECTION_OFFSET = 3220.75
  SECOND_STANDARD_PARALLEL = "N/A"
  WESTERNMOST_LONGITUDE = 129.685
END_OBJECT = IMAGE_MAP_PROJECTION
END
