PDS_VERSION_ID = PDS3
/* FILE DATA ELEMENTS */
RECORD_TYPE = UNDEFINED
/* POINTERS TO DATA OBJECTS */
^IMAGE = ("HQ443_0000_P24.TIF")
/* IDENTIFICATION DATA ELEMENTS */
DATA_SET_ID = "MEX-M-HRSC-4-REFDR-MAPPROJECT-EXT9-V4.0"
DATA_SET_NAME = "MARS EXPRESS HRSC MAP PROJECTED REFDR EXTENSION9 V4.0"
DETECTOR_ID = MEX_HRSC_P2
EVENT_TYPE = "MARS-REGIONAL-MAPPING-Te-Im-Pf"
INSTRUMENT_HOST_ID = MEX
INSTRUMENT_HOST_NAME = "MARS EXPRESS"
INSTRUMENT_ID = HRSC
INSTRUMENT_NAME = "HIGH RESOLUTION STEREO CAMERA"
MISSION_NAME = "MARS EXPRESS"
MISSION_PHASE_NAME = ME_Phase_50
PROCESSING_LEVEL_ID = 4
PRODUCT_CREATION_TIME = 2025-01-29T19:26:23.000Z
PRODUCT_ID = "HQ443_0000_P24.TIF"
RELEASE_ID = 0022
REVISION_ID = 0000
/* QUALITY DATA ELEMENTS */
DATA_QUALITY_ID = 1
DATA_QUALITY_DESC = "Data calculated based on original SPICE kernels"
/* TIME DATA ELEMENTS */
SPACECRAFT_CLOCK_START_COUNT = "1/0682119514.65139"
SPACECRAFT_CLOCK_STOP_COUNT = "1/0682119809.48339"
START_TIME = 2024-12-12T21:40:24.262Z
STOP_TIME = 2024-12-12T21:44:07.684Z
/* ORBITAL DATA ELEMENTS */
ASCENDING_NODE_LONGITUDE = 84.86
MAXIMUM_RESOLUTION = 0.0356
FOOTPRINT_POINT_LATITUDE = (66.9591,66.8783,66.7793,66.7772,66.891 ,66.4366,66.1343,65.6807,65.3788, 65.0771,64.7755,64.474,63.8717,63.4203, 62.6691,62.2078,61.8998,61.5921,61.2846 ,60.9774,60.5165,60.2096,59.7494, 59.4427,59.1363,58.83,58.5161,58.0454, 57.5749,57.2613,56.9479,56.6348,56.1603 ,55.8395,55.5188,55.1982,54.8778, 54.3973,54.0695,53.7418,53.4142,53.0865 ,52.7589,52.4248,52.0896,51.7545, 51.4195,51.2519,51.2354,51.2946,51.3345 ,51.3571,51.3581,51.3591,51.8625, 52.1981,52.534,52.8691,53.1973,53.5256, 53.854,54.1827,54.6721,54.9931,55.3144, 55.636,55.9575,56.2791,56.5984,56.9126, 57.2268,57.5412,57.8559,58.1707,58.4856 ,58.8007,59.2663,59.574,60.036,60.344, 60.6523,60.961,61.2699,61.579,61.8884, 62.198,62.5077,62.817,63.4218,64.0272, 64.634,64.9378,65.3939,65.6981,66.0028, 66.3078,66.6129,66.9184,67.071,66.9591)
FOOTPRINT_POINT_LONGITUDE = (133.221,131.405,129.583,129.548, 129.345,129.521,129.633,129.796,129.899 ,130.0,130.097,130.192,130.372,130.501, 130.703,130.82,130.895,130.968,131.039, 131.108,131.207,131.271,131.363,131.423 ,131.481,131.537,131.593,131.674, 131.751,131.801,131.849,131.896,131.964 ,132.009,132.053,132.095,132.136, 132.195,132.234,132.271,132.307,132.342 ,132.376,132.41,132.443,132.475,132.506 ,132.521,132.522,133.635,134.516, 135.092,135.118,135.127,135.095,135.074 ,135.052,135.029,135.007,134.983,134.96 ,134.935,134.898,134.873,134.847, 134.821,134.794,134.766,134.738,134.709 ,134.68,134.65,134.62,134.588,134.556, 134.523,134.473,134.438,134.385,134.348 ,134.311,134.272,134.233,134.192, 134.151,134.108,134.064,134.019,133.927 ,133.83,133.728,133.675,133.592,133.534 ,133.475,133.414,133.352,133.287, 133.254,133.221)
ORBIT_NUMBER = 26443
ORBITAL_ECCENTRICITY = 0.567
ORBITAL_INCLINATION = 87.12
ORBITAL_SEMIMAJOR_AXIS = 8770.91
PERIAPSIS_ALTITUDE = 417.96
PERIAPSIS_ARGUMENT_ANGLE = 112.67
PERIAPSIS_TIME = 2024-12-12T21:39:44.000Z
SPACECRAFT_ORIENTATION = (0.0,-1.0,0.0)
^MEX_ORIENTATION_DESC = "MEX_ORIENTATION_DESC.TXT"
SPACECRAFT_POINTING_MODE = INERT
^MEX_POINTING_DESC = "MEX_POINTING_DESC.TXT"
RIGHT_ASCENSION = 134.544
DECLINATION = -22.327
OFFSET_ANGLE = -1e+32
SPACECRAFT_SOLAR_DISTANCE = 2.3831e+08
TARGET_NAME = MARS
/* CAMERA DATA ELEMENTS */
DETECTOR_TEMPERATURE = 18.5744
FOCAL_PLANE_TEMPERATURE = 8.1755
INST_CMPRS_NAME = "DISCRETE COSINE TRANSFORMATION (DCT)"
INST_CMPRS_RATIO = 7.72611
INST_CMPRS_QUALITY = 0
INST_CMPRS_QUANTZ_TBL_ID = 0
INSTRUMENT_TEMPERATURE = 10.2145
LENS_TEMPERATURE = 10.0106
MACROPIXEL_SIZE = 2
MISSING_FRAMES = 0
PIXEL_SUBSAMPLING_FLAG = N
SIGNAL_CHAIN_ID = 3
/* RADIOMETRIC DATA ELEMENTS */
BANDWIDTH = 177.0
CENTER_FILTER_WAVELENGTH = 676.5
RADIANCE_OFFSET = 4.58939
RADIANCE_SCALING_FACTOR = 0.0148282
REFLECTANCE_SCALING_FACTOR = 0.000446511
MEX:REFLECTANCE_OFFSET = 0.138197
/* IMAGE OBJECT DEFINITIONS */
OBJECT = IMAGE
  INTERCHANGE_FORMAT = BINARY
  LINES = 37615
  LINE_SAMPLES = 6531
  SAMPLE_TYPE = UNSIGNED_INTEGER
  SAMPLE_BITS = 8
  BANDS = 1
  BAND_STORAGE_TYPE = BAND_SEQUENTIAL
  MAXIMUM = 255
  MEAN = 93.7257
  MINIMUM = 1
  STANDARD_DEVIATION = 70.3783
END_OBJECT = IMAGE
/* MAP OBJECT DEFINITIONS */
OBJECT = IMAGE_MAP_PROJECTION
  ^DATA_SET_MAP_PROJECTION_CATALOG= "DSMAP.CAT"
  A_AXIS_RADIUS = 3396.0
  B_AXIS_RADIUS = 3396.0
  C_AXIS_RADIUS = 3396.0
  CENTER_LATITUDE = 0.0
  CENTER_LONGITUDE = 133.0
  COORDINATE_SYSTEM_NAME = PLANETOGRAPHIC
  COORDINATE_SYSTEM_TYPE = "BODY-FIXED ROTATING"
  EASTERNMOST_LONGITUDE = 135.127
  FIRST_STANDARD_PARALLEL = "N/A"
  LINE_FIRST_PIXEL = 1
  LINE_LAST_PIXEL = 37615
  LINE_PROJECTION_OFFSET = 159020.75
  MAP_PROJECTION_ROTATION = 0.0
  MAP_PROJECTION_TYPE = SINUSOIDAL
  MAP_RESOLUTION = 2370.85521546667
  MAP_SCALE = 0.025
  MAXIMUM_LATITUDE = 67.071
  MINIMUM_LATITUDE = 51.2354
  POSITIVE_LONGITUDE_DIRECTION = EAST
  REFERENCE_LATITUDE = "N/A"
  REFERENCE_LONGITUDE = "N/A"
  SAMPLE_FIRST_PIXEL = 1
  SAMPLE_LAST_PIXEL = 6531
  SAMPLE_PROJECTION_OFFSET = 3220.75
  SECOND_STANDARD_PARALLEL = "N/A"
  WESTERNMOST_LONGITUDE = 129.345
END_OBJECT = IMAGE_MAP_PROJECTION
END
