PDS_VERSION_ID = PDS3
/* FILE DATA ELEMENTS */
RECORD_TYPE = UNDEFINED
/* POINTERS TO DATA OBJECTS */
^IMAGE = ("HQ443_0000_S14.TIF")
/* IDENTIFICATION DATA ELEMENTS */
DATA_SET_ID = "MEX-M-HRSC-4-REFDR-MAPPROJECT-EXT9-V4.0"
DATA_SET_NAME = "MARS EXPRESS HRSC MAP PROJECTED REFDR EXTENSION9 V4.0"
DETECTOR_ID = MEX_HRSC_S1
EVENT_TYPE = "MARS-REGIONAL-MAPPING-Te-Im-Pf"
INSTRUMENT_HOST_ID = MEX
INSTRUMENT_HOST_NAME = "MARS EXPRESS"
INSTRUMENT_ID = HRSC
INSTRUMENT_NAME = "HIGH RESOLUTION STEREO CAMERA"
MISSION_NAME = "MARS EXPRESS"
MISSION_PHASE_NAME = ME_Phase_50
PROCESSING_LEVEL_ID = 4
PRODUCT_CREATION_TIME = 2025-01-29T19:26:23.000Z
PRODUCT_ID = "HQ443_0000_S14.TIF"
RELEASE_ID = 0022
REVISION_ID = 0000
/* QUALITY DATA ELEMENTS */
DATA_QUALITY_ID = 1
DATA_QUALITY_DESC = "Data calculated based on original SPICE kernels"
/* TIME DATA ELEMENTS */
SPACECRAFT_CLOCK_START_COUNT = "1/0682119514.65139"
SPACECRAFT_CLOCK_STOP_COUNT = "1/0682119809.48339"
START_TIME = 2024-12-12T21:39:27.553Z
STOP_TIME = 2024-12-12T21:43:04.402Z
/* ORBITAL DATA ELEMENTS */
ASCENDING_NODE_LONGITUDE = 84.86
MAXIMUM_RESOLUTION = 0.0342
FOOTPRINT_POINT_LATITUDE = (67.1263,67.0726,67.0112,66.9281, 66.9258,66.8543,65.9531,65.2017,64.5994 ,63.845,63.2404,62.9375,62.6343,62.331, 62.0274,61.7236,61.4195,61.1147,60.8098 ,60.5045,60.046,59.7403,59.2806,58.9738 ,58.6668,58.3555,58.0397,57.7237, 57.4071,57.0899,56.7723,56.2956,55.9775 ,55.6589,55.3399,55.0208,54.7004, 54.3759,53.8814,53.3865,53.0561,52.7249 ,52.3928,52.0606,51.7227,51.3812, 51.2107,51.1704,51.228,51.2643,51.3025, 51.3333,51.3345,51.3356,51.6774,52.0188 ,52.3537,52.6854,53.0174,53.3484, 53.6792,54.0095,54.3387,54.6678,54.9896 ,55.3094,55.6292,55.9486,56.2677, 56.5863,56.9048,57.2227,57.699,58.0162, 58.3331,58.6496,58.9584,59.2659,59.5734 ,59.8807,60.1876,60.4944,60.8008, 61.1069,61.4127,61.7181,62.0234,62.3285 ,62.6334,62.938,63.2425,63.5467,63.8506 ,64.4578,65.0642,65.6697,66.2746, 66.8786,67.0305,67.1263)
FOOTPRINT_POINT_LONGITUDE = (133.294,132.236,131.178,129.92,129.887 ,129.776,130.095,130.339,130.521, 130.736,130.896,130.973,131.048,131.12, 131.191,131.26,131.327,131.392,131.455, 131.516,131.605,131.663,131.746,131.8, 131.852,131.903,131.954,132.003,132.051 ,132.098,132.143,132.208,132.251, 132.292,132.332,132.371,132.408,132.445 ,132.499,132.551,132.585,132.617, 132.648,132.679,132.709,132.738,132.753 ,132.756,133.546,134.104,134.738, 135.345,135.37,135.379,135.355,135.33, 135.306,135.281,135.256,135.23,135.203, 135.177,135.149,135.122,135.094,135.066 ,135.037,135.007,134.977,134.947, 134.915,134.883,134.834,134.8,134.765, 134.73,134.695,134.659,134.622,134.585, 134.546,134.507,134.467,134.425,134.383 ,134.34,134.296,134.251,134.204,134.157 ,134.108,134.058,134.007,133.9,133.788, 133.67,133.545,133.413,133.379,133.294)
ORBIT_NUMBER = 26443
ORBITAL_ECCENTRICITY = 0.567
ORBITAL_INCLINATION = 87.12
ORBITAL_SEMIMAJOR_AXIS = 8770.91
PERIAPSIS_ALTITUDE = 417.96
PERIAPSIS_ARGUMENT_ANGLE = 112.67
PERIAPSIS_TIME = 2024-12-12T21:39:44.000Z
SPACECRAFT_ORIENTATION = (0.0,-1.0,0.0)
^MEX_ORIENTATION_DESC = "MEX_ORIENTATION_DESC.TXT"
SPACECRAFT_POINTING_MODE = INERT
^MEX_POINTING_DESC = "MEX_POINTING_DESC.TXT"
RIGHT_ASCENSION = 134.544
DECLINATION = -22.327
OFFSET_ANGLE = -1e+32
SPACECRAFT_SOLAR_DISTANCE = 2.3831e+08
TARGET_NAME = MARS
/* CAMERA DATA ELEMENTS */
DETECTOR_TEMPERATURE = 17.351
FOCAL_PLANE_TEMPERATURE = 8.1755
INST_CMPRS_NAME = "DISCRETE COSINE TRANSFORMATION (DCT)"
INST_CMPRS_RATIO = 11.513
INST_CMPRS_QUALITY = 0
INST_CMPRS_QUANTZ_TBL_ID = 0
INSTRUMENT_TEMPERATURE = 10.2145
LENS_TEMPERATURE = 10.0106
MACROPIXEL_SIZE = 2
MISSING_FRAMES = 0
PIXEL_SUBSAMPLING_FLAG = N
SIGNAL_CHAIN_ID = 1
/* RADIOMETRIC DATA ELEMENTS */
BANDWIDTH = 180.0
CENTER_FILTER_WAVELENGTH = 677.0
RADIANCE_OFFSET = 4.98838
RADIANCE_SCALING_FACTOR = 0.0174663
REFLECTANCE_SCALING_FACTOR = 0.00051752
MEX:REFLECTANCE_OFFSET = 0.147804
/* IMAGE OBJECT DEFINITIONS */
OBJECT = IMAGE
  INTERCHANGE_FORMAT = BINARY
  LINES = 37615
  LINE_SAMPLES = 6531
  SAMPLE_TYPE = UNSIGNED_INTEGER
  SAMPLE_BITS = 8
  BANDS = 1
  BAND_STORAGE_TYPE = BAND_SEQUENTIAL
  MAXIMUM = 255
  MEAN = 84.4984
  MINIMUM = 1
  STANDARD_DEVIATION = 62.2406
END_OBJECT = IMAGE
/* MAP OBJECT DEFINITIONS */
OBJECT = IMAGE_MAP_PROJECTION
  ^DATA_SET_MAP_PROJECTION_CATALOG= "DSMAP.CAT"
  A_AXIS_RADIUS = 3396.0
  B_AXIS_RADIUS = 3396.0
  C_AXIS_RADIUS = 3396.0
  CENTER_LATITUDE = 0.0
  CENTER_LONGITUDE = 133.0
  COORDINATE_SYSTEM_NAME = PLANETOGRAPHIC
  COORDINATE_SYSTEM_TYPE = "BODY-FIXED ROTATING"
  EASTERNMOST_LONGITUDE = 135.379
  FIRST_STANDARD_PARALLEL = "N/A"
  LINE_FIRST_PIXEL = 1
  LINE_LAST_PIXEL = 37615
  LINE_PROJECTION_OFFSET = 159020.75
  MAP_PROJECTION_ROTATION = 0.0
  MAP_PROJECTION_TYPE = SINUSOIDAL
  MAP_RESOLUTION = 2370.85521546667
  MAP_SCALE = 0.025
  MAXIMUM_LATITUDE = 67.1263
  MINIMUM_LATITUDE = 51.1704
  POSITIVE_LONGITUDE_DIRECTION = EAST
  REFERENCE_LATITUDE = "N/A"
  REFERENCE_LONGITUDE = "N/A"
  SAMPLE_FIRST_PIXEL = 1
  SAMPLE_LAST_PIXEL = 6531
  SAMPLE_PROJECTION_OFFSET = 3220.75
  SECOND_STANDARD_PARALLEL = "N/A"
  WESTERNMOST_LONGITUDE = 129.776
END_OBJECT = IMAGE_MAP_PROJECTION
END
