PDS_VERSION_ID = PDS3
/* FILE DATA ELEMENTS */
RECORD_TYPE = UNDEFINED
/* POINTERS TO DATA OBJECTS */
^IMAGE = ("HQ445_0000_GR4.TIF")
/* IDENTIFICATION DATA ELEMENTS */
DATA_SET_ID = "MEX-M-HRSC-4-REFDR-MAPPROJECT-EXT9-V4.0"
DATA_SET_NAME = "MARS EXPRESS HRSC MAP PROJECTED REFDR EXTENSION9 V4.0"
DETECTOR_ID = MEX_HRSC_GREEN
EVENT_TYPE = "MARS-REGIONAL-MAPPING-Im-Pf-La"
INSTRUMENT_HOST_ID = MEX
INSTRUMENT_HOST_NAME = "MARS EXPRESS"
INSTRUMENT_ID = HRSC
INSTRUMENT_NAME = "HIGH RESOLUTION STEREO CAMERA"
MISSION_NAME = "MARS EXPRESS"
MISSION_PHASE_NAME = ME_Phase_50
PROCESSING_LEVEL_ID = 4
PRODUCT_CREATION_TIME = 2025-01-29T19:26:23.000Z
PRODUCT_ID = "HQ445_0000_GR4.TIF"
RELEASE_ID = 0022
REVISION_ID = 0000
/* QUALITY DATA ELEMENTS */
DATA_QUALITY_ID = 1
DATA_QUALITY_DESC = "Data calculated based on original SPICE kernels"
/* TIME DATA ELEMENTS */
SPACECRAFT_CLOCK_START_COUNT = "1/0682169725.00342"
SPACECRAFT_CLOCK_STOP_COUNT = "1/0682170006.01113"
START_TIME = 2024-12-13T11:36:45.481Z
STOP_TIME = 2024-12-13T11:40:15.572Z
/* ORBITAL DATA ELEMENTS */
ASCENDING_NODE_LONGITUDE = 84.83
MAXIMUM_RESOLUTION = 0.0673
FOOTPRINT_POINT_LATITUDE = (72.5964,72.4903,72.4042,72.3202,72.317 ,72.324,72.0286,71.733,71.437,71.1409, 70.8462,70.5572,70.1234,69.6891,69.3993 ,69.1094,68.8193,68.529,67.948,67.3664, 66.4928,66.0555,65.4719,65.0339,64.7417 ,64.4493,64.0105,63.7178,63.2784, 62.9854,62.6922,62.3989,62.1054,61.8117 ,61.5179,61.077,60.7827,60.4829,60.1807 ,59.8783,59.5757,59.112,58.809,58.5057, 58.2023,57.7468,57.5949,57.5403,57.5898 ,57.6298,57.6691,57.7133,57.7146, 57.7162,58.0208,58.3254,58.6298,58.934, 59.3902,59.8554,60.1591,60.4627,60.9171 ,61.2126,61.6557,61.951,62.2461,62.6887 ,63.1311,63.4259,63.7207,64.0154, 64.3099,64.7517,65.1933,65.4876,65.7819 ,66.0761,66.3701,66.8112,67.1052, 67.3992,67.84,68.1338,68.4275,68.7213, 69.0149,69.3085,69.6021,69.8956,70.1891 ,70.4825,70.7759,71.0693,71.5177, 71.8186,72.1195,72.4204,72.5708, 72.5964)
FOOTPRINT_POINT_LONGITUDE = (286.328,284.349,282.97,281.758,281.715 ,281.446,281.67,281.886,282.096,282.297 ,282.49,282.673,282.936,283.186,283.346 ,283.5,283.651,283.796,284.072,284.333, 284.695,284.864,285.078,285.23,285.327, 285.422,285.56,285.648,285.776,285.859, 285.939,286.017,286.092,286.166,286.238 ,286.342,286.408,286.475,286.54,286.603 ,286.664,286.755,286.812,286.867, 286.921,286.999,287.024,287.033,287.735 ,288.352,289.019,289.867,289.893, 289.902,289.867,289.831,289.795,289.758 ,289.7,289.638,289.597,289.555,289.489, 289.446,289.378,289.331,289.283,289.209 ,289.132,289.079,289.025,288.969, 288.912,288.823,288.73,288.666,288.601, 288.533,288.464,288.356,288.281,288.205 ,288.085,288.003,287.918,287.83,287.739 ,287.646,287.549,287.45,287.347,287.241 ,287.131,287.018,286.837,286.709, 286.578,286.441,286.371,286.328)
ORBIT_NUMBER = 26445
ORBITAL_ECCENTRICITY = 0.567
ORBITAL_INCLINATION = 87.12
ORBITAL_SEMIMAJOR_AXIS = 8768.76
PERIAPSIS_ALTITUDE = 417.8
PERIAPSIS_ARGUMENT_ANGLE = 112.34
PERIAPSIS_TIME = 2024-12-13T11:37:59.000Z
SPACECRAFT_ORIENTATION = (0.0,-1.0,0.0)
^MEX_ORIENTATION_DESC = "MEX_ORIENTATION_DESC.TXT"
SPACECRAFT_POINTING_MODE = INERT
^MEX_POINTING_DESC = "MEX_POINTING_DESC.TXT"
RIGHT_ASCENSION = 137.424
DECLINATION = -28.343
OFFSET_ANGLE = -1e+32
SPACECRAFT_SOLAR_DISTANCE = 2.38405e+08
TARGET_NAME = MARS
/* CAMERA DATA ELEMENTS */
DETECTOR_TEMPERATURE = 15.7198
FOCAL_PLANE_TEMPERATURE = 8.3794
INST_CMPRS_NAME = "DISCRETE COSINE TRANSFORMATION (DCT)"
INST_CMPRS_RATIO = 34.0145
INST_CMPRS_QUALITY = 0
INST_CMPRS_QUANTZ_TBL_ID = 0
INSTRUMENT_TEMPERATURE = 10.4184
LENS_TEMPERATURE = 8.7872
MACROPIXEL_SIZE = 4
MISSING_FRAMES = 1
PIXEL_SUBSAMPLING_FLAG = N
SIGNAL_CHAIN_ID = 2
/* RADIOMETRIC DATA ELEMENTS */
BANDWIDTH = 88.0
CENTER_FILTER_WAVELENGTH = 538.0
RADIANCE_OFFSET = 1.74358
RADIANCE_SCALING_FACTOR = 0.0013739
REFLECTANCE_SCALING_FACTOR = 6.72318e-05
MEX:REFLECTANCE_OFFSET = 0.0853218
/* IMAGE OBJECT DEFINITIONS */
OBJECT = IMAGE
  INTERCHANGE_FORMAT = BINARY
  LINES = 17855
  LINE_SAMPLES = 3828
  SAMPLE_TYPE = UNSIGNED_INTEGER
  SAMPLE_BITS = 8
  BANDS = 1
  BAND_STORAGE_TYPE = BAND_SEQUENTIAL
  MAXIMUM = 255
  MEAN = 234.293
  MINIMUM = 1
  STANDARD_DEVIATION = 50.0378
END_OBJECT = IMAGE
/* MAP OBJECT DEFINITIONS */
OBJECT = IMAGE_MAP_PROJECTION
  ^DATA_SET_MAP_PROJECTION_CATALOG= "DSMAP.CAT"
  A_AXIS_RADIUS = 3396.0
  B_AXIS_RADIUS = 3396.0
  C_AXIS_RADIUS = 3396.0
  CENTER_LATITUDE = 0.0
  CENTER_LONGITUDE = 287.0
  COORDINATE_SYSTEM_NAME = PLANETOGRAPHIC
  COORDINATE_SYSTEM_TYPE = "BODY-FIXED ROTATING"
  EASTERNMOST_LONGITUDE = 289.902
  FIRST_STANDARD_PARALLEL = "N/A"
  LINE_FIRST_PIXEL = 1
  LINE_LAST_PIXEL = 17855
  LINE_PROJECTION_OFFSET = 86078.375
  MAP_PROJECTION_ROTATION = 0.0
  MAP_PROJECTION_TYPE = SINUSOIDAL
  MAP_RESOLUTION = 1185.42760773333
  MAP_SCALE = 0.05
  MAXIMUM_LATITUDE = 72.5964
  MINIMUM_LATITUDE = 57.5403
  POSITIVE_LONGITUDE_DIRECTION = EAST
  REFERENCE_LATITUDE = "N/A"
  REFERENCE_LONGITUDE = "N/A"
  SAMPLE_FIRST_PIXEL = 1
  SAMPLE_LAST_PIXEL = 3828
  SAMPLE_PROJECTION_OFFSET = 2002.125
  SECOND_STANDARD_PARALLEL = "N/A"
  WESTERNMOST_LONGITUDE = 281.446
END_OBJECT = IMAGE_MAP_PROJECTION
END
