PDS_VERSION_ID = PDS3
/* FILE DATA ELEMENTS */
RECORD_TYPE = UNDEFINED
/* POINTERS TO DATA OBJECTS */
^IMAGE = ("HQ445_0000_P24.TIF")
/* IDENTIFICATION DATA ELEMENTS */
DATA_SET_ID = "MEX-M-HRSC-4-REFDR-MAPPROJECT-EXT9-V4.0"
DATA_SET_NAME = "MARS EXPRESS HRSC MAP PROJECTED REFDR EXTENSION9 V4.0"
DETECTOR_ID = MEX_HRSC_P2
EVENT_TYPE = "MARS-REGIONAL-MAPPING-Im-Pf-La"
INSTRUMENT_HOST_ID = MEX
INSTRUMENT_HOST_NAME = "MARS EXPRESS"
INSTRUMENT_ID = HRSC
INSTRUMENT_NAME = "HIGH RESOLUTION STEREO CAMERA"
MISSION_NAME = "MARS EXPRESS"
MISSION_PHASE_NAME = ME_Phase_50
PROCESSING_LEVEL_ID = 4
PRODUCT_CREATION_TIME = 2025-01-29T19:26:23.000Z
PRODUCT_ID = "HQ445_0000_P24.TIF"
RELEASE_ID = 0022
REVISION_ID = 0000
/* QUALITY DATA ELEMENTS */
DATA_QUALITY_ID = 1
DATA_QUALITY_DESC = "Data calculated based on original SPICE kernels"
/* TIME DATA ELEMENTS */
SPACECRAFT_CLOCK_START_COUNT = "1/0682169725.00342"
SPACECRAFT_CLOCK_STOP_COUNT = "1/0682170006.01113"
START_TIME = 2024-12-13T11:37:15.313Z
STOP_TIME = 2024-12-13T11:40:44.788Z
/* ORBITAL DATA ELEMENTS */
ASCENDING_NODE_LONGITUDE = 84.83
MAXIMUM_RESOLUTION = 0.0347
FOOTPRINT_POINT_LATITUDE = (72.4674,72.4011,72.3245,72.2195, 72.2165,72.3277,72.0363,71.7442,71.4522 ,71.1602,70.8682,70.5763,70.1382, 69.7005,69.4084,69.1167,68.6791,68.2415 ,67.9498,67.658,67.3663,66.929,66.6373, 66.346,66.0547,65.7634,65.4722,65.1812, 64.8902,64.5992,64.0175,63.436,62.8548, 62.5593,62.2612,61.9632,61.6652,61.3674 ,60.9207,60.6228,60.3251,60.0275, 59.7299,59.4323,59.1273,58.6698,58.3649 ,58.0599,57.755,57.6026,57.5871,57.6613 ,57.6868,57.7226,57.7236,57.7246, 58.0305,58.3366,58.7959,59.1021,59.4085 ,59.7115,60.16,60.6085,60.9077,61.3568, 61.806,62.1057,62.4056,62.7054,63.0031, 63.5882,64.0273,64.3202,64.6133,65.0531 ,65.3464,65.6399,66.0806,66.3746, 66.6689,67.1103,67.4047,67.6995,67.9943 ,68.2892,68.7319,69.0271,69.3227, 69.6183,69.9141,70.2101,70.5063,70.951, 71.3962,71.6931,71.9903,72.4366,72.5854 ,72.4674)
FOOTPRINT_POINT_LONGITUDE = (286.298,284.833,283.361,281.605, 281.558,281.192,281.419,281.64,281.853, 282.057,282.255,282.446,282.72,282.979, 283.146,283.306,283.537,283.757,283.898 ,284.035,284.167,284.358,284.481, 284.599,284.714,284.825,284.934,285.038 ,285.14,285.239,285.428,285.607,285.775 ,285.857,285.937,286.016,286.091, 286.165,286.272,286.341,286.408,286.473 ,286.535,286.597,286.658,286.746, 286.803,286.858,286.912,286.938,286.941 ,288.325,288.874,289.745,289.772, 289.781,289.747,289.712,289.657,289.619 ,289.581,289.542,289.482,289.42,289.377 ,289.311,289.242,289.194,289.145, 289.095,289.044,288.94,288.858,288.801, 288.743,288.652,288.59,288.526,288.426, 288.357,288.286,288.176,288.099,288.02, 287.939,287.855,287.724,287.634,287.54, 287.443,287.343,287.24,287.133,286.965, 286.789,286.666,286.538,286.338,286.269 ,286.298)
ORBIT_NUMBER = 26445
ORBITAL_ECCENTRICITY = 0.567
ORBITAL_INCLINATION = 87.12
ORBITAL_SEMIMAJOR_AXIS = 8768.76
PERIAPSIS_ALTITUDE = 417.8
PERIAPSIS_ARGUMENT_ANGLE = 112.34
PERIAPSIS_TIME = 2024-12-13T11:37:59.000Z
SPACECRAFT_ORIENTATION = (0.0,-1.0,0.0)
^MEX_ORIENTATION_DESC = "MEX_ORIENTATION_DESC.TXT"
SPACECRAFT_POINTING_MODE = INERT
^MEX_POINTING_DESC = "MEX_POINTING_DESC.TXT"
RIGHT_ASCENSION = 137.424
DECLINATION = -28.343
OFFSET_ANGLE = -1e+32
SPACECRAFT_SOLAR_DISTANCE = 2.38405e+08
TARGET_NAME = MARS
/* CAMERA DATA ELEMENTS */
DETECTOR_TEMPERATURE = 17.9627
FOCAL_PLANE_TEMPERATURE = 8.3794
INST_CMPRS_NAME = "DISCRETE COSINE TRANSFORMATION (DCT)"
INST_CMPRS_RATIO = 8.35816
INST_CMPRS_QUALITY = 0
INST_CMPRS_QUANTZ_TBL_ID = 0
INSTRUMENT_TEMPERATURE = 10.4184
LENS_TEMPERATURE = 8.7872
MACROPIXEL_SIZE = 2
MISSING_FRAMES = 0
PIXEL_SUBSAMPLING_FLAG = N
SIGNAL_CHAIN_ID = 3
/* RADIOMETRIC DATA ELEMENTS */
BANDWIDTH = 177.0
CENTER_FILTER_WAVELENGTH = 676.5
RADIANCE_OFFSET = 4.0027
RADIANCE_SCALING_FACTOR = 0.0158186
REFLECTANCE_SCALING_FACTOR = 0.00047671
MEX:REFLECTANCE_OFFSET = 0.120626
/* IMAGE OBJECT DEFINITIONS */
OBJECT = IMAGE
  INTERCHANGE_FORMAT = BINARY
  LINES = 35710
  LINE_SAMPLES = 7655
  SAMPLE_TYPE = UNSIGNED_INTEGER
  SAMPLE_BITS = 8
  BANDS = 1
  BAND_STORAGE_TYPE = BAND_SEQUENTIAL
  MAXIMUM = 255
  MEAN = 142.355
  MINIMUM = 1
  STANDARD_DEVIATION = 71.618
END_OBJECT = IMAGE
/* MAP OBJECT DEFINITIONS */
OBJECT = IMAGE_MAP_PROJECTION
  ^DATA_SET_MAP_PROJECTION_CATALOG= "DSMAP.CAT"
  A_AXIS_RADIUS = 3396.0
  B_AXIS_RADIUS = 3396.0
  C_AXIS_RADIUS = 3396.0
  CENTER_LATITUDE = 0.0
  CENTER_LONGITUDE = 287.0
  COORDINATE_SYSTEM_NAME = PLANETOGRAPHIC
  COORDINATE_SYSTEM_TYPE = "BODY-FIXED ROTATING"
  EASTERNMOST_LONGITUDE = 289.781
  FIRST_STANDARD_PARALLEL = "N/A"
  LINE_FIRST_PIXEL = 1
  LINE_LAST_PIXEL = 35710
  LINE_PROJECTION_OFFSET = 172157.25
  MAP_PROJECTION_ROTATION = 0.0
  MAP_PROJECTION_TYPE = SINUSOIDAL
  MAP_RESOLUTION = 2370.85521546667
  MAP_SCALE = 0.025
  MAXIMUM_LATITUDE = 72.58540000000001
  MINIMUM_LATITUDE = 57.5871
  POSITIVE_LONGITUDE_DIRECTION = EAST
  REFERENCE_LATITUDE = "N/A"
  REFERENCE_LONGITUDE = "N/A"
  SAMPLE_FIRST_PIXEL = 1
  SAMPLE_LAST_PIXEL = 7655
  SAMPLE_PROJECTION_OFFSET = 4004.75
  SECOND_STANDARD_PARALLEL = "N/A"
  WESTERNMOST_LONGITUDE = 281.192
END_OBJECT = IMAGE_MAP_PROJECTION
END
