PDS_VERSION_ID = PDS3
/* FILE DATA ELEMENTS */
RECORD_TYPE = UNDEFINED
/* POINTERS TO DATA OBJECTS */
^IMAGE = ("HQ446_0000_BL4.TIF")
/* IDENTIFICATION DATA ELEMENTS */
DATA_SET_ID = "MEX-M-HRSC-4-REFDR-MAPPROJECT-EXT9-V4.0"
DATA_SET_NAME = "MARS EXPRESS HRSC MAP PROJECTED REFDR EXTENSION9 V4.0"
DETECTOR_ID = MEX_HRSC_BLUE
EVENT_TYPE = "MARS-TERMINATOR-CALIBRATION-Tc"
INSTRUMENT_HOST_ID = MEX
INSTRUMENT_HOST_NAME = "MARS EXPRESS"
INSTRUMENT_ID = HRSC
INSTRUMENT_NAME = "HIGH RESOLUTION STEREO CAMERA"
MISSION_NAME = "MARS EXPRESS"
MISSION_PHASE_NAME = ME_Phase_50
PROCESSING_LEVEL_ID = 4
PRODUCT_CREATION_TIME = 2025-01-29T19:26:23.000Z
PRODUCT_ID = "HQ446_0000_BL4.TIF"
RELEASE_ID = 0022
REVISION_ID = 0000
/* QUALITY DATA ELEMENTS */
DATA_QUALITY_ID = 1
DATA_QUALITY_DESC = "Data calculated based on original SPICE kernels"
/* TIME DATA ELEMENTS */
SPACECRAFT_CLOCK_START_COUNT = "1/0682199799.64173"
SPACECRAFT_CLOCK_STOP_COUNT = "1/0682200275.62695"
START_TIME = 2024-12-13T19:59:39.500Z
STOP_TIME = 2024-12-13T20:04:06.493Z
/* ORBITAL DATA ELEMENTS */
ASCENDING_NODE_LONGITUDE = 84.8
MAXIMUM_RESOLUTION = 0.5347
FOOTPRINT_POINT_LATITUDE = (-5.52554,-5.37948,-5.1432,-5.18648, -3.92916,-3.53229,-3.40375,-0.95001, -1.70955,-0.869202,0.806044,-0.918101, 1.62422,-0.797301,1.64944,-0.573434, -3.37944,-5.76582,-8.64459,-11.2825, -14.7271,-17.3349,-20.1766,-24.5177, -27.9653,-30.5942,-33.0048,-35.4111, -37.3989,-39.8017,-41.4048,-43.5811, -45.7232,-46.8458,-47.4458,-47.4781, -46.5495,-45.2641,-44.0979,-41.6785, -39.8536,-37.5479,-34.5752,-32.3714, -28.9969,-26.5746,-23.0049,-21.1938, -21.6789,-23.8752,-24.0711,-26.3826, -25.513,-26.7492,-26.3895,-28.1735, -29.0611,-30.0385,-30.7117,-32.5342, -37.0202,-40.5016,-43.5518,-47.3753, -50.1097,-54.1826,-56.1711,-58.1619, -60.6538,-64.4763,-67.5625,-69.7617, -71.0749,-72.6966,-73.419,-73.6293, -73.3581,-72.327,-70.5136,-69.0996, -66.4131,-62.8251,-59.3625,-56.7565, -52.7337,-49.8575,-46.9001,-44.2702, -41.1718,-39.0744,-36.0292,-31.2715, -25.6384,-23.2179,-19.7863,-15.0977, -11.3312,-9.02337,-7.80449,-5.52554)
FOOTPRINT_POINT_LONGITUDE = (227.938,227.974,227.358,224.893, 221.827,219.047,214.714,210.0,206.665, 201.91,199.329,197.583,196.825,196.466, 195.995,194.345,193.395,192.902,192.22, 191.476,190.327,189.312,188.032,185.666 ,183.372,181.29,179.103,176.537,174.071 ,170.54,167.682,162.823,155.953,150.098 ,143.318,138.629,129.653,123.971, 120.331,114.655,111.378,107.965,104.424 ,102.241,99.4164,97.7021,95.5747, 92.0608,88.6077,87.7306,84.2331,84.9559 ,82.3224,79.0547,75.6225,73.5667, 69.4905,64.4215,62.9451,57.1931,58.7792 ,60.4686,62.1179,64.4726,66.4079, 69.8145,71.7769,74.0009,77.253,83.7133, 91.0977,98.5864,104.735,116.363,126.426 ,134.887,146.677,158.868,170.067, 175.969,184.108,191.671,197.022,200.271 ,204.407,206.895,209.152,210.957, 212.887,214.094,215.727,218.048,220.519 ,221.509,222.853,224.598,225.941, 226.744,227.163,227.938)
ORBIT_NUMBER = 26446
ORBITAL_ECCENTRICITY = 0.567
ORBITAL_INCLINATION = 87.13
ORBITAL_SEMIMAJOR_AXIS = 8766.92
PERIAPSIS_ALTITUDE = 417.93
PERIAPSIS_ARGUMENT_ANGLE = 112.16
PERIAPSIS_TIME = 2024-12-13T18:37:02.000Z
SPACECRAFT_ORIENTATION = (0.0,-1.0,0.0)
^MEX_ORIENTATION_DESC = "MEX_ORIENTATION_DESC.TXT"
SPACECRAFT_POINTING_MODE = FIXED
^MEX_POINTING_DESC = "MEX_POINTING_DESC.TXT"
RIGHT_ASCENSION = -1e+32
DECLINATION = -1e+32
OFFSET_ANGLE = -1e+32
SPACECRAFT_SOLAR_DISTANCE = 2.38452e+08
TARGET_NAME = MARS
/* CAMERA DATA ELEMENTS */
DETECTOR_TEMPERATURE = 18.3705
FOCAL_PLANE_TEMPERATURE = 9.3989
INST_CMPRS_NAME = "DISCRETE COSINE TRANSFORMATION (DCT)"
INST_CMPRS_RATIO = 9.0101
INST_CMPRS_QUALITY = 0
INST_CMPRS_QUANTZ_TBL_ID = 0
INSTRUMENT_TEMPERATURE = 11.234
LENS_TEMPERATURE = 9.6028
MACROPIXEL_SIZE = 2
MISSING_FRAMES = 0
PIXEL_SUBSAMPLING_FLAG = N
SIGNAL_CHAIN_ID = 2
/* RADIOMETRIC DATA ELEMENTS */
BANDWIDTH = 76.0
CENTER_FILTER_WAVELENGTH = 444.0
RADIANCE_OFFSET = 0.0
RADIANCE_SCALING_FACTOR = 0.00765004
REFLECTANCE_SCALING_FACTOR = 0.000446944
MEX:REFLECTANCE_OFFSET = 0.0
/* IMAGE OBJECT DEFINITIONS */
OBJECT = IMAGE
  INTERCHANGE_FORMAT = BINARY
  LINES = 11046
  LINE_SAMPLES = 14886
  SAMPLE_TYPE = UNSIGNED_INTEGER
  SAMPLE_BITS = 8
  BANDS = 1
  BAND_STORAGE_TYPE = BAND_SEQUENTIAL
  MAXIMUM = 254
  MEAN = 111.44
  MINIMUM = 30
  STANDARD_DEVIATION = 43.2073
END_OBJECT = IMAGE
/* MAP OBJECT DEFINITIONS */
OBJECT = IMAGE_MAP_PROJECTION
  ^DATA_SET_MAP_PROJECTION_CATALOG= "DSMAP.CAT"
  A_AXIS_RADIUS = 3396.0
  B_AXIS_RADIUS = 3396.0
  C_AXIS_RADIUS = 3396.0
  CENTER_LATITUDE = -56.9754
  CENTER_LONGITUDE = 167.014
  COORDINATE_SYSTEM_NAME = PLANETOGRAPHIC
  COORDINATE_SYSTEM_TYPE = "BODY-FIXED ROTATING"
  EASTERNMOST_LONGITUDE = 227.974
  FIRST_STANDARD_PARALLEL = "N/A"
  LINE_FIRST_PIXEL = 1
  LINE_LAST_PIXEL = 11046
  LINE_PROJECTION_OFFSET = 6545.75
  MAP_PROJECTION_ROTATION = 0.0
  MAP_PROJECTION_TYPE = ORTHOGRAPHIC
  MAP_RESOLUTION = 148.178450966667
  MAP_SCALE = 0.4
  MAXIMUM_LATITUDE = 1.64944
  MINIMUM_LATITUDE = -73.6293
  POSITIVE_LONGITUDE_DIRECTION = EAST
  REFERENCE_LATITUDE = "N/A"
  REFERENCE_LONGITUDE = "N/A"
  SAMPLE_FIRST_PIXEL = 1
  SAMPLE_LAST_PIXEL = 14886
  SAMPLE_PROJECTION_OFFSET = 7603.25
  SECOND_STANDARD_PARALLEL = "N/A"
  WESTERNMOST_LONGITUDE = 57.1931
END_OBJECT = IMAGE_MAP_PROJECTION
END
