PDS_VERSION_ID = PDS3
/* FILE DATA ELEMENTS */
RECORD_TYPE = UNDEFINED
/* POINTERS TO DATA OBJECTS */
^IMAGE = ("HQ446_0000_IR4.TIF")
/* IDENTIFICATION DATA ELEMENTS */
DATA_SET_ID = "MEX-M-HRSC-4-REFDR-MAPPROJECT-EXT9-V4.0"
DATA_SET_NAME = "MARS EXPRESS HRSC MAP PROJECTED REFDR EXTENSION9 V4.0"
DETECTOR_ID = MEX_HRSC_IR
EVENT_TYPE = "MARS-TERMINATOR-CALIBRATION-Tc"
INSTRUMENT_HOST_ID = MEX
INSTRUMENT_HOST_NAME = "MARS EXPRESS"
INSTRUMENT_ID = HRSC
INSTRUMENT_NAME = "HIGH RESOLUTION STEREO CAMERA"
MISSION_NAME = "MARS EXPRESS"
MISSION_PHASE_NAME = ME_Phase_50
PROCESSING_LEVEL_ID = 4
PRODUCT_CREATION_TIME = 2025-01-29T19:26:23.000Z
PRODUCT_ID = "HQ446_0000_IR4.TIF"
RELEASE_ID = 0022
REVISION_ID = 0000
/* QUALITY DATA ELEMENTS */
DATA_QUALITY_ID = 1
DATA_QUALITY_DESC = "Data calculated based on original SPICE kernels"
/* TIME DATA ELEMENTS */
SPACECRAFT_CLOCK_START_COUNT = "1/0682199799.64173"
SPACECRAFT_CLOCK_STOP_COUNT = "1/0682200275.62695"
START_TIME = 2024-12-13T19:57:32.440Z
STOP_TIME = 2024-12-13T20:02:02.549Z
/* ORBITAL DATA ELEMENTS */
ASCENDING_NODE_LONGITUDE = 84.8
MAXIMUM_RESOLUTION = 0.5261
FOOTPRINT_POINT_LATITUDE = (-4.12342,-3.84979,-4.28868,-4.29683, -3.14494,-2.09349,-0.70418,-1.28208, -1.22874,1.00102,-0.243776,-0.211668, 1.9916,0.119902,2.97454,0.455237, -2.0279,-5.64156,-8.12938,-11.7825, -14.9969,-17.113,-20.4601,-22.4854, -27.066,-29.9241,-32.2402,-35.2098, -37.0135,-39.3875,-41.0676,-42.7942, -43.9861,-44.735,-44.9046,-44.436, -43.5872,-42.0902,-40.5421,-37.6164, -35.3107,-33.6047,-31.4801,-28.4378, -24.986,-22.4112,-18.8853,-21.1894, -20.3967,-22.5879,-23.6473,-23.7486, -27.0979,-28.1779,-28.8943,-29.7457, -30.5411,-31.0842,-32.8063,-35.9419, -38.1259,-41.2367,-43.8423,-45.8942, -48.8781,-51.4327,-55.0723,-58.9764, -61.3797,-63.4194,-65.918,-67.975, -69.2358,-70.2278,-70.2891,-69.3601, -67.4854,-66.0003,-64.2733,-62.0356, -58.6781,-56.7903,-54.1222,-52.195, -49.3539,-47.2866,-44.2672,-39.9253, -36.4708,-33.8349,-31.4332,-26.5292, -23.3183,-20.6055,-16.9861,-14.6576, -11.5762,-7.74729,-6.64719,-4.12342)
FOOTPRINT_POINT_LONGITUDE = (225.094,225.174,224.778,221.755, 218.258,215.783,212.775,209.784,207.068 ,203.882,200.774,198.179,197.441, 195.402,194.351,194.011,191.657,190.912 ,190.286,189.174,188.015,187.101, 185.442,184.277,181.137,178.717,176.419 ,172.84,170.288,166.08,162.352,157.198, 151.912,145.987,139.568,133.655,128.741 ,123.274,119.205,113.554,110.139, 108.021,105.736,102.974,100.395,98.7993 ,96.9363,96.7276,93.7853,92.0378,89.587 ,85.242,80.673,76.2986,72.8279,67.9069, 65.0368,63.584,61.8307,63.3459,64.4941, 66.2913,67.9676,69.4227,71.7934,74.1278 ,78.0931,83.5697,87.9108,92.4777, 99.8684,108.745,117.146,130.697,139.641 ,154.573,166.626,172.806,178.327, 183.905,190.287,193.188,196.703,198.913 ,201.789,203.65,206.088,209.141,211.277 ,212.769,214.041,216.426,217.858, 219.004,220.455,221.348,222.489,223.851 ,224.233,225.094)
ORBIT_NUMBER = 26446
ORBITAL_ECCENTRICITY = 0.567
ORBITAL_INCLINATION = 87.13
ORBITAL_SEMIMAJOR_AXIS = 8766.92
PERIAPSIS_ALTITUDE = 417.93
PERIAPSIS_ARGUMENT_ANGLE = 112.16
PERIAPSIS_TIME = 2024-12-13T18:37:02.000Z
SPACECRAFT_ORIENTATION = (0.0,-1.0,0.0)
^MEX_ORIENTATION_DESC = "MEX_ORIENTATION_DESC.TXT"
SPACECRAFT_POINTING_MODE = FIXED
^MEX_POINTING_DESC = "MEX_POINTING_DESC.TXT"
RIGHT_ASCENSION = -1e+32
DECLINATION = -1e+32
OFFSET_ANGLE = -1e+32
SPACECRAFT_SOLAR_DISTANCE = 2.38452e+08
TARGET_NAME = MARS
/* CAMERA DATA ELEMENTS */
DETECTOR_TEMPERATURE = 17.5549
FOCAL_PLANE_TEMPERATURE = 9.3989
INST_CMPRS_NAME = "DISCRETE COSINE TRANSFORMATION (DCT)"
INST_CMPRS_RATIO = 6.30811
INST_CMPRS_QUALITY = 0
INST_CMPRS_QUANTZ_TBL_ID = 0
INSTRUMENT_TEMPERATURE = 11.234
LENS_TEMPERATURE = 9.6028
MACROPIXEL_SIZE = 2
MISSING_FRAMES = 0
PIXEL_SUBSAMPLING_FLAG = N
SIGNAL_CHAIN_ID = 3
/* RADIOMETRIC DATA ELEMENTS */
BANDWIDTH = 81.0
CENTER_FILTER_WAVELENGTH = 955.5
RADIANCE_OFFSET = 0.0
RADIANCE_SCALING_FACTOR = 0.00873347
REFLECTANCE_SCALING_FACTOR = 0.00107139
MEX:REFLECTANCE_OFFSET = 0.0
/* IMAGE OBJECT DEFINITIONS */
OBJECT = IMAGE
  INTERCHANGE_FORMAT = BINARY
  LINES = 11046
  LINE_SAMPLES = 14886
  SAMPLE_TYPE = UNSIGNED_INTEGER
  SAMPLE_BITS = 8
  BANDS = 1
  BAND_STORAGE_TYPE = BAND_SEQUENTIAL
  MAXIMUM = 255
  MEAN = 125.049
  MINIMUM = 32
  STANDARD_DEVIATION = 51.6841
END_OBJECT = IMAGE
/* MAP OBJECT DEFINITIONS */
OBJECT = IMAGE_MAP_PROJECTION
  ^DATA_SET_MAP_PROJECTION_CATALOG= "DSMAP.CAT"
  A_AXIS_RADIUS = 3396.0
  B_AXIS_RADIUS = 3396.0
  C_AXIS_RADIUS = 3396.0
  CENTER_LATITUDE = -56.9754
  CENTER_LONGITUDE = 167.014
  COORDINATE_SYSTEM_NAME = PLANETOGRAPHIC
  COORDINATE_SYSTEM_TYPE = "BODY-FIXED ROTATING"
  EASTERNMOST_LONGITUDE = 225.174
  FIRST_STANDARD_PARALLEL = "N/A"
  LINE_FIRST_PIXEL = 1
  LINE_LAST_PIXEL = 11046
  LINE_PROJECTION_OFFSET = 6545.75
  MAP_PROJECTION_ROTATION = 0.0
  MAP_PROJECTION_TYPE = ORTHOGRAPHIC
  MAP_RESOLUTION = 148.178450966667
  MAP_SCALE = 0.4
  MAXIMUM_LATITUDE = 2.97454
  MINIMUM_LATITUDE = -70.2891
  POSITIVE_LONGITUDE_DIRECTION = EAST
  REFERENCE_LATITUDE = "N/A"
  REFERENCE_LONGITUDE = "N/A"
  SAMPLE_FIRST_PIXEL = 1
  SAMPLE_LAST_PIXEL = 14886
  SAMPLE_PROJECTION_OFFSET = 7603.25
  SECOND_STANDARD_PARALLEL = "N/A"
  WESTERNMOST_LONGITUDE = 61.8307
END_OBJECT = IMAGE_MAP_PROJECTION
END
