PDS_VERSION_ID = PDS3
/* FILE DATA ELEMENTS */
RECORD_TYPE = UNDEFINED
/* POINTERS TO DATA OBJECTS */
^IMAGE = ("HQ446_0000_ND4.TIF")
/* IDENTIFICATION DATA ELEMENTS */
DATA_SET_ID = "MEX-M-HRSC-4-REFDR-MAPPROJECT-EXT9-V4.0"
DATA_SET_NAME = "MARS EXPRESS HRSC MAP PROJECTED REFDR EXTENSION9 V4.0"
DETECTOR_ID = MEX_HRSC_NADIR
EVENT_TYPE = "MARS-TERMINATOR-CALIBRATION-Tc"
INSTRUMENT_HOST_ID = MEX
INSTRUMENT_HOST_NAME = "MARS EXPRESS"
INSTRUMENT_ID = HRSC
INSTRUMENT_NAME = "HIGH RESOLUTION STEREO CAMERA"
MISSION_NAME = "MARS EXPRESS"
MISSION_PHASE_NAME = ME_Phase_50
PROCESSING_LEVEL_ID = 4
PRODUCT_CREATION_TIME = 2025-01-29T19:26:23.000Z
PRODUCT_ID = "HQ446_0000_ND4.TIF"
RELEASE_ID = 0022
REVISION_ID = 0000
/* QUALITY DATA ELEMENTS */
DATA_QUALITY_ID = 1
DATA_QUALITY_DESC = "Data calculated based on original SPICE kernels"
/* TIME DATA ELEMENTS */
SPACECRAFT_CLOCK_START_COUNT = "1/0682199799.64173"
SPACECRAFT_CLOCK_STOP_COUNT = "1/0682200275.62695"
START_TIME = 2024-12-13T19:59:17.540Z
STOP_TIME = 2024-12-13T20:03:44.542Z
/* ORBITAL DATA ELEMENTS */
ASCENDING_NODE_LONGITUDE = 84.8
MAXIMUM_RESOLUTION = 0.2667
FOOTPRINT_POINT_LATITUDE = (-5.17506,-5.01458,-5.44423,-4.36083, -2.85071,-2.9458,-2.31947,-0.848093, -0.151194,0.636231,-0.132133,-0.091643, 1.9495,2.3525,-3.47948,-7.96498, -10.6172,-14.4806,-17.213,-21.4516, -25.0341,-27.777,-31.1482,-33.7292, -35.9229,-38.4263,-39.9084,-41.7535, -43.9467,-45.7135,-46.3935,-46.8337, -46.568,-45.5765,-44.6895,-43.7295, -41.0864,-38.6165,-36.8984,-34.2333, -30.8326,-27.9378,-24.3545,-21.5981, -19.4327,-21.7396,-21.6691,-22.8164, -25.0799,-25.8103,-26.5444,-27.9032, -28.7824,-29.255,-30.5645,-30.9645, -31.8025,-34.0571,-36.2959,-40.0478, -43.8346,-48.221,-51.6594,-54.8101, -56.9394,-58.9125,-61.7047,-63.4956, -65.4029,-68.2606,-70.3543,-71.4797, -72.5572,-73.1461,-72.9655,-72.4936, -71.4704,-70.3993,-68.9699,-67.5674, -64.3967,-61.6116,-58.4779,-54.5737, -51.9673,-48.6973,-46.449,-42.7979, -39.535,-35.5148,-32.7216,-28.6795, -26.5135,-23.1411,-20.0438,-15.7872, -12.593,-8.36248,-7.74049,-5.17506)
FOOTPRINT_POINT_LONGITUDE = (227.576,227.624,226.974,222.856, 220.275,216.165,212.658,210.857,207.923 ,204.94,202.61,199.519,196.879,194.143, 192.767,191.779,191.061,189.779,188.707 ,186.691,184.604,182.723,179.949, 177.434,174.895,171.484,169.056,165.499 ,159.844,153.046,148.558,140.134, 134.831,128.226,124.55,121.473,115.178, 110.884,108.432,105.247,101.971,99.6529 ,97.2942,95.76,93.5096,92.8027,88.8681, 85.502,83.9394,80.4126,77.4728,73.319, 70.1313,67.0448,63.1039,61.9504,58.8978 ,58.1665,59.1629,60.9898,63.0813, 65.9195,68.5688,71.4443,73.7104,76.1123 ,80.1688,83.3165,87.3311,95.3276, 103.952,110.636,120.531,136.655,144.639 ,152.235,161.451,167.88,174.243,179.094 ,187.231,192.479,197.123,201.709,204.26 ,207.044,208.748,211.229,213.208, 215.405,216.806,218.687,219.634,221.041 ,222.27,223.878,225.036,226.52,226.734, 227.576)
ORBIT_NUMBER = 26446
ORBITAL_ECCENTRICITY = 0.567
ORBITAL_INCLINATION = 87.13
ORBITAL_SEMIMAJOR_AXIS = 8766.92
PERIAPSIS_ALTITUDE = 417.93
PERIAPSIS_ARGUMENT_ANGLE = 112.16
PERIAPSIS_TIME = 2024-12-13T18:37:02.000Z
SPACECRAFT_ORIENTATION = (0.0,-1.0,0.0)
^MEX_ORIENTATION_DESC = "MEX_ORIENTATION_DESC.TXT"
SPACECRAFT_POINTING_MODE = FIXED
^MEX_POINTING_DESC = "MEX_POINTING_DESC.TXT"
RIGHT_ASCENSION = -1e+32
DECLINATION = -1e+32
OFFSET_ANGLE = -1e+32
SPACECRAFT_SOLAR_DISTANCE = 2.38452e+08
TARGET_NAME = MARS
/* CAMERA DATA ELEMENTS */
DETECTOR_TEMPERATURE = 18.3705
FOCAL_PLANE_TEMPERATURE = 9.3989
INST_CMPRS_NAME = "DISCRETE COSINE TRANSFORMATION (DCT)"
INST_CMPRS_RATIO = 7.55948
INST_CMPRS_QUALITY = 0
INST_CMPRS_QUANTZ_TBL_ID = 0
INSTRUMENT_TEMPERATURE = 11.234
LENS_TEMPERATURE = 9.6028
MACROPIXEL_SIZE = 1
MISSING_FRAMES = 0
PIXEL_SUBSAMPLING_FLAG = N
SIGNAL_CHAIN_ID = 0
/* RADIOMETRIC DATA ELEMENTS */
BANDWIDTH = 177.0
CENTER_FILTER_WAVELENGTH = 677.5
RADIANCE_OFFSET = 0.0
RADIANCE_SCALING_FACTOR = 0.042934
REFLECTANCE_SCALING_FACTOR = 0.00129694
MEX:REFLECTANCE_OFFSET = 0.0
/* IMAGE OBJECT DEFINITIONS */
OBJECT = IMAGE
  INTERCHANGE_FORMAT = BINARY
  LINES = 22091
  LINE_SAMPLES = 29772
  SAMPLE_TYPE = UNSIGNED_INTEGER
  SAMPLE_BITS = 8
  BANDS = 1
  BAND_STORAGE_TYPE = BAND_SEQUENTIAL
  MAXIMUM = 255
  MEAN = 99.9874
  MINIMUM = 16
  STANDARD_DEVIATION = 46.2337
END_OBJECT = IMAGE
/* MAP OBJECT DEFINITIONS */
OBJECT = IMAGE_MAP_PROJECTION
  ^DATA_SET_MAP_PROJECTION_CATALOG= "DSMAP.CAT"
  A_AXIS_RADIUS = 3396.0
  B_AXIS_RADIUS = 3396.0
  C_AXIS_RADIUS = 3396.0
  CENTER_LATITUDE = -56.9754
  CENTER_LONGITUDE = 167.014
  COORDINATE_SYSTEM_NAME = PLANETOGRAPHIC
  COORDINATE_SYSTEM_TYPE = "BODY-FIXED ROTATING"
  EASTERNMOST_LONGITUDE = 227.624
  FIRST_STANDARD_PARALLEL = "N/A"
  LINE_FIRST_PIXEL = 1
  LINE_LAST_PIXEL = 22091
  LINE_PROJECTION_OFFSET = 13092.0
  MAP_PROJECTION_ROTATION = 0.0
  MAP_PROJECTION_TYPE = ORTHOGRAPHIC
  MAP_RESOLUTION = 296.356901933333
  MAP_SCALE = 0.2
  MAXIMUM_LATITUDE = 2.3525
  MINIMUM_LATITUDE = -73.1461
  POSITIVE_LONGITUDE_DIRECTION = EAST
  REFERENCE_LATITUDE = "N/A"
  REFERENCE_LONGITUDE = "N/A"
  SAMPLE_FIRST_PIXEL = 1
  SAMPLE_LAST_PIXEL = 29772
  SAMPLE_PROJECTION_OFFSET = 15207.0
  SECOND_STANDARD_PARALLEL = "N/A"
  WESTERNMOST_LONGITUDE = 58.1665
END_OBJECT = IMAGE_MAP_PROJECTION
END
