PDS_VERSION_ID = PDS3
/* FILE DATA ELEMENTS */
RECORD_TYPE = UNDEFINED
/* POINTERS TO DATA OBJECTS */
^IMAGE = ("HQ448_0000_GR4.TIF")
/* IDENTIFICATION DATA ELEMENTS */
DATA_SET_ID = "MEX-M-HRSC-4-REFDR-MAPPROJECT-EXT9-V4.0"
DATA_SET_NAME = "MARS EXPRESS HRSC MAP PROJECTED REFDR EXTENSION9 V4.0"
DETECTOR_ID = MEX_HRSC_GREEN
EVENT_TYPE = "MARS-REGIONAL-MAPPING-Im-Pf-La"
INSTRUMENT_HOST_ID = MEX
INSTRUMENT_HOST_NAME = "MARS EXPRESS"
INSTRUMENT_ID = HRSC
INSTRUMENT_NAME = "HIGH RESOLUTION STEREO CAMERA"
MISSION_NAME = "MARS EXPRESS"
MISSION_PHASE_NAME = ME_Phase_50
PROCESSING_LEVEL_ID = 4
PRODUCT_CREATION_TIME = 2025-01-29T19:26:23.000Z
PRODUCT_ID = "HQ448_0000_GR4.TIF"
RELEASE_ID = 0022
REVISION_ID = 0000
/* QUALITY DATA ELEMENTS */
DATA_QUALITY_ID = 1
DATA_QUALITY_DESC = "Data calculated based on original SPICE kernels"
/* TIME DATA ELEMENTS */
SPACECRAFT_CLOCK_START_COUNT = "1/0682245097.00363"
SPACECRAFT_CLOCK_STOP_COUNT = "1/0682245336.30474"
START_TIME = 2024-12-14T08:32:58.385Z
STOP_TIME = 2024-12-14T08:35:47.675Z
/* ORBITAL DATA ELEMENTS */
ASCENDING_NODE_LONGITUDE = 84.78
MAXIMUM_RESOLUTION = 0.0677
FOOTPRINT_POINT_LATITUDE = (76.8387,76.7593,76.6513,76.5658, 76.5626,76.5714,76.3287,76.0858,75.8426 ,75.6051,75.3676,75.1298,74.8918, 74.6537,74.4154,74.1769,73.9382,73.6994 ,73.4604,73.2213,72.982,72.7426,72.3891 ,71.9218,71.3369,70.9856,70.5168, 70.0476,69.5779,69.2254,68.7549,68.4018 ,68.1663,67.9306,67.6948,67.459,67.223, 66.987,66.6326,66.3963,66.1599,65.9233, 65.6866,65.4498,65.213,64.8574,64.7388, 64.6997,64.7438,64.7915,64.815,64.8488, 64.8499,64.8514,65.0898,65.3281,65.5663 ,65.8045,66.0426,66.2807,66.5187, 66.7567,66.9945,67.3511,67.5887,67.8263 ,68.0638,68.3013,68.5387,68.7761, 69.0134,69.2507,69.4879,69.725,70.0807, 70.3177,70.6732,70.9102,71.147,71.3839, 71.8575,72.3309,72.6859,72.9248,73.1676 ,73.4104,73.7745,74.0172,74.3811, 74.6237,74.8663,75.1089,75.3514,75.5939 ,75.8363,76.0787,76.4508,76.6993, 76.8236,76.8387)
FOOTPRINT_POINT_LONGITUDE = (341.02,338.845,336.487,334.908,334.852 ,334.711,334.964,335.207,335.441, 335.662,335.875,336.081,336.28,336.472, 336.658,336.838,337.012,337.181,337.344 ,337.503,337.656,337.805,338.017, 338.283,338.594,338.771,338.996,339.209 ,339.411,339.556,339.741,339.873, 339.959,340.043,340.124,340.204,340.281 ,340.357,340.468,340.539,340.609, 340.677,340.744,340.809,340.873,340.966 ,340.996,341.006,341.839,342.875, 343.463,344.449,344.482,344.492,344.459 ,344.426,344.391,344.356,344.32,344.283 ,344.246,344.207,344.169,344.109, 344.068,344.026,343.984,343.94,343.895, 343.85,343.803,343.754,343.706,343.656, 343.578,343.525,343.443,343.385,343.328 ,343.268,343.144,343.013,342.911, 342.839,342.764,342.687,342.567,342.484 ,342.354,342.264,342.171,342.076, 341.976,341.874,341.767,341.657,341.481 ,341.357,341.293,341.02)
ORBIT_NUMBER = 26448
ORBITAL_ECCENTRICITY = 0.567
ORBITAL_INCLINATION = 87.13
ORBITAL_SEMIMAJOR_AXIS = 8767.34
PERIAPSIS_ALTITUDE = 418.0
PERIAPSIS_ARGUMENT_ANGLE = 111.8
PERIAPSIS_TIME = 2024-12-14T08:35:12.000Z
SPACECRAFT_ORIENTATION = (0.0,-1.0,0.0)
^MEX_ORIENTATION_DESC = "MEX_ORIENTATION_DESC.TXT"
SPACECRAFT_POINTING_MODE = INERT
^MEX_POINTING_DESC = "MEX_POINTING_DESC.TXT"
RIGHT_ASCENSION = 129.604
DECLINATION = -34.303
OFFSET_ANGLE = -1e+32
SPACECRAFT_SOLAR_DISTANCE = 2.38546e+08
TARGET_NAME = MARS
/* CAMERA DATA ELEMENTS */
DETECTOR_TEMPERATURE = 18.5744
FOCAL_PLANE_TEMPERATURE = 9.8067
INST_CMPRS_NAME = "DISCRETE COSINE TRANSFORMATION (DCT)"
INST_CMPRS_RATIO = 48.5529
INST_CMPRS_QUALITY = 0
INST_CMPRS_QUANTZ_TBL_ID = 0
INSTRUMENT_TEMPERATURE = 11.6418
LENS_TEMPERATURE = 9.8067
MACROPIXEL_SIZE = 4
MISSING_FRAMES = 0
PIXEL_SUBSAMPLING_FLAG = N
SIGNAL_CHAIN_ID = 2
/* RADIOMETRIC DATA ELEMENTS */
BANDWIDTH = 88.0
CENTER_FILTER_WAVELENGTH = 538.0
RADIANCE_OFFSET = 0.0
RADIANCE_SCALING_FACTOR = 0.00800619
REFLECTANCE_SCALING_FACTOR = 0.000392246
MEX:REFLECTANCE_OFFSET = 0.0
/* IMAGE OBJECT DEFINITIONS */
OBJECT = IMAGE
  INTERCHANGE_FORMAT = BINARY
  LINES = 14408
  LINE_SAMPLES = 3466
  SAMPLE_TYPE = UNSIGNED_INTEGER
  SAMPLE_BITS = 8
  BANDS = 1
  BAND_STORAGE_TYPE = BAND_SEQUENTIAL
  MAXIMUM = 255
  MEAN = 254.738
  MINIMUM = 1
  STANDARD_DEVIATION = 1.10693
END_OBJECT = IMAGE
/* MAP OBJECT DEFINITIONS */
OBJECT = IMAGE_MAP_PROJECTION
  ^DATA_SET_MAP_PROJECTION_CATALOG= "DSMAP.CAT"
  A_AXIS_RADIUS = 3396.0
  B_AXIS_RADIUS = 3396.0
  C_AXIS_RADIUS = 3396.0
  CENTER_LATITUDE = 0.0
  CENTER_LONGITUDE = 341.0
  COORDINATE_SYSTEM_NAME = PLANETOGRAPHIC
  COORDINATE_SYSTEM_TYPE = "BODY-FIXED ROTATING"
  EASTERNMOST_LONGITUDE = 344.492
  FIRST_STANDARD_PARALLEL = "N/A"
  LINE_FIRST_PIXEL = 1
  LINE_LAST_PIXEL = 14408
  LINE_PROJECTION_OFFSET = 91087.625
  MAP_PROJECTION_ROTATION = 0.0
  MAP_PROJECTION_TYPE = SINUSOIDAL
  MAP_RESOLUTION = 1185.42760773333
  MAP_SCALE = 0.05
  MAXIMUM_LATITUDE = 76.8387
  MINIMUM_LATITUDE = 64.69970000000001
  POSITIVE_LONGITUDE_DIRECTION = EAST
  REFERENCE_LATITUDE = "N/A"
  REFERENCE_LONGITUDE = "N/A"
  SAMPLE_FIRST_PIXEL = 1
  SAMPLE_LAST_PIXEL = 3466
  SAMPLE_PROJECTION_OFFSET = 1735.625
  SECOND_STANDARD_PARALLEL = "N/A"
  WESTERNMOST_LONGITUDE = 334.711
END_OBJECT = IMAGE_MAP_PROJECTION
END
