PDS_VERSION_ID = PDS3
/* FILE DATA ELEMENTS */
RECORD_TYPE = UNDEFINED
/* POINTERS TO DATA OBJECTS */
^IMAGE = ("HQ448_0000_IR4.TIF")
/* IDENTIFICATION DATA ELEMENTS */
DATA_SET_ID = "MEX-M-HRSC-4-REFDR-MAPPROJECT-EXT9-V4.0"
DATA_SET_NAME = "MARS EXPRESS HRSC MAP PROJECTED REFDR EXTENSION9 V4.0"
DETECTOR_ID = MEX_HRSC_IR
EVENT_TYPE = "MARS-REGIONAL-MAPPING-Im-Pf-La"
INSTRUMENT_HOST_ID = MEX
INSTRUMENT_HOST_NAME = "MARS EXPRESS"
INSTRUMENT_ID = HRSC
INSTRUMENT_NAME = "HIGH RESOLUTION STEREO CAMERA"
MISSION_NAME = "MARS EXPRESS"
MISSION_PHASE_NAME = ME_Phase_50
PROCESSING_LEVEL_ID = 4
PRODUCT_CREATION_TIME = 2025-01-29T19:26:23.000Z
PRODUCT_ID = "HQ448_0000_IR4.TIF"
RELEASE_ID = 0022
REVISION_ID = 0000
/* QUALITY DATA ELEMENTS */
DATA_QUALITY_ID = 1
DATA_QUALITY_DESC = "Data calculated based on original SPICE kernels"
/* TIME DATA ELEMENTS */
SPACECRAFT_CLOCK_START_COUNT = "1/0682245097.00363"
SPACECRAFT_CLOCK_STOP_COUNT = "1/0682245336.30474"
START_TIME = 2024-12-14T08:32:35.427Z
STOP_TIME = 2024-12-14T08:35:24.587Z
/* ORBITAL DATA ELEMENTS */
ASCENDING_NODE_LONGITUDE = 84.78
MAXIMUM_RESOLUTION = 0.0708
FOOTPRINT_POINT_LATITUDE = (76.8813,76.8415,76.7698,76.685,76.6223 ,76.6192,76.5485,76.3092,76.071,75.7129 ,75.4739,75.2345,74.9947,74.7548, 74.5145,74.1557,73.9208,73.5678,73.3322 ,73.0963,72.8602,72.6238,72.3872, 72.1503,71.7946,71.5572,71.3195,71.0816 ,70.6156,70.2668,69.9175,69.4512, 69.2175,68.9838,68.7497,68.5156,68.281, 68.0465,67.694,67.3412,67.1057,66.752, 66.5161,66.1615,65.925,65.688,65.4509, 65.2138,64.8573,64.7385,64.6754,64.7113 ,64.7449,64.7705,64.812,64.813,64.8145, 65.2923,65.5311,65.7695,66.0079,66.246, 66.6031,66.8409,67.0783,67.3154,67.5524 ,67.7892,68.0259,68.3807,68.6171, 68.8531,69.0893,69.4429,69.7961,70.2666 ,70.7365,71.0886,71.3264,71.567,71.8073 ,72.0475,72.4074,72.7671,73.0066,73.246 ,73.6049,73.9634,74.2023,74.441,74.685, 74.9295,75.2961,75.5403,75.9063,76.1502 ,76.3939,76.6373,76.759,76.8813)
FOOTPRINT_POINT_LONGITUDE = (341.027,339.794,337.941,336.12,334.943 ,334.887,334.835,335.082,335.319, 335.658,335.875,336.084,336.287,336.482 ,336.671,336.942,337.112,337.358, 337.515,337.668,337.817,337.961,338.1, 338.236,338.433,338.56,338.683,338.802, 339.027,339.188,339.342,339.539,339.634 ,339.727,339.817,339.905,339.991, 340.075,340.197,340.315,340.391,340.502 ,340.574,340.679,340.747,340.814, 340.879,340.942,341.035,341.065,341.081 ,341.797,342.553,343.215,344.583, 344.616,344.627,344.558,344.522,344.486 ,344.449,344.411,344.353,344.313, 344.272,344.231,344.189,344.146,344.103 ,344.035,343.989,343.942,343.893, 343.819,343.742,343.635,343.522,343.434 ,343.373,343.309,343.244,343.177, 343.073,342.965,342.891,342.814,342.695 ,342.57,342.484,342.395,342.301,342.204 ,342.052,341.947,341.781,341.666, 341.547,341.423,341.36,341.027)
ORBIT_NUMBER = 26448
ORBITAL_ECCENTRICITY = 0.567
ORBITAL_INCLINATION = 87.13
ORBITAL_SEMIMAJOR_AXIS = 8767.34
PERIAPSIS_ALTITUDE = 418.0
PERIAPSIS_ARGUMENT_ANGLE = 111.8
PERIAPSIS_TIME = 2024-12-14T08:35:12.000Z
SPACECRAFT_ORIENTATION = (0.0,-1.0,0.0)
^MEX_ORIENTATION_DESC = "MEX_ORIENTATION_DESC.TXT"
SPACECRAFT_POINTING_MODE = INERT
^MEX_POINTING_DESC = "MEX_POINTING_DESC.TXT"
RIGHT_ASCENSION = 129.604
DECLINATION = -34.303
OFFSET_ANGLE = -1e+32
SPACECRAFT_SOLAR_DISTANCE = 2.38546e+08
TARGET_NAME = MARS
/* CAMERA DATA ELEMENTS */
DETECTOR_TEMPERATURE = 17.7588
FOCAL_PLANE_TEMPERATURE = 9.8067
INST_CMPRS_NAME = "DISCRETE COSINE TRANSFORMATION (DCT)"
INST_CMPRS_RATIO = 10.4599
INST_CMPRS_QUALITY = 0
INST_CMPRS_QUANTZ_TBL_ID = 0
INSTRUMENT_TEMPERATURE = 11.6418
LENS_TEMPERATURE = 9.8067
MACROPIXEL_SIZE = 4
MISSING_FRAMES = 0
PIXEL_SUBSAMPLING_FLAG = N
SIGNAL_CHAIN_ID = 2
/* RADIOMETRIC DATA ELEMENTS */
BANDWIDTH = 81.0
CENTER_FILTER_WAVELENGTH = 955.5
RADIANCE_OFFSET = 1.15983
RADIANCE_SCALING_FACTOR = 0.00525093
REFLECTANCE_SCALING_FACTOR = 0.000644624
MEX:REFLECTANCE_OFFSET = 0.142385
/* IMAGE OBJECT DEFINITIONS */
OBJECT = IMAGE
  INTERCHANGE_FORMAT = BINARY
  LINES = 14408
  LINE_SAMPLES = 3466
  SAMPLE_TYPE = UNSIGNED_INTEGER
  SAMPLE_BITS = 8
  BANDS = 1
  BAND_STORAGE_TYPE = BAND_SEQUENTIAL
  MAXIMUM = 255
  MEAN = 144.552
  MINIMUM = 1
  STANDARD_DEVIATION = 68.6171
END_OBJECT = IMAGE
/* MAP OBJECT DEFINITIONS */
OBJECT = IMAGE_MAP_PROJECTION
  ^DATA_SET_MAP_PROJECTION_CATALOG= "DSMAP.CAT"
  A_AXIS_RADIUS = 3396.0
  B_AXIS_RADIUS = 3396.0
  C_AXIS_RADIUS = 3396.0
  CENTER_LATITUDE = 0.0
  CENTER_LONGITUDE = 341.0
  COORDINATE_SYSTEM_NAME = PLANETOGRAPHIC
  COORDINATE_SYSTEM_TYPE = "BODY-FIXED ROTATING"
  EASTERNMOST_LONGITUDE = 344.627
  FIRST_STANDARD_PARALLEL = "N/A"
  LINE_FIRST_PIXEL = 1
  LINE_LAST_PIXEL = 14408
  LINE_PROJECTION_OFFSET = 91087.625
  MAP_PROJECTION_ROTATION = 0.0
  MAP_PROJECTION_TYPE = SINUSOIDAL
  MAP_RESOLUTION = 1185.42760773333
  MAP_SCALE = 0.05
  MAXIMUM_LATITUDE = 76.8813
  MINIMUM_LATITUDE = 64.6754
  POSITIVE_LONGITUDE_DIRECTION = EAST
  REFERENCE_LATITUDE = "N/A"
  REFERENCE_LONGITUDE = "N/A"
  SAMPLE_FIRST_PIXEL = 1
  SAMPLE_LAST_PIXEL = 3466
  SAMPLE_PROJECTION_OFFSET = 1735.625
  SECOND_STANDARD_PARALLEL = "N/A"
  WESTERNMOST_LONGITUDE = 334.835
END_OBJECT = IMAGE_MAP_PROJECTION
END
