PDS_VERSION_ID = PDS3
/* FILE DATA ELEMENTS */
RECORD_TYPE = UNDEFINED
/* POINTERS TO DATA OBJECTS */
^IMAGE = ("HQ450_0000_BL4.TIF")
/* IDENTIFICATION DATA ELEMENTS */
DATA_SET_ID = "MEX-M-HRSC-4-REFDR-MAPPROJECT-EXT9-V4.0"
DATA_SET_NAME = "MARS EXPRESS HRSC MAP PROJECTED REFDR EXTENSION9 V4.0"
DETECTOR_ID = MEX_HRSC_BLUE
EVENT_TYPE = "MARS-TERMINATOR-CALIBRATION-Tc"
INSTRUMENT_HOST_ID = MEX
INSTRUMENT_HOST_NAME = "MARS EXPRESS"
INSTRUMENT_ID = HRSC
INSTRUMENT_NAME = "HIGH RESOLUTION STEREO CAMERA"
MISSION_NAME = "MARS EXPRESS"
MISSION_PHASE_NAME = ME_Phase_50
PROCESSING_LEVEL_ID = 4
PRODUCT_CREATION_TIME = 2025-01-29T19:26:23.000Z
PRODUCT_ID = "HQ450_0000_BL4.TIF"
RELEASE_ID = 0022
REVISION_ID = 0000
/* QUALITY DATA ELEMENTS */
DATA_QUALITY_ID = 1
DATA_QUALITY_DESC = "Data calculated based on original SPICE kernels"
/* TIME DATA ELEMENTS */
SPACECRAFT_CLOCK_START_COUNT = "1/0682300775.64112"
SPACECRAFT_CLOCK_STOP_COUNT = "1/0682301242.62779"
START_TIME = 2024-12-15T00:02:35.527Z
STOP_TIME = 2024-12-15T00:06:52.548Z
/* ORBITAL DATA ELEMENTS */
ASCENDING_NODE_LONGITUDE = 84.74
MAXIMUM_RESOLUTION = 0.5667
FOOTPRINT_POINT_LATITUDE = (-6.09832,-5.88898,-6.18497,-6.00139, -5.54641,-4.52445,-2.49506,-1.73459, -1.97412,-2.65253,-1.96296,-0.467827, -3.09935,-0.447501,-2.28076,0.0812934, -2.47666,0.19098,-2.12024,-4.49395, -7.5166,-11.2065,-14.6566,-19.6436, -24.3022,-26.9059,-29.9283,-33.1513, -34.8906,-37.3109,-38.9086,-41.2111, -43.3334,-44.4923,-45.129,-45.3818, -45.2662,-44.3771,-43.2138,-41.0251, -38.7192,-36.9397,-34.1202,-31.4772, -28.5245,-24.496,-21.123,-18.4351, -21.2041,-19.3314,-21.4516,-21.5067, -23.4714,-22.8881,-23.4373,-25.6786, -25.1919,-27.156,-27.9393,-28.9873, -29.0582,-31.0776,-34.7477,-39.1781, -44.0577,-46.9326,-50.8861,-53.6503, -57.5133,-60.571,-64.5434,-66.9068, -68.6368,-70.5304,-71.9951,-73.1613, -73.7638,-73.549,-72.5822,-71.097, -68.8078,-66.6984,-63.5198,-58.9857, -56.6309,-53.6085,-49.9033,-45.7148, -42.0747,-38.3688,-34.9585,-31.2706, -27.8253,-25.1709,-21.3117,-16.8425, -13.8144,-9.69677,-8.55786,-6.09832)
FOOTPRINT_POINT_LONGITUDE = (177.334,177.38,176.925,172.34,167.799, 164.696,162.673,160.474,156.925,153.567 ,150.686,148.51,148.149,147.304,144.407 ,143.214,142.941,142.3,142.06,140.293, 139.753,138.902,137.855,135.884,133.395 ,131.728,129.387,126.299,124.357, 121.112,118.553,113.949,107.964,102.913 ,98.3597,93.055,88.8194,81.5678,76.6727 ,70.5848,66.0878,63.3227,59.7643, 56.9981,54.4357,51.6794,49.9182,46.5589 ,45.4068,42.9774,41.6064,39.0219,36.522 ,33.4018,30.8033,28.7233,25.0276, 21.0724,16.5346,13.1934,11.623,9.34957, 10.7403,12.6345,15.0836,16.7613,19.4531 ,21.6805,25.4524,29.2155,35.7104, 40.9847,45.9461,53.1793,61.2036,71.4071 ,82.8807,98.7919,110.404,120.14,129.648 ,135.787,142.58,149.454,152.231,155.263 ,158.384,161.343,163.556,165.546, 167.197,168.823,170.223,171.234,172.618 ,174.114,175.076,176.33,176.668, 177.334)
ORBIT_NUMBER = 26450
ORBITAL_ECCENTRICITY = 0.567
ORBITAL_INCLINATION = 87.12
ORBITAL_SEMIMAJOR_AXIS = 8769.22
PERIAPSIS_ALTITUDE = 418.63
PERIAPSIS_ARGUMENT_ANGLE = 111.47
PERIAPSIS_TIME = 2024-12-14T22:33:26.000Z
SPACECRAFT_ORIENTATION = (0.0,-1.0,0.0)
^MEX_ORIENTATION_DESC = "MEX_ORIENTATION_DESC.TXT"
SPACECRAFT_POINTING_MODE = FIXED
^MEX_POINTING_DESC = "MEX_POINTING_DESC.TXT"
RIGHT_ASCENSION = -1e+32
DECLINATION = -1e+32
OFFSET_ANGLE = -1e+32
SPACECRAFT_SOLAR_DISTANCE = 2.3864e+08
TARGET_NAME = MARS
/* CAMERA DATA ELEMENTS */
DETECTOR_TEMPERATURE = 18.1666
FOCAL_PLANE_TEMPERATURE = 8.5833
INST_CMPRS_NAME = "DISCRETE COSINE TRANSFORMATION (DCT)"
INST_CMPRS_RATIO = 8.89899
INST_CMPRS_QUALITY = 0
INST_CMPRS_QUANTZ_TBL_ID = 0
INSTRUMENT_TEMPERATURE = 11.0301
LENS_TEMPERATURE = 9.195
MACROPIXEL_SIZE = 2
MISSING_FRAMES = 0
PIXEL_SUBSAMPLING_FLAG = N
SIGNAL_CHAIN_ID = 2
/* RADIOMETRIC DATA ELEMENTS */
BANDWIDTH = 76.0
CENTER_FILTER_WAVELENGTH = 444.0
RADIANCE_OFFSET = 0.0
RADIANCE_SCALING_FACTOR = 0.00806287
REFLECTANCE_SCALING_FACTOR = 0.00047181
MEX:REFLECTANCE_OFFSET = 0.0
/* IMAGE OBJECT DEFINITIONS */
OBJECT = IMAGE
  INTERCHANGE_FORMAT = BINARY
  LINES = 10541
  LINE_SAMPLES = 15052
  SAMPLE_TYPE = UNSIGNED_INTEGER
  SAMPLE_BITS = 8
  BANDS = 1
  BAND_STORAGE_TYPE = BAND_SEQUENTIAL
  MAXIMUM = 254
  MEAN = 116.095
  MINIMUM = 28
  STANDARD_DEVIATION = 49.9619
END_OBJECT = IMAGE
/* MAP OBJECT DEFINITIONS */
OBJECT = IMAGE_MAP_PROJECTION
  ^DATA_SET_MAP_PROJECTION_CATALOG= "DSMAP.CAT"
  A_AXIS_RADIUS = 3396.0
  B_AXIS_RADIUS = 3396.0
  C_AXIS_RADIUS = 3396.0
  CENTER_LATITUDE = -57.3335
  CENTER_LONGITUDE = 114.926
  COORDINATE_SYSTEM_NAME = PLANETOGRAPHIC
  COORDINATE_SYSTEM_TYPE = "BODY-FIXED ROTATING"
  EASTERNMOST_LONGITUDE = 177.38
  FIRST_STANDARD_PARALLEL = "N/A"
  LINE_FIRST_PIXEL = 1
  LINE_LAST_PIXEL = 10541
  LINE_PROJECTION_OFFSET = 6531.25
  MAP_PROJECTION_ROTATION = 0.0
  MAP_PROJECTION_TYPE = ORTHOGRAPHIC
  MAP_RESOLUTION = 148.178450966667
  MAP_SCALE = 0.4
  MAXIMUM_LATITUDE = 0.19098
  MINIMUM_LATITUDE = -73.7638
  POSITIVE_LONGITUDE_DIRECTION = EAST
  REFERENCE_LATITUDE = "N/A"
  REFERENCE_LONGITUDE = "N/A"
  SAMPLE_FIRST_PIXEL = 1
  SAMPLE_LAST_PIXEL = 15052
  SAMPLE_PROJECTION_OFFSET = 7588.75
  SECOND_STANDARD_PARALLEL = "N/A"
  WESTERNMOST_LONGITUDE = 9.34957
END_OBJECT = IMAGE_MAP_PROJECTION
END
