PDS_VERSION_ID = PDS3
/* FILE DATA ELEMENTS */
RECORD_TYPE = UNDEFINED
/* POINTERS TO DATA OBJECTS */
^IMAGE = ("HQ454_0000_GR4.TIF")
/* IDENTIFICATION DATA ELEMENTS */
DATA_SET_ID = "MEX-M-HRSC-4-REFDR-MAPPROJECT-EXT9-V4.0"
DATA_SET_NAME = "MARS EXPRESS HRSC MAP PROJECTED REFDR EXTENSION9 V4.0"
DETECTOR_ID = MEX_HRSC_GREEN
EVENT_TYPE = "MARS-TERMINATOR-CALIBRATION-Tc"
INSTRUMENT_HOST_ID = MEX
INSTRUMENT_HOST_NAME = "MARS EXPRESS"
INSTRUMENT_ID = HRSC
INSTRUMENT_NAME = "HIGH RESOLUTION STEREO CAMERA"
MISSION_NAME = "MARS EXPRESS"
MISSION_PHASE_NAME = ME_Phase_50
PROCESSING_LEVEL_ID = 4
PRODUCT_CREATION_TIME = 2025-01-29T19:26:23.000Z
PRODUCT_ID = "HQ454_0000_GR4.TIF"
RELEASE_ID = 0022
REVISION_ID = 0000
/* QUALITY DATA ELEMENTS */
DATA_QUALITY_ID = 1
DATA_QUALITY_DESC = "Data calculated based on original SPICE kernels"
/* TIME DATA ELEMENTS */
SPACECRAFT_CLOCK_START_COUNT = "1/0682402306.65158"
SPACECRAFT_CLOCK_STOP_COUNT = "1/0682402754.59655"
START_TIME = 2024-12-16T04:14:02.508Z
STOP_TIME = 2024-12-16T04:18:00.498Z
/* ORBITAL DATA ELEMENTS */
ASCENDING_NODE_LONGITUDE = 84.67
MAXIMUM_RESOLUTION = 0.6341
FOOTPRINT_POINT_LATITUDE = (-7.95508,-7.63572,-8.08999,-7.20253, -8.10652,-6.19146,-6.34026,-5.53444, -7.53483,-4.71169,-7.46165,-5.06103, -7.19343,-4.34888,-7.07564,-4.62696, -7.26874,-4.73632,-6.57953,-4.09769, -8.81944,-12.1353,-14.6924,-18.1433, -20.9935,-24.7937,-27.2917,-29.9004, -34.3288,-36.9883,-38.454,-39.9577, -40.5606,-40.9891,-40.8065,-39.8648, -38.7026,-36.7194,-34.011,-31.8716, -28.5954,-24.3337,-21.7768,-18.4618, -16.1166,-16.1684,-18.8623,-17.0514, -20.201,-18.4092,-21.0994,-18.5962, -20.7958,-20.336,-21.6549,-21.1219, -22.2144,-22.9371,-24.7785,-25.2591, -25.0644,-25.2302,-30.9037,-34.5005, -39.2454,-43.6208,-46.1451,-50.2715, -53.6691,-58.2044,-60.6893,-63.8525, -66.5079,-68.5353,-71.2928,-73.5755, -74.5573,-75.2727,-75.1255,-73.824, -71.9815,-68.4251,-64.4461,-62.2513, -60.0582,-56.3712,-53.226,-48.11, -44.447,-40.1775,-37.7016,-34.194, -31.5407,-28.4745,-22.5753,-18.3078, -14.6318,-12.1087,-10.6599,-7.95508)
FOOTPRINT_POINT_LONGITUDE = (484.042,484.085,483.873,480.622, 477.526,473.156,470.068,466.331,462.51, 461.354,461.06,458.703,455.421,454.872, 452.854,450.568,448.236,445.958,443.308 ,440.936,440.168,439.66,439.076,437.974 ,436.785,434.656,432.857,430.513, 425.222,420.554,416.983,411.5,408.013, 402.333,398.264,392.362,388.348,383.674 ,379.259,376.611,373.451,370.442, 369.079,367.726,364.3,361.494,360.53, 358.073,355.502,353.177,351.084,350.38, 348.629,344.771,341.299,338.406,334.44, 330.658,328.508,322.389,321.436,320.582 ,321.974,323.001,324.589,326.329, 327.504,329.75,331.986,335.8,338.452, 342.677,347.324,351.909,360.644,372.52, 381.258,395.448,408.537,424.515,435.358 ,447.379,455.531,458.828,461.578, 465.332,467.915,471.296,473.269,475.228 ,476.23,477.514,478.397,479.334,480.93, 481.946,482.745,483.256,483.536, 484.042)
ORBIT_NUMBER = 26454
ORBITAL_ECCENTRICITY = 0.567
ORBITAL_INCLINATION = 87.13
ORBITAL_SEMIMAJOR_AXIS = 8769.43
PERIAPSIS_ALTITUDE = 417.43
PERIAPSIS_ARGUMENT_ANGLE = 110.77
PERIAPSIS_TIME = 2024-12-16T02:29:51.000Z
SPACECRAFT_ORIENTATION = (0.0,-1.0,0.0)
^MEX_ORIENTATION_DESC = "MEX_ORIENTATION_DESC.TXT"
SPACECRAFT_POINTING_MODE = FIXED
^MEX_POINTING_DESC = "MEX_POINTING_DESC.TXT"
RIGHT_ASCENSION = -1e+32
DECLINATION = -1e+32
OFFSET_ANGLE = -1e+32
SPACECRAFT_SOLAR_DISTANCE = 2.38827e+08
TARGET_NAME = MARS
/* CAMERA DATA ELEMENTS */
DETECTOR_TEMPERATURE = 18.1666
FOCAL_PLANE_TEMPERATURE = 9.3989
INST_CMPRS_NAME = "DISCRETE COSINE TRANSFORMATION (DCT)"
INST_CMPRS_RATIO = 9.91504
INST_CMPRS_QUALITY = 0
INST_CMPRS_QUANTZ_TBL_ID = 0
INSTRUMENT_TEMPERATURE = 11.234
LENS_TEMPERATURE = 8.1755
MACROPIXEL_SIZE = 2
MISSING_FRAMES = 1
PIXEL_SUBSAMPLING_FLAG = N
SIGNAL_CHAIN_ID = 2
/* RADIOMETRIC DATA ELEMENTS */
BANDWIDTH = 88.0
CENTER_FILTER_WAVELENGTH = 538.0
RADIANCE_OFFSET = 0.0
RADIANCE_SCALING_FACTOR = 0.0105259
REFLECTANCE_SCALING_FACTOR = 0.000516958
MEX:REFLECTANCE_OFFSET = 0.0
/* IMAGE OBJECT DEFINITIONS */
OBJECT = IMAGE
  INTERCHANGE_FORMAT = BINARY
  LINES = 4837
  LINE_SAMPLES = 7696
  SAMPLE_TYPE = UNSIGNED_INTEGER
  SAMPLE_BITS = 8
  BANDS = 1
  BAND_STORAGE_TYPE = BAND_SEQUENTIAL
  MAXIMUM = 255
  MEAN = 182.215
  MINIMUM = 32
  STANDARD_DEVIATION = 61.732
END_OBJECT = IMAGE
/* MAP OBJECT DEFINITIONS */
OBJECT = IMAGE_MAP_PROJECTION
  ^DATA_SET_MAP_PROJECTION_CATALOG= "DSMAP.CAT"
  A_AXIS_RADIUS = 3396.0
  B_AXIS_RADIUS = 3396.0
  C_AXIS_RADIUS = 3396.0
  CENTER_LATITUDE = -59.3711
  CENTER_LONGITUDE = 58.7582
  COORDINATE_SYSTEM_NAME = PLANETOGRAPHIC
  COORDINATE_SYSTEM_TYPE = "BODY-FIXED ROTATING"
  EASTERNMOST_LONGITUDE = 124.085
  FIRST_STANDARD_PARALLEL = "N/A"
  LINE_FIRST_PIXEL = 1
  LINE_LAST_PIXEL = 4837
  LINE_PROJECTION_OFFSET = 3174.75
  MAP_PROJECTION_ROTATION = 0.0
  MAP_PROJECTION_TYPE = ORTHOGRAPHIC
  MAP_RESOLUTION = 74.08922548333329
  MAP_SCALE = 0.8
  MAXIMUM_LATITUDE = -4.09769
  MINIMUM_LATITUDE = -75.2727
  POSITIVE_LONGITUDE_DIRECTION = EAST
  REFERENCE_LATITUDE = "N/A"
  REFERENCE_LONGITUDE = "N/A"
  SAMPLE_FIRST_PIXEL = 1
  SAMPLE_LAST_PIXEL = 7696
  SAMPLE_PROJECTION_OFFSET = 3867.75
  SECOND_STANDARD_PARALLEL = "N/A"
  WESTERNMOST_LONGITUDE = -39.418
END_OBJECT = IMAGE_MAP_PROJECTION
END
