PDS_VERSION_ID = PDS3
/* FILE DATA ELEMENTS */
RECORD_TYPE = UNDEFINED
/* POINTERS TO DATA OBJECTS */
^IMAGE = ("HQ466_0000_GR4.TIF")
/* IDENTIFICATION DATA ELEMENTS */
DATA_SET_ID = "MEX-M-HRSC-4-REFDR-MAPPROJECT-EXT9-V4.0"
DATA_SET_NAME = "MARS EXPRESS HRSC MAP PROJECTED REFDR EXTENSION9 V4.0"
DETECTOR_ID = MEX_HRSC_GREEN
EVENT_TYPE = "MARS-TERMINATOR-CALIBRATION-Tc"
INSTRUMENT_HOST_ID = MEX
INSTRUMENT_HOST_NAME = "MARS EXPRESS"
INSTRUMENT_ID = HRSC
INSTRUMENT_NAME = "HIGH RESOLUTION STEREO CAMERA"
MISSION_NAME = "MARS EXPRESS"
MISSION_PHASE_NAME = ME_Phase_50
PROCESSING_LEVEL_ID = 4
PRODUCT_CREATION_TIME = 2025-01-29T19:26:23.000Z
PRODUCT_ID = "HQ466_0000_GR4.TIF"
RELEASE_ID = 0022
REVISION_ID = 0000
/* QUALITY DATA ELEMENTS */
DATA_QUALITY_ID = 1
DATA_QUALITY_DESC = "Data calculated based on original SPICE kernels"
/* TIME DATA ELEMENTS */
SPACECRAFT_CLOCK_START_COUNT = "1/0682704319.64170"
SPACECRAFT_CLOCK_STOP_COUNT = "1/0682704764.57470"
START_TIME = 2024-12-19T16:07:35.538Z
STOP_TIME = 2024-12-19T16:11:30.521Z
/* ORBITAL DATA ELEMENTS */
ASCENDING_NODE_LONGITUDE = 84.47
MAXIMUM_RESOLUTION = 0.6506
FOOTPRINT_POINT_LATITUDE = (-8.04263,-7.81006,-8.50342,-7.9202, -7.82833,-6.09807,-5.79213,-7.60194, -5.02047,-7.53573,-4.65155,-7.36294, -5.59512,-6.792,-3.79029,-6.6861, -3.73621,-6.6173,-3.36678,-6.57821, -3.42087,-6.1026,-6.12892,-4.83806, -8.77232,-12.4038,-17.6676,-21.2361, -25.6108,-28.9784,-32.4215,-34.6056, -37.3699,-39.3086,-40.4986,-41.0486, -41.4619,-41.3828,-40.3527,-39.0201, -37.4393,-33.6891,-29.9226,-27.1459, -23.166,-19.8521,-16.8686,-15.446, -18.147,-16.0146,-18.8276,-17.0138, -19.956,-20.9391,-18.3299,-20.9008, -19.6833,-20.2345,-22.678,-21.4587, -22.5643,-24.1918,-24.1002,-24.2071, -26.4776,-31.8846,-37.6006,-40.2956, -46.1292,-49.7605,-52.572,-57.1706, -60.8204,-63.7852,-67.2324,-69.3771, -72.1365,-73.8379,-74.9449,-75.7399, -75.7508,-73.6027,-71.4594,-68.7117, -65.3232,-60.5183,-57.3053,-53.7312, -51.2682,-47.6085,-42.9336,-40.1378, -36.4542,-31.1757,-27.113,-22.7022, -16.5748,-12.0592,-10.7487,-8.04263)
FOOTPRINT_POINT_LONGITUDE = (340.126,340.157,339.715,335.854, 332.867,328.913,325.119,323.12,322.023, 318.661,316.231,314.788,312.315,309.615 ,309.072,308.013,307.448,306.161, 305.776,305.11,304.268,303.644,300.278, 297.045,295.786,295.137,293.788,292.279 ,289.772,287.183,283.697,280.872, 276.068,271.277,267.225,263.767,258.47, 254.552,247.006,242.286,238.497,232.326 ,228.164,225.867,223.32,221.739,220.632 ,216.805,216.585,212.989,213.081, 209.489,207.834,204.799,204.052,203.06, 198.096,194.397,192.678,189.794,185.472 ,181.923,176.329,175.065,174.14,175.535 ,177.299,178.261,180.73,182.631,184.356 ,187.846,191.458,195.231,201.117, 206.081,215.175,223.808,232.458,243.576 ,264.296,285.782,295.675,303.897, 310.785,317.438,320.713,323.665,325.392 ,327.606,329.975,331.199,332.645,334.45 ,335.669,336.86,338.334,339.313,339.583 ,340.126)
ORBIT_NUMBER = 26466
ORBITAL_ECCENTRICITY = 0.567
ORBITAL_INCLINATION = 87.13
ORBITAL_SEMIMAJOR_AXIS = 8764.43
PERIAPSIS_ALTITUDE = 419.37
PERIAPSIS_ARGUMENT_ANGLE = 108.76
PERIAPSIS_TIME = 2024-12-19T14:19:08.000Z
SPACECRAFT_ORIENTATION = (0.0,-1.0,0.0)
^MEX_ORIENTATION_DESC = "MEX_ORIENTATION_DESC.TXT"
SPACECRAFT_POINTING_MODE = FIXED
^MEX_POINTING_DESC = "MEX_POINTING_DESC.TXT"
RIGHT_ASCENSION = -1e+32
DECLINATION = -1e+32
OFFSET_ANGLE = -1e+32
SPACECRAFT_SOLAR_DISTANCE = 2.39379e+08
TARGET_NAME = MARS
/* CAMERA DATA ELEMENTS */
DETECTOR_TEMPERATURE = 17.9627
FOCAL_PLANE_TEMPERATURE = 9.195
INST_CMPRS_NAME = "DISCRETE COSINE TRANSFORMATION (DCT)"
INST_CMPRS_RATIO = 8.96241
INST_CMPRS_QUALITY = 0
INST_CMPRS_QUANTZ_TBL_ID = 0
INSTRUMENT_TEMPERATURE = 11.234
LENS_TEMPERATURE = 9.195
MACROPIXEL_SIZE = 2
MISSING_FRAMES = 0
PIXEL_SUBSAMPLING_FLAG = N
SIGNAL_CHAIN_ID = 2
/* RADIOMETRIC DATA ELEMENTS */
BANDWIDTH = 88.0
CENTER_FILTER_WAVELENGTH = 538.0
RADIANCE_OFFSET = 0.0
RADIANCE_SCALING_FACTOR = 0.0101356
REFLECTANCE_SCALING_FACTOR = 0.000500097
MEX:REFLECTANCE_OFFSET = 0.0
/* IMAGE OBJECT DEFINITIONS */
OBJECT = IMAGE
  INTERCHANGE_FORMAT = BINARY
  LINES = 4850
  LINE_SAMPLES = 7757
  SAMPLE_TYPE = UNSIGNED_INTEGER
  SAMPLE_BITS = 8
  BANDS = 1
  BAND_STORAGE_TYPE = BAND_SEQUENTIAL
  MAXIMUM = 255
  MEAN = 166.397
  MINIMUM = 30
  STANDARD_DEVIATION = 57.1453
END_OBJECT = IMAGE
/* MAP OBJECT DEFINITIONS */
OBJECT = IMAGE_MAP_PROJECTION
  ^DATA_SET_MAP_PROJECTION_CATALOG= "DSMAP.CAT"
  A_AXIS_RADIUS = 3396.0
  B_AXIS_RADIUS = 3396.0
  C_AXIS_RADIUS = 3396.0
  CENTER_LATITUDE = -59.8104
  CENTER_LONGITUDE = 273.443
  COORDINATE_SYSTEM_NAME = PLANETOGRAPHIC
  COORDINATE_SYSTEM_TYPE = "BODY-FIXED ROTATING"
  EASTERNMOST_LONGITUDE = 340.157
  FIRST_STANDARD_PARALLEL = "N/A"
  LINE_FIRST_PIXEL = 1
  LINE_LAST_PIXEL = 4850
  LINE_PROJECTION_OFFSET = 3148.25
  MAP_PROJECTION_ROTATION = 0.0
  MAP_PROJECTION_TYPE = ORTHOGRAPHIC
  MAP_RESOLUTION = 74.08922548333329
  MAP_SCALE = 0.8
  MAXIMUM_LATITUDE = -3.36678
  MINIMUM_LATITUDE = -75.7508
  POSITIVE_LONGITUDE_DIRECTION = EAST
  REFERENCE_LATITUDE = "N/A"
  REFERENCE_LONGITUDE = "N/A"
  SAMPLE_FIRST_PIXEL = 1
  SAMPLE_LAST_PIXEL = 7757
  SAMPLE_PROJECTION_OFFSET = 3884.75
  SECOND_STANDARD_PARALLEL = "N/A"
  WESTERNMOST_LONGITUDE = 174.14
END_OBJECT = IMAGE_MAP_PROJECTION
END
